BEGIN:VCALENDAR
VERSION:2.0
PRODID:-//The Riverwalk District - ECPv6.15.19//NONSGML v1.0//EN
CALSCALE:GREGORIAN
METHOD:PUBLISH
X-ORIGINAL-URL:https://renoriver.org
X-WR-CALDESC:Events for The Riverwalk District
REFRESH-INTERVAL;VALUE=DURATION:PT1H
X-Robots-Tag:noindex
X-PUBLISHED-TTL:PT1H
BEGIN:VTIMEZONE
TZID:America/Los_Angeles
BEGIN:DAYLIGHT
TZOFFSETFROM:-0800
TZOFFSETTO:-0700
TZNAME:PDT
DTSTART:20250309T100000
END:DAYLIGHT
BEGIN:STANDARD
TZOFFSETFROM:-0700
TZOFFSETTO:-0800
TZNAME:PST
DTSTART:20251102T090000
END:STANDARD
BEGIN:DAYLIGHT
TZOFFSETFROM:-0800
TZOFFSETTO:-0700
TZNAME:PDT
DTSTART:20260308T100000
END:DAYLIGHT
BEGIN:STANDARD
TZOFFSETFROM:-0700
TZOFFSETTO:-0800
TZNAME:PST
DTSTART:20261101T090000
END:STANDARD
BEGIN:DAYLIGHT
TZOFFSETFROM:-0800
TZOFFSETTO:-0700
TZNAME:PDT
DTSTART:20270314T100000
END:DAYLIGHT
BEGIN:STANDARD
TZOFFSETFROM:-0700
TZOFFSETTO:-0800
TZNAME:PST
DTSTART:20271107T090000
END:STANDARD
END:VTIMEZONE
BEGIN:VEVENT
DTSTART;VALUE=DATE:20260928
DTEND;VALUE=DATE:20260929
DTSTAMP:20260425T183408
CREATED:20240119T210742Z
LAST-MODIFIED:20250402T235052Z
UID:10014324-1790553600-1790639999@renoriver.org
SUMMARY:Monday Burger & Beer Special at The Brewer's Cabinet
DESCRIPTION:$15 Average Joe Burger & Beer combo available at The Brewer’s Cabinet Pub & Taproom location. Offer valid every Monday.
URL:https://renoriver.org/event/monday-burger-beer-special-at-the-brewers-cabinet/2026-09-28/
CATEGORIES:Daily Specials,Food Specials
ATTACH;FMTTYPE=image/png:https://renoriver.org/wp-content/uploads/2024/01/Monday_Burger.png
END:VEVENT
BEGIN:VEVENT
DTSTART;VALUE=DATE:20260928
DTEND;VALUE=DATE:20260929
DTSTAMP:20260425T183408
CREATED:20240903T191008Z
LAST-MODIFIED:20250402T230804Z
UID:10002516-1790553600-1790639999@renoriver.org
SUMMARY:Burger\, Beer\, & Shot $20 Any Day
DESCRIPTION:Our Burger (no substitutions) with fries on the side\, a select bottled beer\, and a well shot included.
URL:https://renoriver.org/event/burger-beer-shot-20-any-day/2026-09-28/
CATEGORIES:Daily Specials,Drink Specials,Food Specials,Rush The River
ATTACH;FMTTYPE=image/jpeg:https://renoriver.org/wp-content/uploads/2017/04/Black-and-White-Bottlecap-jpeg-Cory-Holdridge-scaled-1.jpg
END:VEVENT
BEGIN:VEVENT
DTSTART;TZID=America/Los_Angeles:20260928T120000
DTEND;TZID=America/Los_Angeles:20260928T233000
DTSTAMP:20260425T183408
CREATED:20240119T205240Z
LAST-MODIFIED:20250402T235310Z
UID:10014639-1790596800-1790638200@renoriver.org
SUMMARY:All Day Happy Hour at Sierra Tap House
DESCRIPTION:Sierra Tap House \nAll Day Happy Hour 12 PM – 12 AM
URL:https://renoriver.org/event/all-day-happy-hour-at-sierra-tap-house/2026-09-28/
CATEGORIES:Drink Specials,Happy Hour
ATTACH;FMTTYPE=image/png:https://renoriver.org/wp-content/uploads/2024/01/All_Day_Happy_Hour_STH.png
END:VEVENT
BEGIN:VEVENT
DTSTART;TZID=America/Los_Angeles:20260928T150000
DTEND;TZID=America/Los_Angeles:20260928T180000
DTSTAMP:20260425T183408
CREATED:20240119T202643Z
LAST-MODIFIED:20250402T232328Z
UID:10010302-1790607600-1790618400@renoriver.org
SUMMARY:Shim's Happy Hour
DESCRIPTION:Daily Happy Hour Mon – Fri 3 PM – 6 PM. Enjoy two for one all drafts\, well drinks\, and house wines.
URL:https://renoriver.org/event/shims-happy-hour/2026-09-28/
CATEGORIES:Drink Specials,Happy Hour
ATTACH;FMTTYPE=image/jpeg:https://renoriver.org/wp-content/uploads/2023/10/380658482_861006098925568_8146902726083313491_n.jpg
END:VEVENT
BEGIN:VEVENT
DTSTART;TZID=America/Los_Angeles:20260928T150000
DTEND;TZID=America/Los_Angeles:20260928T180000
DTSTAMP:20260425T183409
CREATED:20240214T194005Z
LAST-MODIFIED:20250402T232208Z
UID:10008858-1790607600-1790618400@renoriver.org
SUMMARY:Happy Hour at Ole Bridge Pub
DESCRIPTION:Enjoy $2 off most beer\, house wine\, and well drinks.
URL:https://renoriver.org/event/happy-hour-at-ole-bridge-pub/2026-09-28/
CATEGORIES:Drink Specials,Happy Hour
ATTACH;FMTTYPE=image/jpeg:https://renoriver.org/wp-content/uploads/2024/06/social_tiles7.1.jpg
END:VEVENT
BEGIN:VEVENT
DTSTART;TZID=America/Los_Angeles:20260928T150000
DTEND;TZID=America/Los_Angeles:20260928T180000
DTSTAMP:20260425T183409
CREATED:20240903T191454Z
LAST-MODIFIED:20250402T230705Z
UID:10000844-1790607600-1790618400@renoriver.org
SUMMARY:Our Bar Happy Hour
DESCRIPTION:Monday-Friday 3:00 pm – 6:00 pm $2.00 off any draft beer\, bottle\, can\, well cocktail\, or glass of wine.
URL:https://renoriver.org/event/our-bar-happy-hour/2026-09-28/
CATEGORIES:Daily Specials,Drink Specials
ATTACH;FMTTYPE=image/jpeg:https://renoriver.org/wp-content/uploads/2017/04/445356497_18398052727078431_6545476689669071342_n.jpg
END:VEVENT
BEGIN:VEVENT
DTSTART;TZID=America/Los_Angeles:20260928T150000
DTEND;TZID=America/Los_Angeles:20260928T183000
DTSTAMP:20260425T183409
CREATED:20240119T210741Z
LAST-MODIFIED:20250402T232028Z
UID:10007282-1790607600-1790620200@renoriver.org
SUMMARY:Happy Hour at Sierra Tap House
DESCRIPTION:Happy Hour 3 PM – 6:30 PM
URL:https://renoriver.org/event/happy-hour-at-sierra-tap-house/2026-09-28/
CATEGORIES:Drink Specials,Happy Hour
ATTACH;FMTTYPE=image/png:https://renoriver.org/wp-content/uploads/2024/01/Happy_Hour_Sierra_Tap_House.png
END:VEVENT
BEGIN:VEVENT
DTSTART;TZID=America/Los_Angeles:20260928T150000
DTEND;TZID=America/Los_Angeles:20260928T233000
DTSTAMP:20260425T183409
CREATED:20240214T194538Z
LAST-MODIFIED:20250402T235357Z
UID:10014954-1790607600-1790638200@renoriver.org
SUMMARY:Monday Mules at Ole Bridge Pub
DESCRIPTION:Enjoy $2 off our Moscow Mules
URL:https://renoriver.org/event/monday-mules-at-ole-bridge-pub/2026-09-28/
CATEGORIES:Drink Specials
ATTACH;FMTTYPE=image/png:https://renoriver.org/wp-content/uploads/2024/06/social_tiles_can_wednesday9.png
END:VEVENT
BEGIN:VEVENT
DTSTART;TZID=America/Los_Angeles:20260928T160000
DTEND;TZID=America/Los_Angeles:20260928T180000
DTSTAMP:20260425T183409
CREATED:20240119T195042Z
LAST-MODIFIED:20250402T231713Z
UID:10005390-1790611200-1790618400@renoriver.org
SUMMARY:Wild River Grille Happy Hour
DESCRIPTION:Daily Happy Hour Mon – Fri 4 PM – 6 PM
URL:https://renoriver.org/event/wild-river-grille-happy-hour/2026-09-28/
CATEGORIES:Drink Specials,Happy Hour
ATTACH;FMTTYPE=image/jpeg:https://renoriver.org/wp-content/uploads/2024/01/Wild_River_Grille_Happy_Hour.jpeg
END:VEVENT
BEGIN:VEVENT
DTSTART;VALUE=DATE:20260929
DTEND;VALUE=DATE:20260930
DTSTAMP:20260425T183409
CREATED:20240119T211050Z
LAST-MODIFIED:20250402T232512Z
UID:10011168-1790640000-1790726399@renoriver.org
SUMMARY:Taco Tuesday at The Brewer's Cabinet
DESCRIPTION:$2 carnitas tacos only available at The Brewer’s Cabinet Pub & Taproom location. Offer valid every Tuesday.
URL:https://renoriver.org/event/taco-tuesday-at-the-brewers-cabinet/2026-09-29/
CATEGORIES:Daily Specials,Food Specials
ATTACH;FMTTYPE=image/png:https://renoriver.org/wp-content/uploads/2024/01/Taco_Tuesday.png
END:VEVENT
BEGIN:VEVENT
DTSTART;VALUE=DATE:20260929
DTEND;VALUE=DATE:20260930
DTSTAMP:20260425T183409
CREATED:20240903T191008Z
LAST-MODIFIED:20250402T230804Z
UID:10002517-1790640000-1790726399@renoriver.org
SUMMARY:Burger\, Beer\, & Shot $20 Any Day
DESCRIPTION:Our Burger (no substitutions) with fries on the side\, a select bottled beer\, and a well shot included.
URL:https://renoriver.org/event/burger-beer-shot-20-any-day/2026-09-29/
CATEGORIES:Daily Specials,Drink Specials,Food Specials,Rush The River
ATTACH;FMTTYPE=image/jpeg:https://renoriver.org/wp-content/uploads/2017/04/Black-and-White-Bottlecap-jpeg-Cory-Holdridge-scaled-1.jpg
END:VEVENT
BEGIN:VEVENT
DTSTART;TZID=America/Los_Angeles:20260929T110000
DTEND;TZID=America/Los_Angeles:20260929T230000
DTSTAMP:20260425T183409
CREATED:20240903T190432Z
LAST-MODIFIED:20250402T230542Z
UID:10000125-1790679600-1790722800@renoriver.org
SUMMARY:$3 Taco Tuesday
DESCRIPTION:3 types of tacos offered for $3 each along with numerous $3 beverage options.
URL:https://renoriver.org/event/3-taco-tuesday/2026-09-29/
CATEGORIES:Drink Specials,Food Specials
ATTACH;FMTTYPE=image/jpeg:https://renoriver.org/wp-content/uploads/2017/04/Tuesday-Taco-Cory-Holdridge.jpg
END:VEVENT
BEGIN:VEVENT
DTSTART;TZID=America/Los_Angeles:20260929T150000
DTEND;TZID=America/Los_Angeles:20260929T180000
DTSTAMP:20260425T183409
CREATED:20240119T202643Z
LAST-MODIFIED:20250402T232328Z
UID:10010303-1790694000-1790704800@renoriver.org
SUMMARY:Shim's Happy Hour
DESCRIPTION:Daily Happy Hour Mon – Fri 3 PM – 6 PM. Enjoy two for one all drafts\, well drinks\, and house wines.
URL:https://renoriver.org/event/shims-happy-hour/2026-09-29/
CATEGORIES:Drink Specials,Happy Hour
ATTACH;FMTTYPE=image/jpeg:https://renoriver.org/wp-content/uploads/2023/10/380658482_861006098925568_8146902726083313491_n.jpg
END:VEVENT
BEGIN:VEVENT
DTSTART;TZID=America/Los_Angeles:20260929T150000
DTEND;TZID=America/Los_Angeles:20260929T180000
DTSTAMP:20260425T183409
CREATED:20240214T194005Z
LAST-MODIFIED:20250402T232208Z
UID:10008859-1790694000-1790704800@renoriver.org
SUMMARY:Happy Hour at Ole Bridge Pub
DESCRIPTION:Enjoy $2 off most beer\, house wine\, and well drinks.
URL:https://renoriver.org/event/happy-hour-at-ole-bridge-pub/2026-09-29/
CATEGORIES:Drink Specials,Happy Hour
ATTACH;FMTTYPE=image/jpeg:https://renoriver.org/wp-content/uploads/2024/06/social_tiles7.1.jpg
END:VEVENT
BEGIN:VEVENT
DTSTART;TZID=America/Los_Angeles:20260929T150000
DTEND;TZID=America/Los_Angeles:20260929T180000
DTSTAMP:20260425T183409
CREATED:20240903T191454Z
LAST-MODIFIED:20250402T230705Z
UID:10000845-1790694000-1790704800@renoriver.org
SUMMARY:Our Bar Happy Hour
DESCRIPTION:Monday-Friday 3:00 pm – 6:00 pm $2.00 off any draft beer\, bottle\, can\, well cocktail\, or glass of wine.
URL:https://renoriver.org/event/our-bar-happy-hour/2026-09-29/
CATEGORIES:Daily Specials,Drink Specials
ATTACH;FMTTYPE=image/jpeg:https://renoriver.org/wp-content/uploads/2017/04/445356497_18398052727078431_6545476689669071342_n.jpg
END:VEVENT
BEGIN:VEVENT
DTSTART;TZID=America/Los_Angeles:20260929T150000
DTEND;TZID=America/Los_Angeles:20260929T183000
DTSTAMP:20260425T183409
CREATED:20240119T210741Z
LAST-MODIFIED:20250402T232028Z
UID:10007283-1790694000-1790706600@renoriver.org
SUMMARY:Happy Hour at Sierra Tap House
DESCRIPTION:Happy Hour 3 PM – 6:30 PM
URL:https://renoriver.org/event/happy-hour-at-sierra-tap-house/2026-09-29/
CATEGORIES:Drink Specials,Happy Hour
ATTACH;FMTTYPE=image/png:https://renoriver.org/wp-content/uploads/2024/01/Happy_Hour_Sierra_Tap_House.png
END:VEVENT
BEGIN:VEVENT
DTSTART;TZID=America/Los_Angeles:20260929T150000
DTEND;TZID=America/Los_Angeles:20260929T233000
DTSTAMP:20260425T183409
CREATED:20240214T205722Z
LAST-MODIFIED:20250402T231834Z
UID:10006439-1790694000-1790724600@renoriver.org
SUMMARY:Local Tuesdays at Ole Bridge Pub
DESCRIPTION:Enjoy $2 off our Moscow Mules
URL:https://renoriver.org/event/local-tuesdays-at-ole-bridge-pub/2026-09-29/
CATEGORIES:Drink Specials
ATTACH;FMTTYPE=image/png:https://renoriver.org/wp-content/uploads/2024/06/social_tiles6.png
END:VEVENT
BEGIN:VEVENT
DTSTART;TZID=America/Los_Angeles:20260929T160000
DTEND;TZID=America/Los_Angeles:20260929T180000
DTSTAMP:20260425T183409
CREATED:20240119T195042Z
LAST-MODIFIED:20250402T231713Z
UID:10005391-1790697600-1790704800@renoriver.org
SUMMARY:Wild River Grille Happy Hour
DESCRIPTION:Daily Happy Hour Mon – Fri 4 PM – 6 PM
URL:https://renoriver.org/event/wild-river-grille-happy-hour/2026-09-29/
CATEGORIES:Drink Specials,Happy Hour
ATTACH;FMTTYPE=image/jpeg:https://renoriver.org/wp-content/uploads/2024/01/Wild_River_Grille_Happy_Hour.jpeg
END:VEVENT
BEGIN:VEVENT
DTSTART;TZID=America/Los_Angeles:20260929T190000
DTEND;TZID=America/Los_Angeles:20260929T210000
DTSTAMP:20260425T183409
CREATED:20240119T205615Z
LAST-MODIFIED:20250402T231511Z
UID:10004547-1790708400-1790715600@renoriver.org
SUMMARY:DJ Trivia at Sierra Tap House
DESCRIPTION:Grab your friends and play a game of DJ Trivia 7:30 PM – 9:30 PM at Sierra Tap House. Sign-ups start at 7:00 p.m.
URL:https://renoriver.org/event/dj-trivia-at-sierra-tap-house/2026-09-29/
CATEGORIES:DJ Trivia
ATTACH;FMTTYPE=image/png:https://renoriver.org/wp-content/uploads/2024/01/DJ_Trivia_STH.png
END:VEVENT
BEGIN:VEVENT
DTSTART;VALUE=DATE:20260930
DTEND;VALUE=DATE:20261001
DTSTAMP:20260425T183409
CREATED:20240903T191008Z
LAST-MODIFIED:20250402T230804Z
UID:10002518-1790726400-1790812799@renoriver.org
SUMMARY:Burger\, Beer\, & Shot $20 Any Day
DESCRIPTION:Our Burger (no substitutions) with fries on the side\, a select bottled beer\, and a well shot included.
URL:https://renoriver.org/event/burger-beer-shot-20-any-day/2026-09-30/
CATEGORIES:Daily Specials,Drink Specials,Food Specials,Rush The River
ATTACH;FMTTYPE=image/jpeg:https://renoriver.org/wp-content/uploads/2017/04/Black-and-White-Bottlecap-jpeg-Cory-Holdridge-scaled-1.jpg
END:VEVENT
BEGIN:VEVENT
DTSTART;TZID=America/Los_Angeles:20260930T150000
DTEND;TZID=America/Los_Angeles:20260930T180000
DTSTAMP:20260425T183409
CREATED:20240214T194005Z
LAST-MODIFIED:20250402T232208Z
UID:10008860-1790780400-1790791200@renoriver.org
SUMMARY:Happy Hour at Ole Bridge Pub
DESCRIPTION:Enjoy $2 off most beer\, house wine\, and well drinks.
URL:https://renoriver.org/event/happy-hour-at-ole-bridge-pub/2026-09-30/
CATEGORIES:Drink Specials,Happy Hour
ATTACH;FMTTYPE=image/jpeg:https://renoriver.org/wp-content/uploads/2024/06/social_tiles7.1.jpg
END:VEVENT
BEGIN:VEVENT
DTSTART;TZID=America/Los_Angeles:20260930T150000
DTEND;TZID=America/Los_Angeles:20260930T180000
DTSTAMP:20260425T183409
CREATED:20240903T191454Z
LAST-MODIFIED:20250402T230705Z
UID:10000846-1790780400-1790791200@renoriver.org
SUMMARY:Our Bar Happy Hour
DESCRIPTION:Monday-Friday 3:00 pm – 6:00 pm $2.00 off any draft beer\, bottle\, can\, well cocktail\, or glass of wine.
URL:https://renoriver.org/event/our-bar-happy-hour/2026-09-30/
CATEGORIES:Daily Specials,Drink Specials
ATTACH;FMTTYPE=image/jpeg:https://renoriver.org/wp-content/uploads/2017/04/445356497_18398052727078431_6545476689669071342_n.jpg
END:VEVENT
BEGIN:VEVENT
DTSTART;TZID=America/Los_Angeles:20260930T150000
DTEND;TZID=America/Los_Angeles:20260930T183000
DTSTAMP:20260425T183409
CREATED:20240119T210741Z
LAST-MODIFIED:20250402T232028Z
UID:10007284-1790780400-1790793000@renoriver.org
SUMMARY:Happy Hour at Sierra Tap House
DESCRIPTION:Happy Hour 3 PM – 6:30 PM
URL:https://renoriver.org/event/happy-hour-at-sierra-tap-house/2026-09-30/
CATEGORIES:Drink Specials,Happy Hour
ATTACH;FMTTYPE=image/png:https://renoriver.org/wp-content/uploads/2024/01/Happy_Hour_Sierra_Tap_House.png
END:VEVENT
BEGIN:VEVENT
DTSTART;TZID=America/Los_Angeles:20260930T150000
DTEND;TZID=America/Los_Angeles:20260930T233000
DTSTAMP:20260425T183409
CREATED:20240119T203545Z
LAST-MODIFIED:20250402T232730Z
UID:10011484-1790780400-1790811000@renoriver.org
SUMMARY:All Day Happy Hour at Shim's
DESCRIPTION:Celebrate Happy Hour all day with us! From 3:00 p.m to close\, enjoy two for one all drafts\, well drinks\, and house wines.
URL:https://renoriver.org/event/all-day-happy-hour-at-shims/2026-09-30/
CATEGORIES:Drink Specials,Happy Hour
ATTACH;FMTTYPE=image/png:https://renoriver.org/wp-content/uploads/2024/01/All_Day_Happy_Hour_Shims-1.png
END:VEVENT
BEGIN:VEVENT
DTSTART;TZID=America/Los_Angeles:20260930T150000
DTEND;TZID=America/Los_Angeles:20260930T233000
DTSTAMP:20260425T183409
CREATED:20240214T194930Z
LAST-MODIFIED:20250402T232950Z
UID:10011799-1790780400-1790811000@renoriver.org
SUMMARY:Can Wednesdays at Ole Bridge Pub
DESCRIPTION:Enjoy $2 off all cans
URL:https://renoriver.org/event/can-wednesdays-at-ole-bridge-pub/2026-09-30/
CATEGORIES:Drink Specials
ATTACH;FMTTYPE=image/png:https://renoriver.org/wp-content/uploads/2024/06/social_tiles_can_wednesday10.png
END:VEVENT
BEGIN:VEVENT
DTSTART;TZID=America/Los_Angeles:20260930T160000
DTEND;TZID=America/Los_Angeles:20260930T180000
DTSTAMP:20260425T183409
CREATED:20240119T195042Z
LAST-MODIFIED:20250402T231713Z
UID:10005392-1790784000-1790791200@renoriver.org
SUMMARY:Wild River Grille Happy Hour
DESCRIPTION:Daily Happy Hour Mon – Fri 4 PM – 6 PM
URL:https://renoriver.org/event/wild-river-grille-happy-hour/2026-09-30/
CATEGORIES:Drink Specials,Happy Hour
ATTACH;FMTTYPE=image/jpeg:https://renoriver.org/wp-content/uploads/2024/01/Wild_River_Grille_Happy_Hour.jpeg
END:VEVENT
BEGIN:VEVENT
DTSTART;TZID=America/Los_Angeles:20260930T190000
DTEND;TZID=America/Los_Angeles:20260930T210000
DTSTAMP:20260425T183409
CREATED:20240214T204301Z
LAST-MODIFIED:20250402T233103Z
UID:10012114-1790794800-1790802000@renoriver.org
SUMMARY:DJ Trivia at Ole Bridge Pub
DESCRIPTION:Fun\, Live\, Interactive Trivia Game that includes you\, your team\, other teams\, and a live DJ host. Every Wednesday 7-9pm
URL:https://renoriver.org/event/dj-trivia-at-ole-bridge-pub/2026-09-30/
CATEGORIES:DJ Trivia
ATTACH;FMTTYPE=image/png:https://renoriver.org/wp-content/uploads/2024/06/social_tiles_DJ_trivia11.png
END:VEVENT
BEGIN:VEVENT
DTSTART;VALUE=DATE:20261001
DTEND;VALUE=DATE:20261002
DTSTAMP:20260425T183409
CREATED:20240119T212408Z
LAST-MODIFIED:20250402T233505Z
UID:10012432-1790812800-1790899199@renoriver.org
SUMMARY:Thankful Thursdays at The Brewer's Cabinet
DESCRIPTION:Receive $10 off when you spend $35+ for first responders\, teachers\, military\, and police. Offer valid every Thursday at all The Brewer’s Cabinet locations.
URL:https://renoriver.org/event/thankful-thursdays-at-the-brewers-cabinet/2026-10-01/
CATEGORIES:Daily Specials,Drink Specials
ATTACH;FMTTYPE=image/png:https://renoriver.org/wp-content/uploads/2024/01/Thankful_Thursday.png
END:VEVENT
BEGIN:VEVENT
DTSTART;VALUE=DATE:20261001
DTEND;VALUE=DATE:20261002
DTSTAMP:20260425T183409
CREATED:20240903T191008Z
LAST-MODIFIED:20250402T230804Z
UID:10002519-1790812800-1790899199@renoriver.org
SUMMARY:Burger\, Beer\, & Shot $20 Any Day
DESCRIPTION:Our Burger (no substitutions) with fries on the side\, a select bottled beer\, and a well shot included.
URL:https://renoriver.org/event/burger-beer-shot-20-any-day/2026-10-01/
CATEGORIES:Daily Specials,Drink Specials,Food Specials,Rush The River
ATTACH;FMTTYPE=image/jpeg:https://renoriver.org/wp-content/uploads/2017/04/Black-and-White-Bottlecap-jpeg-Cory-Holdridge-scaled-1.jpg
END:VEVENT
BEGIN:VEVENT
DTSTART;TZID=America/Los_Angeles:20261001T120000
DTEND;TZID=America/Los_Angeles:20261001T233000
DTSTAMP:20260425T183409
CREATED:20240119T210117Z
LAST-MODIFIED:20250402T233849Z
UID:10012747-1790856000-1790897400@renoriver.org
SUMMARY:Tahoe Thursdays at Sierra Tap House
DESCRIPTION:Enjoy $4 Tahoe Beer Cans during our Tahoe Thursday and College Night at Sierra Tap House.
URL:https://renoriver.org/event/tahoe-thursdays-at-sierra-tap-house/2026-10-01/
CATEGORIES:Drink Specials
ATTACH;FMTTYPE=image/png:https://renoriver.org/wp-content/uploads/2024/01/Tahoe_Thursday.png
END:VEVENT
END:VCALENDAR