BEGIN:VCALENDAR
VERSION:2.0
PRODID:-//The Riverwalk District - ECPv6.15.19//NONSGML v1.0//EN
CALSCALE:GREGORIAN
METHOD:PUBLISH
X-WR-CALNAME:The Riverwalk District
X-ORIGINAL-URL:https://renoriver.org
X-WR-CALDESC:Events for The Riverwalk District
REFRESH-INTERVAL;VALUE=DURATION:PT1H
X-Robots-Tag:noindex
X-PUBLISHED-TTL:PT1H
BEGIN:VTIMEZONE
TZID:America/Los_Angeles
BEGIN:DAYLIGHT
TZOFFSETFROM:-0800
TZOFFSETTO:-0700
TZNAME:PDT
DTSTART:20250309T100000
END:DAYLIGHT
BEGIN:STANDARD
TZOFFSETFROM:-0700
TZOFFSETTO:-0800
TZNAME:PST
DTSTART:20251102T090000
END:STANDARD
BEGIN:DAYLIGHT
TZOFFSETFROM:-0800
TZOFFSETTO:-0700
TZNAME:PDT
DTSTART:20260308T100000
END:DAYLIGHT
BEGIN:STANDARD
TZOFFSETFROM:-0700
TZOFFSETTO:-0800
TZNAME:PST
DTSTART:20261101T090000
END:STANDARD
BEGIN:DAYLIGHT
TZOFFSETFROM:-0800
TZOFFSETTO:-0700
TZNAME:PDT
DTSTART:20270314T100000
END:DAYLIGHT
BEGIN:STANDARD
TZOFFSETFROM:-0700
TZOFFSETTO:-0800
TZNAME:PST
DTSTART:20271107T090000
END:STANDARD
END:VTIMEZONE
BEGIN:VEVENT
DTSTART;TZID=America/Los_Angeles:20260507T160000
DTEND;TZID=America/Los_Angeles:20260507T180000
DTSTAMP:20260420T220843
CREATED:20240119T195042Z
LAST-MODIFIED:20250402T231713Z
UID:10005288-1778169600-1778176800@renoriver.org
SUMMARY:Wild River Grille Happy Hour
DESCRIPTION:Daily Happy Hour Mon – Fri 4 PM – 6 PM
URL:https://renoriver.org/event/wild-river-grille-happy-hour/2026-05-07/
CATEGORIES:Drink Specials,Happy Hour
ATTACH;FMTTYPE=image/jpeg:https://renoriver.org/wp-content/uploads/2024/01/Wild_River_Grille_Happy_Hour.jpeg
END:VEVENT
BEGIN:VEVENT
DTSTART;TZID=America/Los_Angeles:20260508T160000
DTEND;TZID=America/Los_Angeles:20260508T180000
DTSTAMP:20260420T220843
CREATED:20240119T195042Z
LAST-MODIFIED:20250402T231713Z
UID:10005289-1778256000-1778263200@renoriver.org
SUMMARY:Wild River Grille Happy Hour
DESCRIPTION:Daily Happy Hour Mon – Fri 4 PM – 6 PM
URL:https://renoriver.org/event/wild-river-grille-happy-hour/2026-05-08/
CATEGORIES:Drink Specials,Happy Hour
ATTACH;FMTTYPE=image/jpeg:https://renoriver.org/wp-content/uploads/2024/01/Wild_River_Grille_Happy_Hour.jpeg
END:VEVENT
BEGIN:VEVENT
DTSTART;TZID=America/Los_Angeles:20260511T160000
DTEND;TZID=America/Los_Angeles:20260511T180000
DTSTAMP:20260420T220843
CREATED:20240119T195042Z
LAST-MODIFIED:20250402T231713Z
UID:10005290-1778515200-1778522400@renoriver.org
SUMMARY:Wild River Grille Happy Hour
DESCRIPTION:Daily Happy Hour Mon – Fri 4 PM – 6 PM
URL:https://renoriver.org/event/wild-river-grille-happy-hour/2026-05-11/
CATEGORIES:Drink Specials,Happy Hour
ATTACH;FMTTYPE=image/jpeg:https://renoriver.org/wp-content/uploads/2024/01/Wild_River_Grille_Happy_Hour.jpeg
END:VEVENT
BEGIN:VEVENT
DTSTART;TZID=America/Los_Angeles:20260512T160000
DTEND;TZID=America/Los_Angeles:20260512T180000
DTSTAMP:20260420T220843
CREATED:20240119T195042Z
LAST-MODIFIED:20250402T231713Z
UID:10005291-1778601600-1778608800@renoriver.org
SUMMARY:Wild River Grille Happy Hour
DESCRIPTION:Daily Happy Hour Mon – Fri 4 PM – 6 PM
URL:https://renoriver.org/event/wild-river-grille-happy-hour/2026-05-12/
CATEGORIES:Drink Specials,Happy Hour
ATTACH;FMTTYPE=image/jpeg:https://renoriver.org/wp-content/uploads/2024/01/Wild_River_Grille_Happy_Hour.jpeg
END:VEVENT
BEGIN:VEVENT
DTSTART;TZID=America/Los_Angeles:20260513T160000
DTEND;TZID=America/Los_Angeles:20260513T180000
DTSTAMP:20260420T220843
CREATED:20240119T195042Z
LAST-MODIFIED:20250402T231713Z
UID:10005292-1778688000-1778695200@renoriver.org
SUMMARY:Wild River Grille Happy Hour
DESCRIPTION:Daily Happy Hour Mon – Fri 4 PM – 6 PM
URL:https://renoriver.org/event/wild-river-grille-happy-hour/2026-05-13/
CATEGORIES:Drink Specials,Happy Hour
ATTACH;FMTTYPE=image/jpeg:https://renoriver.org/wp-content/uploads/2024/01/Wild_River_Grille_Happy_Hour.jpeg
END:VEVENT
BEGIN:VEVENT
DTSTART;TZID=America/Los_Angeles:20260514T160000
DTEND;TZID=America/Los_Angeles:20260514T180000
DTSTAMP:20260420T220844
CREATED:20240119T195042Z
LAST-MODIFIED:20250402T231713Z
UID:10005293-1778774400-1778781600@renoriver.org
SUMMARY:Wild River Grille Happy Hour
DESCRIPTION:Daily Happy Hour Mon – Fri 4 PM – 6 PM
URL:https://renoriver.org/event/wild-river-grille-happy-hour/2026-05-14/
CATEGORIES:Drink Specials,Happy Hour
ATTACH;FMTTYPE=image/jpeg:https://renoriver.org/wp-content/uploads/2024/01/Wild_River_Grille_Happy_Hour.jpeg
END:VEVENT
BEGIN:VEVENT
DTSTART;TZID=America/Los_Angeles:20260515T160000
DTEND;TZID=America/Los_Angeles:20260515T180000
DTSTAMP:20260420T220844
CREATED:20240119T195042Z
LAST-MODIFIED:20250402T231713Z
UID:10005294-1778860800-1778868000@renoriver.org
SUMMARY:Wild River Grille Happy Hour
DESCRIPTION:Daily Happy Hour Mon – Fri 4 PM – 6 PM
URL:https://renoriver.org/event/wild-river-grille-happy-hour/2026-05-15/
CATEGORIES:Drink Specials,Happy Hour
ATTACH;FMTTYPE=image/jpeg:https://renoriver.org/wp-content/uploads/2024/01/Wild_River_Grille_Happy_Hour.jpeg
END:VEVENT
BEGIN:VEVENT
DTSTART;TZID=America/Los_Angeles:20260518T160000
DTEND;TZID=America/Los_Angeles:20260518T180000
DTSTAMP:20260420T220844
CREATED:20240119T195042Z
LAST-MODIFIED:20250402T231713Z
UID:10005295-1779120000-1779127200@renoriver.org
SUMMARY:Wild River Grille Happy Hour
DESCRIPTION:Daily Happy Hour Mon – Fri 4 PM – 6 PM
URL:https://renoriver.org/event/wild-river-grille-happy-hour/2026-05-18/
CATEGORIES:Drink Specials,Happy Hour
ATTACH;FMTTYPE=image/jpeg:https://renoriver.org/wp-content/uploads/2024/01/Wild_River_Grille_Happy_Hour.jpeg
END:VEVENT
BEGIN:VEVENT
DTSTART;TZID=America/Los_Angeles:20260519T160000
DTEND;TZID=America/Los_Angeles:20260519T180000
DTSTAMP:20260420T220844
CREATED:20240119T195042Z
LAST-MODIFIED:20250402T231713Z
UID:10005296-1779206400-1779213600@renoriver.org
SUMMARY:Wild River Grille Happy Hour
DESCRIPTION:Daily Happy Hour Mon – Fri 4 PM – 6 PM
URL:https://renoriver.org/event/wild-river-grille-happy-hour/2026-05-19/
CATEGORIES:Drink Specials,Happy Hour
ATTACH;FMTTYPE=image/jpeg:https://renoriver.org/wp-content/uploads/2024/01/Wild_River_Grille_Happy_Hour.jpeg
END:VEVENT
BEGIN:VEVENT
DTSTART;TZID=America/Los_Angeles:20260520T160000
DTEND;TZID=America/Los_Angeles:20260520T180000
DTSTAMP:20260420T220844
CREATED:20240119T195042Z
LAST-MODIFIED:20250402T231713Z
UID:10005297-1779292800-1779300000@renoriver.org
SUMMARY:Wild River Grille Happy Hour
DESCRIPTION:Daily Happy Hour Mon – Fri 4 PM – 6 PM
URL:https://renoriver.org/event/wild-river-grille-happy-hour/2026-05-20/
CATEGORIES:Drink Specials,Happy Hour
ATTACH;FMTTYPE=image/jpeg:https://renoriver.org/wp-content/uploads/2024/01/Wild_River_Grille_Happy_Hour.jpeg
END:VEVENT
BEGIN:VEVENT
DTSTART;TZID=America/Los_Angeles:20260521T160000
DTEND;TZID=America/Los_Angeles:20260521T180000
DTSTAMP:20260420T220844
CREATED:20240119T195042Z
LAST-MODIFIED:20250402T231713Z
UID:10005298-1779379200-1779386400@renoriver.org
SUMMARY:Wild River Grille Happy Hour
DESCRIPTION:Daily Happy Hour Mon – Fri 4 PM – 6 PM
URL:https://renoriver.org/event/wild-river-grille-happy-hour/2026-05-21/
CATEGORIES:Drink Specials,Happy Hour
ATTACH;FMTTYPE=image/jpeg:https://renoriver.org/wp-content/uploads/2024/01/Wild_River_Grille_Happy_Hour.jpeg
END:VEVENT
BEGIN:VEVENT
DTSTART;TZID=America/Los_Angeles:20260522T160000
DTEND;TZID=America/Los_Angeles:20260522T180000
DTSTAMP:20260420T220844
CREATED:20240119T195042Z
LAST-MODIFIED:20250402T231713Z
UID:10005299-1779465600-1779472800@renoriver.org
SUMMARY:Wild River Grille Happy Hour
DESCRIPTION:Daily Happy Hour Mon – Fri 4 PM – 6 PM
URL:https://renoriver.org/event/wild-river-grille-happy-hour/2026-05-22/
CATEGORIES:Drink Specials,Happy Hour
ATTACH;FMTTYPE=image/jpeg:https://renoriver.org/wp-content/uploads/2024/01/Wild_River_Grille_Happy_Hour.jpeg
END:VEVENT
BEGIN:VEVENT
DTSTART;TZID=America/Los_Angeles:20260525T160000
DTEND;TZID=America/Los_Angeles:20260525T180000
DTSTAMP:20260420T220844
CREATED:20240119T195042Z
LAST-MODIFIED:20250402T231713Z
UID:10005300-1779724800-1779732000@renoriver.org
SUMMARY:Wild River Grille Happy Hour
DESCRIPTION:Daily Happy Hour Mon – Fri 4 PM – 6 PM
URL:https://renoriver.org/event/wild-river-grille-happy-hour/2026-05-25/
CATEGORIES:Drink Specials,Happy Hour
ATTACH;FMTTYPE=image/jpeg:https://renoriver.org/wp-content/uploads/2024/01/Wild_River_Grille_Happy_Hour.jpeg
END:VEVENT
BEGIN:VEVENT
DTSTART;TZID=America/Los_Angeles:20260526T160000
DTEND;TZID=America/Los_Angeles:20260526T180000
DTSTAMP:20260420T220844
CREATED:20240119T195042Z
LAST-MODIFIED:20250402T231713Z
UID:10005301-1779811200-1779818400@renoriver.org
SUMMARY:Wild River Grille Happy Hour
DESCRIPTION:Daily Happy Hour Mon – Fri 4 PM – 6 PM
URL:https://renoriver.org/event/wild-river-grille-happy-hour/2026-05-26/
CATEGORIES:Drink Specials,Happy Hour
ATTACH;FMTTYPE=image/jpeg:https://renoriver.org/wp-content/uploads/2024/01/Wild_River_Grille_Happy_Hour.jpeg
END:VEVENT
BEGIN:VEVENT
DTSTART;TZID=America/Los_Angeles:20260527T160000
DTEND;TZID=America/Los_Angeles:20260527T180000
DTSTAMP:20260420T220844
CREATED:20240119T195042Z
LAST-MODIFIED:20250402T231713Z
UID:10005302-1779897600-1779904800@renoriver.org
SUMMARY:Wild River Grille Happy Hour
DESCRIPTION:Daily Happy Hour Mon – Fri 4 PM – 6 PM
URL:https://renoriver.org/event/wild-river-grille-happy-hour/2026-05-27/
CATEGORIES:Drink Specials,Happy Hour
ATTACH;FMTTYPE=image/jpeg:https://renoriver.org/wp-content/uploads/2024/01/Wild_River_Grille_Happy_Hour.jpeg
END:VEVENT
BEGIN:VEVENT
DTSTART;TZID=America/Los_Angeles:20260528T160000
DTEND;TZID=America/Los_Angeles:20260528T180000
DTSTAMP:20260420T220844
CREATED:20240119T195042Z
LAST-MODIFIED:20250402T231713Z
UID:10005303-1779984000-1779991200@renoriver.org
SUMMARY:Wild River Grille Happy Hour
DESCRIPTION:Daily Happy Hour Mon – Fri 4 PM – 6 PM
URL:https://renoriver.org/event/wild-river-grille-happy-hour/2026-05-28/
CATEGORIES:Drink Specials,Happy Hour
ATTACH;FMTTYPE=image/jpeg:https://renoriver.org/wp-content/uploads/2024/01/Wild_River_Grille_Happy_Hour.jpeg
END:VEVENT
BEGIN:VEVENT
DTSTART;TZID=America/Los_Angeles:20260529T160000
DTEND;TZID=America/Los_Angeles:20260529T180000
DTSTAMP:20260420T220844
CREATED:20240119T195042Z
LAST-MODIFIED:20250402T231713Z
UID:10005304-1780070400-1780077600@renoriver.org
SUMMARY:Wild River Grille Happy Hour
DESCRIPTION:Daily Happy Hour Mon – Fri 4 PM – 6 PM
URL:https://renoriver.org/event/wild-river-grille-happy-hour/2026-05-29/
CATEGORIES:Drink Specials,Happy Hour
ATTACH;FMTTYPE=image/jpeg:https://renoriver.org/wp-content/uploads/2024/01/Wild_River_Grille_Happy_Hour.jpeg
END:VEVENT
BEGIN:VEVENT
DTSTART;TZID=America/Los_Angeles:20260601T160000
DTEND;TZID=America/Los_Angeles:20260601T180000
DTSTAMP:20260420T220844
CREATED:20240119T195042Z
LAST-MODIFIED:20250402T231713Z
UID:10005305-1780329600-1780336800@renoriver.org
SUMMARY:Wild River Grille Happy Hour
DESCRIPTION:Daily Happy Hour Mon – Fri 4 PM – 6 PM
URL:https://renoriver.org/event/wild-river-grille-happy-hour/2026-06-01/
CATEGORIES:Drink Specials,Happy Hour
ATTACH;FMTTYPE=image/jpeg:https://renoriver.org/wp-content/uploads/2024/01/Wild_River_Grille_Happy_Hour.jpeg
END:VEVENT
BEGIN:VEVENT
DTSTART;TZID=America/Los_Angeles:20260602T160000
DTEND;TZID=America/Los_Angeles:20260602T180000
DTSTAMP:20260420T220844
CREATED:20240119T195042Z
LAST-MODIFIED:20250402T231713Z
UID:10005306-1780416000-1780423200@renoriver.org
SUMMARY:Wild River Grille Happy Hour
DESCRIPTION:Daily Happy Hour Mon – Fri 4 PM – 6 PM
URL:https://renoriver.org/event/wild-river-grille-happy-hour/2026-06-02/
CATEGORIES:Drink Specials,Happy Hour
ATTACH;FMTTYPE=image/jpeg:https://renoriver.org/wp-content/uploads/2024/01/Wild_River_Grille_Happy_Hour.jpeg
END:VEVENT
BEGIN:VEVENT
DTSTART;TZID=America/Los_Angeles:20260603T160000
DTEND;TZID=America/Los_Angeles:20260603T180000
DTSTAMP:20260420T220844
CREATED:20240119T195042Z
LAST-MODIFIED:20250402T231713Z
UID:10005307-1780502400-1780509600@renoriver.org
SUMMARY:Wild River Grille Happy Hour
DESCRIPTION:Daily Happy Hour Mon – Fri 4 PM – 6 PM
URL:https://renoriver.org/event/wild-river-grille-happy-hour/2026-06-03/
CATEGORIES:Drink Specials,Happy Hour
ATTACH;FMTTYPE=image/jpeg:https://renoriver.org/wp-content/uploads/2024/01/Wild_River_Grille_Happy_Hour.jpeg
END:VEVENT
BEGIN:VEVENT
DTSTART;TZID=America/Los_Angeles:20260604T160000
DTEND;TZID=America/Los_Angeles:20260604T180000
DTSTAMP:20260420T220844
CREATED:20240119T195042Z
LAST-MODIFIED:20250402T231713Z
UID:10005308-1780588800-1780596000@renoriver.org
SUMMARY:Wild River Grille Happy Hour
DESCRIPTION:Daily Happy Hour Mon – Fri 4 PM – 6 PM
URL:https://renoriver.org/event/wild-river-grille-happy-hour/2026-06-04/
CATEGORIES:Drink Specials,Happy Hour
ATTACH;FMTTYPE=image/jpeg:https://renoriver.org/wp-content/uploads/2024/01/Wild_River_Grille_Happy_Hour.jpeg
END:VEVENT
BEGIN:VEVENT
DTSTART;TZID=America/Los_Angeles:20260605T160000
DTEND;TZID=America/Los_Angeles:20260605T180000
DTSTAMP:20260420T220844
CREATED:20240119T195042Z
LAST-MODIFIED:20250402T231713Z
UID:10005309-1780675200-1780682400@renoriver.org
SUMMARY:Wild River Grille Happy Hour
DESCRIPTION:Daily Happy Hour Mon – Fri 4 PM – 6 PM
URL:https://renoriver.org/event/wild-river-grille-happy-hour/2026-06-05/
CATEGORIES:Drink Specials,Happy Hour
ATTACH;FMTTYPE=image/jpeg:https://renoriver.org/wp-content/uploads/2024/01/Wild_River_Grille_Happy_Hour.jpeg
END:VEVENT
BEGIN:VEVENT
DTSTART;TZID=America/Los_Angeles:20260608T160000
DTEND;TZID=America/Los_Angeles:20260608T180000
DTSTAMP:20260420T220844
CREATED:20240119T195042Z
LAST-MODIFIED:20250402T231713Z
UID:10005310-1780934400-1780941600@renoriver.org
SUMMARY:Wild River Grille Happy Hour
DESCRIPTION:Daily Happy Hour Mon – Fri 4 PM – 6 PM
URL:https://renoriver.org/event/wild-river-grille-happy-hour/2026-06-08/
CATEGORIES:Drink Specials,Happy Hour
ATTACH;FMTTYPE=image/jpeg:https://renoriver.org/wp-content/uploads/2024/01/Wild_River_Grille_Happy_Hour.jpeg
END:VEVENT
BEGIN:VEVENT
DTSTART;TZID=America/Los_Angeles:20260609T160000
DTEND;TZID=America/Los_Angeles:20260609T180000
DTSTAMP:20260420T220844
CREATED:20240119T195042Z
LAST-MODIFIED:20250402T231713Z
UID:10005311-1781020800-1781028000@renoriver.org
SUMMARY:Wild River Grille Happy Hour
DESCRIPTION:Daily Happy Hour Mon – Fri 4 PM – 6 PM
URL:https://renoriver.org/event/wild-river-grille-happy-hour/2026-06-09/
CATEGORIES:Drink Specials,Happy Hour
ATTACH;FMTTYPE=image/jpeg:https://renoriver.org/wp-content/uploads/2024/01/Wild_River_Grille_Happy_Hour.jpeg
END:VEVENT
BEGIN:VEVENT
DTSTART;TZID=America/Los_Angeles:20260610T160000
DTEND;TZID=America/Los_Angeles:20260610T180000
DTSTAMP:20260420T220844
CREATED:20240119T195042Z
LAST-MODIFIED:20250402T231713Z
UID:10005312-1781107200-1781114400@renoriver.org
SUMMARY:Wild River Grille Happy Hour
DESCRIPTION:Daily Happy Hour Mon – Fri 4 PM – 6 PM
URL:https://renoriver.org/event/wild-river-grille-happy-hour/2026-06-10/
CATEGORIES:Drink Specials,Happy Hour
ATTACH;FMTTYPE=image/jpeg:https://renoriver.org/wp-content/uploads/2024/01/Wild_River_Grille_Happy_Hour.jpeg
END:VEVENT
BEGIN:VEVENT
DTSTART;TZID=America/Los_Angeles:20260611T160000
DTEND;TZID=America/Los_Angeles:20260611T180000
DTSTAMP:20260420T220844
CREATED:20240119T195042Z
LAST-MODIFIED:20250402T231713Z
UID:10005313-1781193600-1781200800@renoriver.org
SUMMARY:Wild River Grille Happy Hour
DESCRIPTION:Daily Happy Hour Mon – Fri 4 PM – 6 PM
URL:https://renoriver.org/event/wild-river-grille-happy-hour/2026-06-11/
CATEGORIES:Drink Specials,Happy Hour
ATTACH;FMTTYPE=image/jpeg:https://renoriver.org/wp-content/uploads/2024/01/Wild_River_Grille_Happy_Hour.jpeg
END:VEVENT
BEGIN:VEVENT
DTSTART;TZID=America/Los_Angeles:20260612T160000
DTEND;TZID=America/Los_Angeles:20260612T180000
DTSTAMP:20260420T220844
CREATED:20240119T195042Z
LAST-MODIFIED:20250402T231713Z
UID:10005314-1781280000-1781287200@renoriver.org
SUMMARY:Wild River Grille Happy Hour
DESCRIPTION:Daily Happy Hour Mon – Fri 4 PM – 6 PM
URL:https://renoriver.org/event/wild-river-grille-happy-hour/2026-06-12/
CATEGORIES:Drink Specials,Happy Hour
ATTACH;FMTTYPE=image/jpeg:https://renoriver.org/wp-content/uploads/2024/01/Wild_River_Grille_Happy_Hour.jpeg
END:VEVENT
BEGIN:VEVENT
DTSTART;TZID=America/Los_Angeles:20260615T160000
DTEND;TZID=America/Los_Angeles:20260615T180000
DTSTAMP:20260420T220844
CREATED:20240119T195042Z
LAST-MODIFIED:20250402T231713Z
UID:10005315-1781539200-1781546400@renoriver.org
SUMMARY:Wild River Grille Happy Hour
DESCRIPTION:Daily Happy Hour Mon – Fri 4 PM – 6 PM
URL:https://renoriver.org/event/wild-river-grille-happy-hour/2026-06-15/
CATEGORIES:Drink Specials,Happy Hour
ATTACH;FMTTYPE=image/jpeg:https://renoriver.org/wp-content/uploads/2024/01/Wild_River_Grille_Happy_Hour.jpeg
END:VEVENT
BEGIN:VEVENT
DTSTART;TZID=America/Los_Angeles:20260616T160000
DTEND;TZID=America/Los_Angeles:20260616T180000
DTSTAMP:20260420T220844
CREATED:20240119T195042Z
LAST-MODIFIED:20250402T231713Z
UID:10005316-1781625600-1781632800@renoriver.org
SUMMARY:Wild River Grille Happy Hour
DESCRIPTION:Daily Happy Hour Mon – Fri 4 PM – 6 PM
URL:https://renoriver.org/event/wild-river-grille-happy-hour/2026-06-16/
CATEGORIES:Drink Specials,Happy Hour
ATTACH;FMTTYPE=image/jpeg:https://renoriver.org/wp-content/uploads/2024/01/Wild_River_Grille_Happy_Hour.jpeg
END:VEVENT
BEGIN:VEVENT
DTSTART;TZID=America/Los_Angeles:20260617T160000
DTEND;TZID=America/Los_Angeles:20260617T180000
DTSTAMP:20260420T220844
CREATED:20240119T195042Z
LAST-MODIFIED:20250402T231713Z
UID:10005317-1781712000-1781719200@renoriver.org
SUMMARY:Wild River Grille Happy Hour
DESCRIPTION:Daily Happy Hour Mon – Fri 4 PM – 6 PM
URL:https://renoriver.org/event/wild-river-grille-happy-hour/2026-06-17/
CATEGORIES:Drink Specials,Happy Hour
ATTACH;FMTTYPE=image/jpeg:https://renoriver.org/wp-content/uploads/2024/01/Wild_River_Grille_Happy_Hour.jpeg
END:VEVENT
END:VCALENDAR