BEGIN:VCALENDAR
VERSION:2.0
PRODID:-//The Riverwalk District - ECPv6.15.19//NONSGML v1.0//EN
CALSCALE:GREGORIAN
METHOD:PUBLISH
X-ORIGINAL-URL:https://renoriver.org
X-WR-CALDESC:Events for The Riverwalk District
REFRESH-INTERVAL;VALUE=DURATION:PT1H
X-Robots-Tag:noindex
X-PUBLISHED-TTL:PT1H
BEGIN:VTIMEZONE
TZID:America/Los_Angeles
BEGIN:DAYLIGHT
TZOFFSETFROM:-0800
TZOFFSETTO:-0700
TZNAME:PDT
DTSTART:20260308T100000
END:DAYLIGHT
BEGIN:STANDARD
TZOFFSETFROM:-0700
TZOFFSETTO:-0800
TZNAME:PST
DTSTART:20261101T090000
END:STANDARD
BEGIN:DAYLIGHT
TZOFFSETFROM:-0800
TZOFFSETTO:-0700
TZNAME:PDT
DTSTART:20270314T100000
END:DAYLIGHT
BEGIN:STANDARD
TZOFFSETFROM:-0700
TZOFFSETTO:-0800
TZNAME:PST
DTSTART:20271107T090000
END:STANDARD
BEGIN:DAYLIGHT
TZOFFSETFROM:-0800
TZOFFSETTO:-0700
TZNAME:PDT
DTSTART:20280312T100000
END:DAYLIGHT
BEGIN:STANDARD
TZOFFSETFROM:-0700
TZOFFSETTO:-0800
TZNAME:PST
DTSTART:20281105T090000
END:STANDARD
END:VTIMEZONE
BEGIN:VEVENT
DTSTART;VALUE=DATE:20270326
DTEND;VALUE=DATE:20270327
DTSTAMP:20260423T064516
CREATED:20240119T212657Z
LAST-MODIFIED:20250402T234042Z
UID:10013087-1806019200-1806105599@renoriver.org
SUMMARY:Wolf Pack Fridays at The Brewer's Cabinet
DESCRIPTION:Support the Wolf Pack and wear your UNR gear to The Brewer’s Cabinet every Friday to receive 10% off your order. Offer valid every Thursday.
URL:https://renoriver.org/event/wolf-pack-fridays-at-the-brewers-cabinet/2027-03-26/
CATEGORIES:Daily Specials
ATTACH;FMTTYPE=image/png:https://renoriver.org/wp-content/uploads/2024/01/Wolf_Pack.png
END:VEVENT
BEGIN:VEVENT
DTSTART;VALUE=DATE:20270330
DTEND;VALUE=DATE:20270331
DTSTAMP:20260423T064516
CREATED:20240119T211050Z
LAST-MODIFIED:20250402T232512Z
UID:10011194-1806364800-1806451199@renoriver.org
SUMMARY:Taco Tuesday at The Brewer's Cabinet
DESCRIPTION:$2 carnitas tacos only available at The Brewer’s Cabinet Pub & Taproom location. Offer valid every Tuesday.
URL:https://renoriver.org/event/taco-tuesday-at-the-brewers-cabinet/2027-03-30/
CATEGORIES:Daily Specials,Food Specials
ATTACH;FMTTYPE=image/png:https://renoriver.org/wp-content/uploads/2024/01/Taco_Tuesday.png
END:VEVENT
BEGIN:VEVENT
DTSTART;VALUE=DATE:20270402
DTEND;VALUE=DATE:20270403
DTSTAMP:20260423T064516
CREATED:20240119T212657Z
LAST-MODIFIED:20250402T234042Z
UID:10013088-1806624000-1806710399@renoriver.org
SUMMARY:Wolf Pack Fridays at The Brewer's Cabinet
DESCRIPTION:Support the Wolf Pack and wear your UNR gear to The Brewer’s Cabinet every Friday to receive 10% off your order. Offer valid every Thursday.
URL:https://renoriver.org/event/wolf-pack-fridays-at-the-brewers-cabinet/2027-04-02/
CATEGORIES:Daily Specials
ATTACH;FMTTYPE=image/png:https://renoriver.org/wp-content/uploads/2024/01/Wolf_Pack.png
END:VEVENT
BEGIN:VEVENT
DTSTART;VALUE=DATE:20270406
DTEND;VALUE=DATE:20270407
DTSTAMP:20260423T064516
CREATED:20240119T211050Z
LAST-MODIFIED:20250402T232512Z
UID:10011195-1806969600-1807055999@renoriver.org
SUMMARY:Taco Tuesday at The Brewer's Cabinet
DESCRIPTION:$2 carnitas tacos only available at The Brewer’s Cabinet Pub & Taproom location. Offer valid every Tuesday.
URL:https://renoriver.org/event/taco-tuesday-at-the-brewers-cabinet/2027-04-06/
CATEGORIES:Daily Specials,Food Specials
ATTACH;FMTTYPE=image/png:https://renoriver.org/wp-content/uploads/2024/01/Taco_Tuesday.png
END:VEVENT
BEGIN:VEVENT
DTSTART;VALUE=DATE:20270409
DTEND;VALUE=DATE:20270410
DTSTAMP:20260423T064516
CREATED:20240119T212657Z
LAST-MODIFIED:20250402T234042Z
UID:10013089-1807228800-1807315199@renoriver.org
SUMMARY:Wolf Pack Fridays at The Brewer's Cabinet
DESCRIPTION:Support the Wolf Pack and wear your UNR gear to The Brewer’s Cabinet every Friday to receive 10% off your order. Offer valid every Thursday.
URL:https://renoriver.org/event/wolf-pack-fridays-at-the-brewers-cabinet/2027-04-09/
CATEGORIES:Daily Specials
ATTACH;FMTTYPE=image/png:https://renoriver.org/wp-content/uploads/2024/01/Wolf_Pack.png
END:VEVENT
BEGIN:VEVENT
DTSTART;VALUE=DATE:20270413
DTEND;VALUE=DATE:20270414
DTSTAMP:20260423T064516
CREATED:20240119T211050Z
LAST-MODIFIED:20250402T232512Z
UID:10011196-1807574400-1807660799@renoriver.org
SUMMARY:Taco Tuesday at The Brewer's Cabinet
DESCRIPTION:$2 carnitas tacos only available at The Brewer’s Cabinet Pub & Taproom location. Offer valid every Tuesday.
URL:https://renoriver.org/event/taco-tuesday-at-the-brewers-cabinet/2027-04-13/
CATEGORIES:Daily Specials,Food Specials
ATTACH;FMTTYPE=image/png:https://renoriver.org/wp-content/uploads/2024/01/Taco_Tuesday.png
END:VEVENT
BEGIN:VEVENT
DTSTART;VALUE=DATE:20270416
DTEND;VALUE=DATE:20270417
DTSTAMP:20260423T064516
CREATED:20240119T212657Z
LAST-MODIFIED:20250402T234042Z
UID:10013090-1807833600-1807919999@renoriver.org
SUMMARY:Wolf Pack Fridays at The Brewer's Cabinet
DESCRIPTION:Support the Wolf Pack and wear your UNR gear to The Brewer’s Cabinet every Friday to receive 10% off your order. Offer valid every Thursday.
URL:https://renoriver.org/event/wolf-pack-fridays-at-the-brewers-cabinet/2027-04-16/
CATEGORIES:Daily Specials
ATTACH;FMTTYPE=image/png:https://renoriver.org/wp-content/uploads/2024/01/Wolf_Pack.png
END:VEVENT
BEGIN:VEVENT
DTSTART;VALUE=DATE:20270420
DTEND;VALUE=DATE:20270421
DTSTAMP:20260423T064516
CREATED:20240119T211050Z
LAST-MODIFIED:20250402T232512Z
UID:10011197-1808179200-1808265599@renoriver.org
SUMMARY:Taco Tuesday at The Brewer's Cabinet
DESCRIPTION:$2 carnitas tacos only available at The Brewer’s Cabinet Pub & Taproom location. Offer valid every Tuesday.
URL:https://renoriver.org/event/taco-tuesday-at-the-brewers-cabinet/2027-04-20/
CATEGORIES:Daily Specials,Food Specials
ATTACH;FMTTYPE=image/png:https://renoriver.org/wp-content/uploads/2024/01/Taco_Tuesday.png
END:VEVENT
BEGIN:VEVENT
DTSTART;VALUE=DATE:20270423
DTEND;VALUE=DATE:20270424
DTSTAMP:20260423T064516
CREATED:20240119T212657Z
LAST-MODIFIED:20250402T234042Z
UID:10013091-1808438400-1808524799@renoriver.org
SUMMARY:Wolf Pack Fridays at The Brewer's Cabinet
DESCRIPTION:Support the Wolf Pack and wear your UNR gear to The Brewer’s Cabinet every Friday to receive 10% off your order. Offer valid every Thursday.
URL:https://renoriver.org/event/wolf-pack-fridays-at-the-brewers-cabinet/2027-04-23/
CATEGORIES:Daily Specials
ATTACH;FMTTYPE=image/png:https://renoriver.org/wp-content/uploads/2024/01/Wolf_Pack.png
END:VEVENT
BEGIN:VEVENT
DTSTART;VALUE=DATE:20270427
DTEND;VALUE=DATE:20270428
DTSTAMP:20260423T064516
CREATED:20240119T211050Z
LAST-MODIFIED:20250402T232512Z
UID:10011198-1808784000-1808870399@renoriver.org
SUMMARY:Taco Tuesday at The Brewer's Cabinet
DESCRIPTION:$2 carnitas tacos only available at The Brewer’s Cabinet Pub & Taproom location. Offer valid every Tuesday.
URL:https://renoriver.org/event/taco-tuesday-at-the-brewers-cabinet/2027-04-27/
CATEGORIES:Daily Specials,Food Specials
ATTACH;FMTTYPE=image/png:https://renoriver.org/wp-content/uploads/2024/01/Taco_Tuesday.png
END:VEVENT
BEGIN:VEVENT
DTSTART;VALUE=DATE:20270430
DTEND;VALUE=DATE:20270501
DTSTAMP:20260423T064516
CREATED:20240119T212657Z
LAST-MODIFIED:20250402T234042Z
UID:10013092-1809043200-1809129599@renoriver.org
SUMMARY:Wolf Pack Fridays at The Brewer's Cabinet
DESCRIPTION:Support the Wolf Pack and wear your UNR gear to The Brewer’s Cabinet every Friday to receive 10% off your order. Offer valid every Thursday.
URL:https://renoriver.org/event/wolf-pack-fridays-at-the-brewers-cabinet/2027-04-30/
CATEGORIES:Daily Specials
ATTACH;FMTTYPE=image/png:https://renoriver.org/wp-content/uploads/2024/01/Wolf_Pack.png
END:VEVENT
BEGIN:VEVENT
DTSTART;VALUE=DATE:20270504
DTEND;VALUE=DATE:20270505
DTSTAMP:20260423T064516
CREATED:20240119T211050Z
LAST-MODIFIED:20250402T232512Z
UID:10011199-1809388800-1809475199@renoriver.org
SUMMARY:Taco Tuesday at The Brewer's Cabinet
DESCRIPTION:$2 carnitas tacos only available at The Brewer’s Cabinet Pub & Taproom location. Offer valid every Tuesday.
URL:https://renoriver.org/event/taco-tuesday-at-the-brewers-cabinet/2027-05-04/
CATEGORIES:Daily Specials,Food Specials
ATTACH;FMTTYPE=image/png:https://renoriver.org/wp-content/uploads/2024/01/Taco_Tuesday.png
END:VEVENT
BEGIN:VEVENT
DTSTART;VALUE=DATE:20270507
DTEND;VALUE=DATE:20270508
DTSTAMP:20260423T064516
CREATED:20240119T212657Z
LAST-MODIFIED:20250402T234042Z
UID:10013093-1809648000-1809734399@renoriver.org
SUMMARY:Wolf Pack Fridays at The Brewer's Cabinet
DESCRIPTION:Support the Wolf Pack and wear your UNR gear to The Brewer’s Cabinet every Friday to receive 10% off your order. Offer valid every Thursday.
URL:https://renoriver.org/event/wolf-pack-fridays-at-the-brewers-cabinet/2027-05-07/
CATEGORIES:Daily Specials
ATTACH;FMTTYPE=image/png:https://renoriver.org/wp-content/uploads/2024/01/Wolf_Pack.png
END:VEVENT
BEGIN:VEVENT
DTSTART;VALUE=DATE:20270511
DTEND;VALUE=DATE:20270512
DTSTAMP:20260423T064516
CREATED:20240119T211050Z
LAST-MODIFIED:20250402T232512Z
UID:10011200-1809993600-1810079999@renoriver.org
SUMMARY:Taco Tuesday at The Brewer's Cabinet
DESCRIPTION:$2 carnitas tacos only available at The Brewer’s Cabinet Pub & Taproom location. Offer valid every Tuesday.
URL:https://renoriver.org/event/taco-tuesday-at-the-brewers-cabinet/2027-05-11/
CATEGORIES:Daily Specials,Food Specials
ATTACH;FMTTYPE=image/png:https://renoriver.org/wp-content/uploads/2024/01/Taco_Tuesday.png
END:VEVENT
BEGIN:VEVENT
DTSTART;VALUE=DATE:20270514
DTEND;VALUE=DATE:20270515
DTSTAMP:20260423T064516
CREATED:20240119T212657Z
LAST-MODIFIED:20250402T234042Z
UID:10013094-1810252800-1810339199@renoriver.org
SUMMARY:Wolf Pack Fridays at The Brewer's Cabinet
DESCRIPTION:Support the Wolf Pack and wear your UNR gear to The Brewer’s Cabinet every Friday to receive 10% off your order. Offer valid every Thursday.
URL:https://renoriver.org/event/wolf-pack-fridays-at-the-brewers-cabinet/2027-05-14/
CATEGORIES:Daily Specials
ATTACH;FMTTYPE=image/png:https://renoriver.org/wp-content/uploads/2024/01/Wolf_Pack.png
END:VEVENT
BEGIN:VEVENT
DTSTART;VALUE=DATE:20270518
DTEND;VALUE=DATE:20270519
DTSTAMP:20260423T064516
CREATED:20240119T211050Z
LAST-MODIFIED:20250402T232512Z
UID:10011201-1810598400-1810684799@renoriver.org
SUMMARY:Taco Tuesday at The Brewer's Cabinet
DESCRIPTION:$2 carnitas tacos only available at The Brewer’s Cabinet Pub & Taproom location. Offer valid every Tuesday.
URL:https://renoriver.org/event/taco-tuesday-at-the-brewers-cabinet/2027-05-18/
CATEGORIES:Daily Specials,Food Specials
ATTACH;FMTTYPE=image/png:https://renoriver.org/wp-content/uploads/2024/01/Taco_Tuesday.png
END:VEVENT
BEGIN:VEVENT
DTSTART;VALUE=DATE:20270521
DTEND;VALUE=DATE:20270522
DTSTAMP:20260423T064516
CREATED:20240119T212657Z
LAST-MODIFIED:20250402T234042Z
UID:10013095-1810857600-1810943999@renoriver.org
SUMMARY:Wolf Pack Fridays at The Brewer's Cabinet
DESCRIPTION:Support the Wolf Pack and wear your UNR gear to The Brewer’s Cabinet every Friday to receive 10% off your order. Offer valid every Thursday.
URL:https://renoriver.org/event/wolf-pack-fridays-at-the-brewers-cabinet/2027-05-21/
CATEGORIES:Daily Specials
ATTACH;FMTTYPE=image/png:https://renoriver.org/wp-content/uploads/2024/01/Wolf_Pack.png
END:VEVENT
BEGIN:VEVENT
DTSTART;VALUE=DATE:20270525
DTEND;VALUE=DATE:20270526
DTSTAMP:20260423T064516
CREATED:20240119T211050Z
LAST-MODIFIED:20250402T232512Z
UID:10011202-1811203200-1811289599@renoriver.org
SUMMARY:Taco Tuesday at The Brewer's Cabinet
DESCRIPTION:$2 carnitas tacos only available at The Brewer’s Cabinet Pub & Taproom location. Offer valid every Tuesday.
URL:https://renoriver.org/event/taco-tuesday-at-the-brewers-cabinet/2027-05-25/
CATEGORIES:Daily Specials,Food Specials
ATTACH;FMTTYPE=image/png:https://renoriver.org/wp-content/uploads/2024/01/Taco_Tuesday.png
END:VEVENT
BEGIN:VEVENT
DTSTART;VALUE=DATE:20270528
DTEND;VALUE=DATE:20270529
DTSTAMP:20260423T064516
CREATED:20240119T212657Z
LAST-MODIFIED:20250402T234042Z
UID:10013096-1811462400-1811548799@renoriver.org
SUMMARY:Wolf Pack Fridays at The Brewer's Cabinet
DESCRIPTION:Support the Wolf Pack and wear your UNR gear to The Brewer’s Cabinet every Friday to receive 10% off your order. Offer valid every Thursday.
URL:https://renoriver.org/event/wolf-pack-fridays-at-the-brewers-cabinet/2027-05-28/
CATEGORIES:Daily Specials
ATTACH;FMTTYPE=image/png:https://renoriver.org/wp-content/uploads/2024/01/Wolf_Pack.png
END:VEVENT
BEGIN:VEVENT
DTSTART;VALUE=DATE:20270601
DTEND;VALUE=DATE:20270602
DTSTAMP:20260423T064516
CREATED:20240119T211050Z
LAST-MODIFIED:20250402T232512Z
UID:10011203-1811808000-1811894399@renoriver.org
SUMMARY:Taco Tuesday at The Brewer's Cabinet
DESCRIPTION:$2 carnitas tacos only available at The Brewer’s Cabinet Pub & Taproom location. Offer valid every Tuesday.
URL:https://renoriver.org/event/taco-tuesday-at-the-brewers-cabinet/2027-06-01/
CATEGORIES:Daily Specials,Food Specials
ATTACH;FMTTYPE=image/png:https://renoriver.org/wp-content/uploads/2024/01/Taco_Tuesday.png
END:VEVENT
BEGIN:VEVENT
DTSTART;VALUE=DATE:20270604
DTEND;VALUE=DATE:20270605
DTSTAMP:20260423T064516
CREATED:20240119T212657Z
LAST-MODIFIED:20250402T234042Z
UID:10013097-1812067200-1812153599@renoriver.org
SUMMARY:Wolf Pack Fridays at The Brewer's Cabinet
DESCRIPTION:Support the Wolf Pack and wear your UNR gear to The Brewer’s Cabinet every Friday to receive 10% off your order. Offer valid every Thursday.
URL:https://renoriver.org/event/wolf-pack-fridays-at-the-brewers-cabinet/2027-06-04/
CATEGORIES:Daily Specials
ATTACH;FMTTYPE=image/png:https://renoriver.org/wp-content/uploads/2024/01/Wolf_Pack.png
END:VEVENT
BEGIN:VEVENT
DTSTART;VALUE=DATE:20270608
DTEND;VALUE=DATE:20270609
DTSTAMP:20260423T064516
CREATED:20240119T211050Z
LAST-MODIFIED:20250402T232512Z
UID:10011204-1812412800-1812499199@renoriver.org
SUMMARY:Taco Tuesday at The Brewer's Cabinet
DESCRIPTION:$2 carnitas tacos only available at The Brewer’s Cabinet Pub & Taproom location. Offer valid every Tuesday.
URL:https://renoriver.org/event/taco-tuesday-at-the-brewers-cabinet/2027-06-08/
CATEGORIES:Daily Specials,Food Specials
ATTACH;FMTTYPE=image/png:https://renoriver.org/wp-content/uploads/2024/01/Taco_Tuesday.png
END:VEVENT
BEGIN:VEVENT
DTSTART;VALUE=DATE:20270611
DTEND;VALUE=DATE:20270612
DTSTAMP:20260423T064516
CREATED:20240119T212657Z
LAST-MODIFIED:20250402T234042Z
UID:10013098-1812672000-1812758399@renoriver.org
SUMMARY:Wolf Pack Fridays at The Brewer's Cabinet
DESCRIPTION:Support the Wolf Pack and wear your UNR gear to The Brewer’s Cabinet every Friday to receive 10% off your order. Offer valid every Thursday.
URL:https://renoriver.org/event/wolf-pack-fridays-at-the-brewers-cabinet/2027-06-11/
CATEGORIES:Daily Specials
ATTACH;FMTTYPE=image/png:https://renoriver.org/wp-content/uploads/2024/01/Wolf_Pack.png
END:VEVENT
BEGIN:VEVENT
DTSTART;VALUE=DATE:20270615
DTEND;VALUE=DATE:20270616
DTSTAMP:20260423T064516
CREATED:20240119T211050Z
LAST-MODIFIED:20250402T232512Z
UID:10011205-1813017600-1813103999@renoriver.org
SUMMARY:Taco Tuesday at The Brewer's Cabinet
DESCRIPTION:$2 carnitas tacos only available at The Brewer’s Cabinet Pub & Taproom location. Offer valid every Tuesday.
URL:https://renoriver.org/event/taco-tuesday-at-the-brewers-cabinet/2027-06-15/
CATEGORIES:Daily Specials,Food Specials
ATTACH;FMTTYPE=image/png:https://renoriver.org/wp-content/uploads/2024/01/Taco_Tuesday.png
END:VEVENT
BEGIN:VEVENT
DTSTART;VALUE=DATE:20270618
DTEND;VALUE=DATE:20270619
DTSTAMP:20260423T064516
CREATED:20240119T212657Z
LAST-MODIFIED:20250402T234042Z
UID:10013099-1813276800-1813363199@renoriver.org
SUMMARY:Wolf Pack Fridays at The Brewer's Cabinet
DESCRIPTION:Support the Wolf Pack and wear your UNR gear to The Brewer’s Cabinet every Friday to receive 10% off your order. Offer valid every Thursday.
URL:https://renoriver.org/event/wolf-pack-fridays-at-the-brewers-cabinet/2027-06-18/
CATEGORIES:Daily Specials
ATTACH;FMTTYPE=image/png:https://renoriver.org/wp-content/uploads/2024/01/Wolf_Pack.png
END:VEVENT
BEGIN:VEVENT
DTSTART;VALUE=DATE:20270622
DTEND;VALUE=DATE:20270623
DTSTAMP:20260423T064516
CREATED:20240119T211050Z
LAST-MODIFIED:20250402T232512Z
UID:10011206-1813622400-1813708799@renoriver.org
SUMMARY:Taco Tuesday at The Brewer's Cabinet
DESCRIPTION:$2 carnitas tacos only available at The Brewer’s Cabinet Pub & Taproom location. Offer valid every Tuesday.
URL:https://renoriver.org/event/taco-tuesday-at-the-brewers-cabinet/2027-06-22/
CATEGORIES:Daily Specials,Food Specials
ATTACH;FMTTYPE=image/png:https://renoriver.org/wp-content/uploads/2024/01/Taco_Tuesday.png
END:VEVENT
BEGIN:VEVENT
DTSTART;VALUE=DATE:20270625
DTEND;VALUE=DATE:20270626
DTSTAMP:20260423T064516
CREATED:20240119T212657Z
LAST-MODIFIED:20250402T234042Z
UID:10013100-1813881600-1813967999@renoriver.org
SUMMARY:Wolf Pack Fridays at The Brewer's Cabinet
DESCRIPTION:Support the Wolf Pack and wear your UNR gear to The Brewer’s Cabinet every Friday to receive 10% off your order. Offer valid every Thursday.
URL:https://renoriver.org/event/wolf-pack-fridays-at-the-brewers-cabinet/2027-06-25/
CATEGORIES:Daily Specials
ATTACH;FMTTYPE=image/png:https://renoriver.org/wp-content/uploads/2024/01/Wolf_Pack.png
END:VEVENT
BEGIN:VEVENT
DTSTART;VALUE=DATE:20270629
DTEND;VALUE=DATE:20270630
DTSTAMP:20260423T064516
CREATED:20240119T211050Z
LAST-MODIFIED:20250402T232512Z
UID:10011207-1814227200-1814313599@renoriver.org
SUMMARY:Taco Tuesday at The Brewer's Cabinet
DESCRIPTION:$2 carnitas tacos only available at The Brewer’s Cabinet Pub & Taproom location. Offer valid every Tuesday.
URL:https://renoriver.org/event/taco-tuesday-at-the-brewers-cabinet/2027-06-29/
CATEGORIES:Daily Specials,Food Specials
ATTACH;FMTTYPE=image/png:https://renoriver.org/wp-content/uploads/2024/01/Taco_Tuesday.png
END:VEVENT
BEGIN:VEVENT
DTSTART;VALUE=DATE:20270702
DTEND;VALUE=DATE:20270703
DTSTAMP:20260423T064516
CREATED:20240119T212657Z
LAST-MODIFIED:20250402T234042Z
UID:10013101-1814486400-1814572799@renoriver.org
SUMMARY:Wolf Pack Fridays at The Brewer's Cabinet
DESCRIPTION:Support the Wolf Pack and wear your UNR gear to The Brewer’s Cabinet every Friday to receive 10% off your order. Offer valid every Thursday.
URL:https://renoriver.org/event/wolf-pack-fridays-at-the-brewers-cabinet/2027-07-02/
CATEGORIES:Daily Specials
ATTACH;FMTTYPE=image/png:https://renoriver.org/wp-content/uploads/2024/01/Wolf_Pack.png
END:VEVENT
BEGIN:VEVENT
DTSTART;VALUE=DATE:20270706
DTEND;VALUE=DATE:20270707
DTSTAMP:20260423T064516
CREATED:20240119T211050Z
LAST-MODIFIED:20250402T232512Z
UID:10011208-1814832000-1814918399@renoriver.org
SUMMARY:Taco Tuesday at The Brewer's Cabinet
DESCRIPTION:$2 carnitas tacos only available at The Brewer’s Cabinet Pub & Taproom location. Offer valid every Tuesday.
URL:https://renoriver.org/event/taco-tuesday-at-the-brewers-cabinet/2027-07-06/
CATEGORIES:Daily Specials,Food Specials
ATTACH;FMTTYPE=image/png:https://renoriver.org/wp-content/uploads/2024/01/Taco_Tuesday.png
END:VEVENT
END:VCALENDAR