BEGIN:VCALENDAR
VERSION:2.0
PRODID:-//The Riverwalk District - ECPv6.15.19//NONSGML v1.0//EN
CALSCALE:GREGORIAN
METHOD:PUBLISH
X-ORIGINAL-URL:https://renoriver.org
X-WR-CALDESC:Events for The Riverwalk District
REFRESH-INTERVAL;VALUE=DURATION:PT1H
X-Robots-Tag:noindex
X-PUBLISHED-TTL:PT1H
BEGIN:VTIMEZONE
TZID:America/Los_Angeles
BEGIN:DAYLIGHT
TZOFFSETFROM:-0800
TZOFFSETTO:-0700
TZNAME:PDT
DTSTART:20240310T100000
END:DAYLIGHT
BEGIN:STANDARD
TZOFFSETFROM:-0700
TZOFFSETTO:-0800
TZNAME:PST
DTSTART:20241103T090000
END:STANDARD
BEGIN:DAYLIGHT
TZOFFSETFROM:-0800
TZOFFSETTO:-0700
TZNAME:PDT
DTSTART:20250309T100000
END:DAYLIGHT
BEGIN:STANDARD
TZOFFSETFROM:-0700
TZOFFSETTO:-0800
TZNAME:PST
DTSTART:20251102T090000
END:STANDARD
BEGIN:DAYLIGHT
TZOFFSETFROM:-0800
TZOFFSETTO:-0700
TZNAME:PDT
DTSTART:20260308T100000
END:DAYLIGHT
BEGIN:STANDARD
TZOFFSETFROM:-0700
TZOFFSETTO:-0800
TZNAME:PST
DTSTART:20261101T090000
END:STANDARD
END:VTIMEZONE
BEGIN:VEVENT
DTSTART;TZID=America/Los_Angeles:20251115T150000
DTEND;TZID=America/Los_Angeles:20251115T170000
DTSTAMP:20260422T144300
CREATED:20251027T195708Z
LAST-MODIFIED:20251027T233140Z
UID:10018252-1763218800-1763226000@renoriver.org
SUMMARY:Spellbinders (Free Event)
DESCRIPTION:SPELLBINDERS\, the International Festival of Magic\, returns for its eleventh year with a dazzling array of Gold Medal winning champions of magic at the Pioneer Center November 15th at 3:00 pm & 7:00 pm. SPELLBINDERS is brought to you by Education Renaissance of Nevada Initiative\, a local nonprofit committed to promoting literacy for school children in our community.
URL:https://renoriver.org/event/spellbinders-free-event/
LOCATION:Pioneer Center for the Performing Arts
CATEGORIES:Magic Show,Special Events
ATTACH;FMTTYPE=image/png:https://renoriver.org/wp-content/uploads/2025/10/Spellbinders25.png
END:VEVENT
END:VCALENDAR