BEGIN:VCALENDAR
VERSION:2.0
PRODID:-//The Riverwalk District - ECPv6.15.19//NONSGML v1.0//EN
CALSCALE:GREGORIAN
METHOD:PUBLISH
X-ORIGINAL-URL:https://renoriver.org
X-WR-CALDESC:Events for The Riverwalk District
REFRESH-INTERVAL;VALUE=DURATION:PT1H
X-Robots-Tag:noindex
X-PUBLISHED-TTL:PT1H
BEGIN:VTIMEZONE
TZID:America/Los_Angeles
BEGIN:DAYLIGHT
TZOFFSETFROM:-0800
TZOFFSETTO:-0700
TZNAME:PDT
DTSTART:20250309T100000
END:DAYLIGHT
BEGIN:STANDARD
TZOFFSETFROM:-0700
TZOFFSETTO:-0800
TZNAME:PST
DTSTART:20251102T090000
END:STANDARD
BEGIN:DAYLIGHT
TZOFFSETFROM:-0800
TZOFFSETTO:-0700
TZNAME:PDT
DTSTART:20260308T100000
END:DAYLIGHT
BEGIN:STANDARD
TZOFFSETFROM:-0700
TZOFFSETTO:-0800
TZNAME:PST
DTSTART:20261101T090000
END:STANDARD
BEGIN:DAYLIGHT
TZOFFSETFROM:-0800
TZOFFSETTO:-0700
TZNAME:PDT
DTSTART:20270314T100000
END:DAYLIGHT
BEGIN:STANDARD
TZOFFSETFROM:-0700
TZOFFSETTO:-0800
TZNAME:PST
DTSTART:20271107T090000
END:STANDARD
END:VTIMEZONE
BEGIN:VEVENT
DTSTART;TZID=America/Los_Angeles:20260112T120000
DTEND;TZID=America/Los_Angeles:20260112T233000
DTSTAMP:20260422T024109
CREATED:20240119T205240Z
LAST-MODIFIED:20250402T235310Z
UID:10014602-1768219200-1768260600@renoriver.org
SUMMARY:All Day Happy Hour at Sierra Tap House
DESCRIPTION:Sierra Tap House \nAll Day Happy Hour 12 PM – 12 AM
URL:https://renoriver.org/event/all-day-happy-hour-at-sierra-tap-house/2026-01-12/
CATEGORIES:Drink Specials,Happy Hour
ATTACH;FMTTYPE=image/png:https://renoriver.org/wp-content/uploads/2024/01/All_Day_Happy_Hour_STH.png
END:VEVENT
BEGIN:VEVENT
DTSTART;TZID=America/Los_Angeles:20260112T150000
DTEND;TZID=America/Los_Angeles:20260112T183000
DTSTAMP:20260422T024109
CREATED:20240119T210741Z
LAST-MODIFIED:20250402T232028Z
UID:10007097-1768230000-1768242600@renoriver.org
SUMMARY:Happy Hour at Sierra Tap House
DESCRIPTION:Happy Hour 3 PM – 6:30 PM
URL:https://renoriver.org/event/happy-hour-at-sierra-tap-house/2026-01-12/
CATEGORIES:Drink Specials,Happy Hour
ATTACH;FMTTYPE=image/png:https://renoriver.org/wp-content/uploads/2024/01/Happy_Hour_Sierra_Tap_House.png
END:VEVENT
BEGIN:VEVENT
DTSTART;TZID=America/Los_Angeles:20260113T150000
DTEND;TZID=America/Los_Angeles:20260113T183000
DTSTAMP:20260422T024109
CREATED:20240119T210741Z
LAST-MODIFIED:20250402T232028Z
UID:10007098-1768316400-1768329000@renoriver.org
SUMMARY:Happy Hour at Sierra Tap House
DESCRIPTION:Happy Hour 3 PM – 6:30 PM
URL:https://renoriver.org/event/happy-hour-at-sierra-tap-house/2026-01-13/
CATEGORIES:Drink Specials,Happy Hour
ATTACH;FMTTYPE=image/png:https://renoriver.org/wp-content/uploads/2024/01/Happy_Hour_Sierra_Tap_House.png
END:VEVENT
BEGIN:VEVENT
DTSTART;TZID=America/Los_Angeles:20260113T190000
DTEND;TZID=America/Los_Angeles:20260113T210000
DTSTAMP:20260422T024109
CREATED:20240119T205615Z
LAST-MODIFIED:20250402T231511Z
UID:10004510-1768330800-1768338000@renoriver.org
SUMMARY:DJ Trivia at Sierra Tap House
DESCRIPTION:Grab your friends and play a game of DJ Trivia 7:30 PM – 9:30 PM at Sierra Tap House. Sign-ups start at 7:00 p.m.
URL:https://renoriver.org/event/dj-trivia-at-sierra-tap-house/2026-01-13/
CATEGORIES:DJ Trivia
ATTACH;FMTTYPE=image/png:https://renoriver.org/wp-content/uploads/2024/01/DJ_Trivia_STH.png
END:VEVENT
BEGIN:VEVENT
DTSTART;TZID=America/Los_Angeles:20260114T150000
DTEND;TZID=America/Los_Angeles:20260114T183000
DTSTAMP:20260422T024109
CREATED:20240119T210741Z
LAST-MODIFIED:20250402T232028Z
UID:10007099-1768402800-1768415400@renoriver.org
SUMMARY:Happy Hour at Sierra Tap House
DESCRIPTION:Happy Hour 3 PM – 6:30 PM
URL:https://renoriver.org/event/happy-hour-at-sierra-tap-house/2026-01-14/
CATEGORIES:Drink Specials,Happy Hour
ATTACH;FMTTYPE=image/png:https://renoriver.org/wp-content/uploads/2024/01/Happy_Hour_Sierra_Tap_House.png
END:VEVENT
BEGIN:VEVENT
DTSTART;TZID=America/Los_Angeles:20260115T120000
DTEND;TZID=America/Los_Angeles:20260115T233000
DTSTAMP:20260422T024109
CREATED:20240119T210117Z
LAST-MODIFIED:20250402T233849Z
UID:10012710-1768478400-1768519800@renoriver.org
SUMMARY:Tahoe Thursdays at Sierra Tap House
DESCRIPTION:Enjoy $4 Tahoe Beer Cans during our Tahoe Thursday and College Night at Sierra Tap House.
URL:https://renoriver.org/event/tahoe-thursdays-at-sierra-tap-house/2026-01-15/
CATEGORIES:Drink Specials
ATTACH;FMTTYPE=image/png:https://renoriver.org/wp-content/uploads/2024/01/Tahoe_Thursday.png
END:VEVENT
BEGIN:VEVENT
DTSTART;TZID=America/Los_Angeles:20260115T150000
DTEND;TZID=America/Los_Angeles:20260115T183000
DTSTAMP:20260422T024109
CREATED:20240119T210741Z
LAST-MODIFIED:20250402T232028Z
UID:10007100-1768489200-1768501800@renoriver.org
SUMMARY:Happy Hour at Sierra Tap House
DESCRIPTION:Happy Hour 3 PM – 6:30 PM
URL:https://renoriver.org/event/happy-hour-at-sierra-tap-house/2026-01-15/
CATEGORIES:Drink Specials,Happy Hour
ATTACH;FMTTYPE=image/png:https://renoriver.org/wp-content/uploads/2024/01/Happy_Hour_Sierra_Tap_House.png
END:VEVENT
BEGIN:VEVENT
DTSTART;TZID=America/Los_Angeles:20260116T150000
DTEND;TZID=America/Los_Angeles:20260116T183000
DTSTAMP:20260422T024109
CREATED:20240119T210741Z
LAST-MODIFIED:20250402T232028Z
UID:10007101-1768575600-1768588200@renoriver.org
SUMMARY:Happy Hour at Sierra Tap House
DESCRIPTION:Happy Hour 3 PM – 6:30 PM
URL:https://renoriver.org/event/happy-hour-at-sierra-tap-house/2026-01-16/
CATEGORIES:Drink Specials,Happy Hour
ATTACH;FMTTYPE=image/png:https://renoriver.org/wp-content/uploads/2024/01/Happy_Hour_Sierra_Tap_House.png
END:VEVENT
BEGIN:VEVENT
DTSTART;TZID=America/Los_Angeles:20260117T120000
DTEND;TZID=America/Los_Angeles:20260117T150000
DTSTAMP:20260422T024109
CREATED:20240119T210430Z
LAST-MODIFIED:20250402T234743Z
UID:10013438-1768651200-1768662000@renoriver.org
SUMMARY:Mimosa and Bloody Mary Weekend at Sierra Tap House
DESCRIPTION:Join us every weekend at Sierra Tap House for $6 Mimosas & Bloody Marys  between 12 PM – 3 PM
URL:https://renoriver.org/event/mimosa-and-bloody-mary-weekend-at-sierra-tap-house/2026-01-17/
CATEGORIES:Drink Specials,Happy Hour,Rush The River
ATTACH;FMTTYPE=image/png:https://renoriver.org/wp-content/uploads/2024/01/Mimosa_and_Bloody_Mary_Weekend.png
END:VEVENT
BEGIN:VEVENT
DTSTART;TZID=America/Los_Angeles:20260118T120000
DTEND;TZID=America/Los_Angeles:20260118T150000
DTSTAMP:20260422T024109
CREATED:20240119T210430Z
LAST-MODIFIED:20250402T234743Z
UID:10013439-1768737600-1768748400@renoriver.org
SUMMARY:Mimosa and Bloody Mary Weekend at Sierra Tap House
DESCRIPTION:Join us every weekend at Sierra Tap House for $6 Mimosas & Bloody Marys  between 12 PM – 3 PM
URL:https://renoriver.org/event/mimosa-and-bloody-mary-weekend-at-sierra-tap-house/2026-01-18/
CATEGORIES:Drink Specials,Happy Hour,Rush The River
ATTACH;FMTTYPE=image/png:https://renoriver.org/wp-content/uploads/2024/01/Mimosa_and_Bloody_Mary_Weekend.png
END:VEVENT
END:VCALENDAR