BEGIN:VCALENDAR
VERSION:2.0
PRODID:-//The Riverwalk District - ECPv6.15.19//NONSGML v1.0//EN
CALSCALE:GREGORIAN
METHOD:PUBLISH
X-ORIGINAL-URL:https://renoriver.org
X-WR-CALDESC:Events for The Riverwalk District
REFRESH-INTERVAL;VALUE=DURATION:PT1H
X-Robots-Tag:noindex
X-PUBLISHED-TTL:PT1H
BEGIN:VTIMEZONE
TZID:America/Los_Angeles
BEGIN:DAYLIGHT
TZOFFSETFROM:-0800
TZOFFSETTO:-0700
TZNAME:PDT
DTSTART:20250309T100000
END:DAYLIGHT
BEGIN:STANDARD
TZOFFSETFROM:-0700
TZOFFSETTO:-0800
TZNAME:PST
DTSTART:20251102T090000
END:STANDARD
BEGIN:DAYLIGHT
TZOFFSETFROM:-0800
TZOFFSETTO:-0700
TZNAME:PDT
DTSTART:20260308T100000
END:DAYLIGHT
BEGIN:STANDARD
TZOFFSETFROM:-0700
TZOFFSETTO:-0800
TZNAME:PST
DTSTART:20261101T090000
END:STANDARD
BEGIN:DAYLIGHT
TZOFFSETFROM:-0800
TZOFFSETTO:-0700
TZNAME:PDT
DTSTART:20270314T100000
END:DAYLIGHT
BEGIN:STANDARD
TZOFFSETFROM:-0700
TZOFFSETTO:-0800
TZNAME:PST
DTSTART:20271107T090000
END:STANDARD
END:VTIMEZONE
BEGIN:VEVENT
DTSTART;TZID=America/Los_Angeles:20260531T120000
DTEND;TZID=America/Los_Angeles:20260531T150000
DTSTAMP:20260419T132737
CREATED:20240119T210430Z
LAST-MODIFIED:20250402T234743Z
UID:10013477-1780228800-1780239600@renoriver.org
SUMMARY:Mimosa and Bloody Mary Weekend at Sierra Tap House
DESCRIPTION:Join us every weekend at Sierra Tap House for $6 Mimosas & Bloody Marys  between 12 PM – 3 PM
URL:https://renoriver.org/event/mimosa-and-bloody-mary-weekend-at-sierra-tap-house/2026-05-31/
CATEGORIES:Drink Specials,Happy Hour,Rush The River
ATTACH;FMTTYPE=image/png:https://renoriver.org/wp-content/uploads/2024/01/Mimosa_and_Bloody_Mary_Weekend.png
END:VEVENT
BEGIN:VEVENT
DTSTART;TZID=America/Los_Angeles:20260601T120000
DTEND;TZID=America/Los_Angeles:20260601T233000
DTSTAMP:20260419T132737
CREATED:20240119T205240Z
LAST-MODIFIED:20250402T235310Z
UID:10014622-1780315200-1780356600@renoriver.org
SUMMARY:All Day Happy Hour at Sierra Tap House
DESCRIPTION:Sierra Tap House \nAll Day Happy Hour 12 PM – 12 AM
URL:https://renoriver.org/event/all-day-happy-hour-at-sierra-tap-house/2026-06-01/
CATEGORIES:Drink Specials,Happy Hour
ATTACH;FMTTYPE=image/png:https://renoriver.org/wp-content/uploads/2024/01/All_Day_Happy_Hour_STH.png
END:VEVENT
BEGIN:VEVENT
DTSTART;TZID=America/Los_Angeles:20260601T150000
DTEND;TZID=America/Los_Angeles:20260601T183000
DTSTAMP:20260419T132737
CREATED:20240119T210741Z
LAST-MODIFIED:20250402T232028Z
UID:10007197-1780326000-1780338600@renoriver.org
SUMMARY:Happy Hour at Sierra Tap House
DESCRIPTION:Happy Hour 3 PM – 6:30 PM
URL:https://renoriver.org/event/happy-hour-at-sierra-tap-house/2026-06-01/
CATEGORIES:Drink Specials,Happy Hour
ATTACH;FMTTYPE=image/png:https://renoriver.org/wp-content/uploads/2024/01/Happy_Hour_Sierra_Tap_House.png
END:VEVENT
BEGIN:VEVENT
DTSTART;TZID=America/Los_Angeles:20260602T150000
DTEND;TZID=America/Los_Angeles:20260602T183000
DTSTAMP:20260419T132737
CREATED:20240119T210741Z
LAST-MODIFIED:20250402T232028Z
UID:10007198-1780412400-1780425000@renoriver.org
SUMMARY:Happy Hour at Sierra Tap House
DESCRIPTION:Happy Hour 3 PM – 6:30 PM
URL:https://renoriver.org/event/happy-hour-at-sierra-tap-house/2026-06-02/
CATEGORIES:Drink Specials,Happy Hour
ATTACH;FMTTYPE=image/png:https://renoriver.org/wp-content/uploads/2024/01/Happy_Hour_Sierra_Tap_House.png
END:VEVENT
BEGIN:VEVENT
DTSTART;TZID=America/Los_Angeles:20260602T190000
DTEND;TZID=America/Los_Angeles:20260602T210000
DTSTAMP:20260419T132737
CREATED:20240119T205615Z
LAST-MODIFIED:20250402T231511Z
UID:10004530-1780426800-1780434000@renoriver.org
SUMMARY:DJ Trivia at Sierra Tap House
DESCRIPTION:Grab your friends and play a game of DJ Trivia 7:30 PM – 9:30 PM at Sierra Tap House. Sign-ups start at 7:00 p.m.
URL:https://renoriver.org/event/dj-trivia-at-sierra-tap-house/2026-06-02/
CATEGORIES:DJ Trivia
ATTACH;FMTTYPE=image/png:https://renoriver.org/wp-content/uploads/2024/01/DJ_Trivia_STH.png
END:VEVENT
BEGIN:VEVENT
DTSTART;TZID=America/Los_Angeles:20260603T150000
DTEND;TZID=America/Los_Angeles:20260603T183000
DTSTAMP:20260419T132737
CREATED:20240119T210741Z
LAST-MODIFIED:20250402T232028Z
UID:10007199-1780498800-1780511400@renoriver.org
SUMMARY:Happy Hour at Sierra Tap House
DESCRIPTION:Happy Hour 3 PM – 6:30 PM
URL:https://renoriver.org/event/happy-hour-at-sierra-tap-house/2026-06-03/
CATEGORIES:Drink Specials,Happy Hour
ATTACH;FMTTYPE=image/png:https://renoriver.org/wp-content/uploads/2024/01/Happy_Hour_Sierra_Tap_House.png
END:VEVENT
BEGIN:VEVENT
DTSTART;TZID=America/Los_Angeles:20260604T120000
DTEND;TZID=America/Los_Angeles:20260604T233000
DTSTAMP:20260419T132737
CREATED:20240119T210117Z
LAST-MODIFIED:20250402T233849Z
UID:10012730-1780574400-1780615800@renoriver.org
SUMMARY:Tahoe Thursdays at Sierra Tap House
DESCRIPTION:Enjoy $4 Tahoe Beer Cans during our Tahoe Thursday and College Night at Sierra Tap House.
URL:https://renoriver.org/event/tahoe-thursdays-at-sierra-tap-house/2026-06-04/
CATEGORIES:Drink Specials
ATTACH;FMTTYPE=image/png:https://renoriver.org/wp-content/uploads/2024/01/Tahoe_Thursday.png
END:VEVENT
BEGIN:VEVENT
DTSTART;TZID=America/Los_Angeles:20260604T150000
DTEND;TZID=America/Los_Angeles:20260604T183000
DTSTAMP:20260419T132737
CREATED:20240119T210741Z
LAST-MODIFIED:20250402T232028Z
UID:10007200-1780585200-1780597800@renoriver.org
SUMMARY:Happy Hour at Sierra Tap House
DESCRIPTION:Happy Hour 3 PM – 6:30 PM
URL:https://renoriver.org/event/happy-hour-at-sierra-tap-house/2026-06-04/
CATEGORIES:Drink Specials,Happy Hour
ATTACH;FMTTYPE=image/png:https://renoriver.org/wp-content/uploads/2024/01/Happy_Hour_Sierra_Tap_House.png
END:VEVENT
BEGIN:VEVENT
DTSTART;TZID=America/Los_Angeles:20260605T150000
DTEND;TZID=America/Los_Angeles:20260605T183000
DTSTAMP:20260419T132737
CREATED:20240119T210741Z
LAST-MODIFIED:20250402T232028Z
UID:10007201-1780671600-1780684200@renoriver.org
SUMMARY:Happy Hour at Sierra Tap House
DESCRIPTION:Happy Hour 3 PM – 6:30 PM
URL:https://renoriver.org/event/happy-hour-at-sierra-tap-house/2026-06-05/
CATEGORIES:Drink Specials,Happy Hour
ATTACH;FMTTYPE=image/png:https://renoriver.org/wp-content/uploads/2024/01/Happy_Hour_Sierra_Tap_House.png
END:VEVENT
BEGIN:VEVENT
DTSTART;TZID=America/Los_Angeles:20260606T120000
DTEND;TZID=America/Los_Angeles:20260606T150000
DTSTAMP:20260419T132737
CREATED:20240119T210430Z
LAST-MODIFIED:20250402T234743Z
UID:10013478-1780747200-1780758000@renoriver.org
SUMMARY:Mimosa and Bloody Mary Weekend at Sierra Tap House
DESCRIPTION:Join us every weekend at Sierra Tap House for $6 Mimosas & Bloody Marys  between 12 PM – 3 PM
URL:https://renoriver.org/event/mimosa-and-bloody-mary-weekend-at-sierra-tap-house/2026-06-06/
CATEGORIES:Drink Specials,Happy Hour,Rush The River
ATTACH;FMTTYPE=image/png:https://renoriver.org/wp-content/uploads/2024/01/Mimosa_and_Bloody_Mary_Weekend.png
END:VEVENT
BEGIN:VEVENT
DTSTART;TZID=America/Los_Angeles:20260607T120000
DTEND;TZID=America/Los_Angeles:20260607T150000
DTSTAMP:20260419T132737
CREATED:20240119T210430Z
LAST-MODIFIED:20250402T234743Z
UID:10013479-1780833600-1780844400@renoriver.org
SUMMARY:Mimosa and Bloody Mary Weekend at Sierra Tap House
DESCRIPTION:Join us every weekend at Sierra Tap House for $6 Mimosas & Bloody Marys  between 12 PM – 3 PM
URL:https://renoriver.org/event/mimosa-and-bloody-mary-weekend-at-sierra-tap-house/2026-06-07/
CATEGORIES:Drink Specials,Happy Hour,Rush The River
ATTACH;FMTTYPE=image/png:https://renoriver.org/wp-content/uploads/2024/01/Mimosa_and_Bloody_Mary_Weekend.png
END:VEVENT
BEGIN:VEVENT
DTSTART;TZID=America/Los_Angeles:20260608T120000
DTEND;TZID=America/Los_Angeles:20260608T233000
DTSTAMP:20260419T132737
CREATED:20240119T205240Z
LAST-MODIFIED:20250402T235310Z
UID:10014623-1780920000-1780961400@renoriver.org
SUMMARY:All Day Happy Hour at Sierra Tap House
DESCRIPTION:Sierra Tap House \nAll Day Happy Hour 12 PM – 12 AM
URL:https://renoriver.org/event/all-day-happy-hour-at-sierra-tap-house/2026-06-08/
CATEGORIES:Drink Specials,Happy Hour
ATTACH;FMTTYPE=image/png:https://renoriver.org/wp-content/uploads/2024/01/All_Day_Happy_Hour_STH.png
END:VEVENT
BEGIN:VEVENT
DTSTART;TZID=America/Los_Angeles:20260608T150000
DTEND;TZID=America/Los_Angeles:20260608T183000
DTSTAMP:20260419T132737
CREATED:20240119T210741Z
LAST-MODIFIED:20250402T232028Z
UID:10007202-1780930800-1780943400@renoriver.org
SUMMARY:Happy Hour at Sierra Tap House
DESCRIPTION:Happy Hour 3 PM – 6:30 PM
URL:https://renoriver.org/event/happy-hour-at-sierra-tap-house/2026-06-08/
CATEGORIES:Drink Specials,Happy Hour
ATTACH;FMTTYPE=image/png:https://renoriver.org/wp-content/uploads/2024/01/Happy_Hour_Sierra_Tap_House.png
END:VEVENT
BEGIN:VEVENT
DTSTART;TZID=America/Los_Angeles:20260609T150000
DTEND;TZID=America/Los_Angeles:20260609T183000
DTSTAMP:20260419T132737
CREATED:20240119T210741Z
LAST-MODIFIED:20250402T232028Z
UID:10007203-1781017200-1781029800@renoriver.org
SUMMARY:Happy Hour at Sierra Tap House
DESCRIPTION:Happy Hour 3 PM – 6:30 PM
URL:https://renoriver.org/event/happy-hour-at-sierra-tap-house/2026-06-09/
CATEGORIES:Drink Specials,Happy Hour
ATTACH;FMTTYPE=image/png:https://renoriver.org/wp-content/uploads/2024/01/Happy_Hour_Sierra_Tap_House.png
END:VEVENT
BEGIN:VEVENT
DTSTART;TZID=America/Los_Angeles:20260609T190000
DTEND;TZID=America/Los_Angeles:20260609T210000
DTSTAMP:20260419T132737
CREATED:20240119T205615Z
LAST-MODIFIED:20250402T231511Z
UID:10004531-1781031600-1781038800@renoriver.org
SUMMARY:DJ Trivia at Sierra Tap House
DESCRIPTION:Grab your friends and play a game of DJ Trivia 7:30 PM – 9:30 PM at Sierra Tap House. Sign-ups start at 7:00 p.m.
URL:https://renoriver.org/event/dj-trivia-at-sierra-tap-house/2026-06-09/
CATEGORIES:DJ Trivia
ATTACH;FMTTYPE=image/png:https://renoriver.org/wp-content/uploads/2024/01/DJ_Trivia_STH.png
END:VEVENT
BEGIN:VEVENT
DTSTART;TZID=America/Los_Angeles:20260610T150000
DTEND;TZID=America/Los_Angeles:20260610T183000
DTSTAMP:20260419T132737
CREATED:20240119T210741Z
LAST-MODIFIED:20250402T232028Z
UID:10007204-1781103600-1781116200@renoriver.org
SUMMARY:Happy Hour at Sierra Tap House
DESCRIPTION:Happy Hour 3 PM – 6:30 PM
URL:https://renoriver.org/event/happy-hour-at-sierra-tap-house/2026-06-10/
CATEGORIES:Drink Specials,Happy Hour
ATTACH;FMTTYPE=image/png:https://renoriver.org/wp-content/uploads/2024/01/Happy_Hour_Sierra_Tap_House.png
END:VEVENT
BEGIN:VEVENT
DTSTART;TZID=America/Los_Angeles:20260611T120000
DTEND;TZID=America/Los_Angeles:20260611T233000
DTSTAMP:20260419T132737
CREATED:20240119T210117Z
LAST-MODIFIED:20250402T233849Z
UID:10012731-1781179200-1781220600@renoriver.org
SUMMARY:Tahoe Thursdays at Sierra Tap House
DESCRIPTION:Enjoy $4 Tahoe Beer Cans during our Tahoe Thursday and College Night at Sierra Tap House.
URL:https://renoriver.org/event/tahoe-thursdays-at-sierra-tap-house/2026-06-11/
CATEGORIES:Drink Specials
ATTACH;FMTTYPE=image/png:https://renoriver.org/wp-content/uploads/2024/01/Tahoe_Thursday.png
END:VEVENT
BEGIN:VEVENT
DTSTART;TZID=America/Los_Angeles:20260611T150000
DTEND;TZID=America/Los_Angeles:20260611T183000
DTSTAMP:20260419T132737
CREATED:20240119T210741Z
LAST-MODIFIED:20250402T232028Z
UID:10007205-1781190000-1781202600@renoriver.org
SUMMARY:Happy Hour at Sierra Tap House
DESCRIPTION:Happy Hour 3 PM – 6:30 PM
URL:https://renoriver.org/event/happy-hour-at-sierra-tap-house/2026-06-11/
CATEGORIES:Drink Specials,Happy Hour
ATTACH;FMTTYPE=image/png:https://renoriver.org/wp-content/uploads/2024/01/Happy_Hour_Sierra_Tap_House.png
END:VEVENT
BEGIN:VEVENT
DTSTART;TZID=America/Los_Angeles:20260612T150000
DTEND;TZID=America/Los_Angeles:20260612T183000
DTSTAMP:20260419T132737
CREATED:20240119T210741Z
LAST-MODIFIED:20250402T232028Z
UID:10007206-1781276400-1781289000@renoriver.org
SUMMARY:Happy Hour at Sierra Tap House
DESCRIPTION:Happy Hour 3 PM – 6:30 PM
URL:https://renoriver.org/event/happy-hour-at-sierra-tap-house/2026-06-12/
CATEGORIES:Drink Specials,Happy Hour
ATTACH;FMTTYPE=image/png:https://renoriver.org/wp-content/uploads/2024/01/Happy_Hour_Sierra_Tap_House.png
END:VEVENT
BEGIN:VEVENT
DTSTART;TZID=America/Los_Angeles:20260613T120000
DTEND;TZID=America/Los_Angeles:20260613T150000
DTSTAMP:20260419T132737
CREATED:20240119T210430Z
LAST-MODIFIED:20250402T234743Z
UID:10013480-1781352000-1781362800@renoriver.org
SUMMARY:Mimosa and Bloody Mary Weekend at Sierra Tap House
DESCRIPTION:Join us every weekend at Sierra Tap House for $6 Mimosas & Bloody Marys  between 12 PM – 3 PM
URL:https://renoriver.org/event/mimosa-and-bloody-mary-weekend-at-sierra-tap-house/2026-06-13/
CATEGORIES:Drink Specials,Happy Hour,Rush The River
ATTACH;FMTTYPE=image/png:https://renoriver.org/wp-content/uploads/2024/01/Mimosa_and_Bloody_Mary_Weekend.png
END:VEVENT
BEGIN:VEVENT
DTSTART;TZID=America/Los_Angeles:20260614T120000
DTEND;TZID=America/Los_Angeles:20260614T150000
DTSTAMP:20260419T132737
CREATED:20240119T210430Z
LAST-MODIFIED:20250402T234743Z
UID:10013481-1781438400-1781449200@renoriver.org
SUMMARY:Mimosa and Bloody Mary Weekend at Sierra Tap House
DESCRIPTION:Join us every weekend at Sierra Tap House for $6 Mimosas & Bloody Marys  between 12 PM – 3 PM
URL:https://renoriver.org/event/mimosa-and-bloody-mary-weekend-at-sierra-tap-house/2026-06-14/
CATEGORIES:Drink Specials,Happy Hour,Rush The River
ATTACH;FMTTYPE=image/png:https://renoriver.org/wp-content/uploads/2024/01/Mimosa_and_Bloody_Mary_Weekend.png
END:VEVENT
BEGIN:VEVENT
DTSTART;TZID=America/Los_Angeles:20260615T120000
DTEND;TZID=America/Los_Angeles:20260615T233000
DTSTAMP:20260419T132737
CREATED:20240119T205240Z
LAST-MODIFIED:20250402T235310Z
UID:10014624-1781524800-1781566200@renoriver.org
SUMMARY:All Day Happy Hour at Sierra Tap House
DESCRIPTION:Sierra Tap House \nAll Day Happy Hour 12 PM – 12 AM
URL:https://renoriver.org/event/all-day-happy-hour-at-sierra-tap-house/2026-06-15/
CATEGORIES:Drink Specials,Happy Hour
ATTACH;FMTTYPE=image/png:https://renoriver.org/wp-content/uploads/2024/01/All_Day_Happy_Hour_STH.png
END:VEVENT
BEGIN:VEVENT
DTSTART;TZID=America/Los_Angeles:20260615T150000
DTEND;TZID=America/Los_Angeles:20260615T183000
DTSTAMP:20260419T132737
CREATED:20240119T210741Z
LAST-MODIFIED:20250402T232028Z
UID:10007207-1781535600-1781548200@renoriver.org
SUMMARY:Happy Hour at Sierra Tap House
DESCRIPTION:Happy Hour 3 PM – 6:30 PM
URL:https://renoriver.org/event/happy-hour-at-sierra-tap-house/2026-06-15/
CATEGORIES:Drink Specials,Happy Hour
ATTACH;FMTTYPE=image/png:https://renoriver.org/wp-content/uploads/2024/01/Happy_Hour_Sierra_Tap_House.png
END:VEVENT
BEGIN:VEVENT
DTSTART;TZID=America/Los_Angeles:20260616T150000
DTEND;TZID=America/Los_Angeles:20260616T183000
DTSTAMP:20260419T132737
CREATED:20240119T210741Z
LAST-MODIFIED:20250402T232028Z
UID:10007208-1781622000-1781634600@renoriver.org
SUMMARY:Happy Hour at Sierra Tap House
DESCRIPTION:Happy Hour 3 PM – 6:30 PM
URL:https://renoriver.org/event/happy-hour-at-sierra-tap-house/2026-06-16/
CATEGORIES:Drink Specials,Happy Hour
ATTACH;FMTTYPE=image/png:https://renoriver.org/wp-content/uploads/2024/01/Happy_Hour_Sierra_Tap_House.png
END:VEVENT
BEGIN:VEVENT
DTSTART;TZID=America/Los_Angeles:20260616T190000
DTEND;TZID=America/Los_Angeles:20260616T210000
DTSTAMP:20260419T132737
CREATED:20240119T205615Z
LAST-MODIFIED:20250402T231511Z
UID:10004532-1781636400-1781643600@renoriver.org
SUMMARY:DJ Trivia at Sierra Tap House
DESCRIPTION:Grab your friends and play a game of DJ Trivia 7:30 PM – 9:30 PM at Sierra Tap House. Sign-ups start at 7:00 p.m.
URL:https://renoriver.org/event/dj-trivia-at-sierra-tap-house/2026-06-16/
CATEGORIES:DJ Trivia
ATTACH;FMTTYPE=image/png:https://renoriver.org/wp-content/uploads/2024/01/DJ_Trivia_STH.png
END:VEVENT
BEGIN:VEVENT
DTSTART;TZID=America/Los_Angeles:20260617T150000
DTEND;TZID=America/Los_Angeles:20260617T183000
DTSTAMP:20260419T132737
CREATED:20240119T210741Z
LAST-MODIFIED:20250402T232028Z
UID:10007209-1781708400-1781721000@renoriver.org
SUMMARY:Happy Hour at Sierra Tap House
DESCRIPTION:Happy Hour 3 PM – 6:30 PM
URL:https://renoriver.org/event/happy-hour-at-sierra-tap-house/2026-06-17/
CATEGORIES:Drink Specials,Happy Hour
ATTACH;FMTTYPE=image/png:https://renoriver.org/wp-content/uploads/2024/01/Happy_Hour_Sierra_Tap_House.png
END:VEVENT
BEGIN:VEVENT
DTSTART;TZID=America/Los_Angeles:20260618T120000
DTEND;TZID=America/Los_Angeles:20260618T233000
DTSTAMP:20260419T132737
CREATED:20240119T210117Z
LAST-MODIFIED:20250402T233849Z
UID:10012732-1781784000-1781825400@renoriver.org
SUMMARY:Tahoe Thursdays at Sierra Tap House
DESCRIPTION:Enjoy $4 Tahoe Beer Cans during our Tahoe Thursday and College Night at Sierra Tap House.
URL:https://renoriver.org/event/tahoe-thursdays-at-sierra-tap-house/2026-06-18/
CATEGORIES:Drink Specials
ATTACH;FMTTYPE=image/png:https://renoriver.org/wp-content/uploads/2024/01/Tahoe_Thursday.png
END:VEVENT
BEGIN:VEVENT
DTSTART;TZID=America/Los_Angeles:20260618T150000
DTEND;TZID=America/Los_Angeles:20260618T183000
DTSTAMP:20260419T132737
CREATED:20240119T210741Z
LAST-MODIFIED:20250402T232028Z
UID:10007210-1781794800-1781807400@renoriver.org
SUMMARY:Happy Hour at Sierra Tap House
DESCRIPTION:Happy Hour 3 PM – 6:30 PM
URL:https://renoriver.org/event/happy-hour-at-sierra-tap-house/2026-06-18/
CATEGORIES:Drink Specials,Happy Hour
ATTACH;FMTTYPE=image/png:https://renoriver.org/wp-content/uploads/2024/01/Happy_Hour_Sierra_Tap_House.png
END:VEVENT
BEGIN:VEVENT
DTSTART;TZID=America/Los_Angeles:20260619T150000
DTEND;TZID=America/Los_Angeles:20260619T183000
DTSTAMP:20260419T132737
CREATED:20240119T210741Z
LAST-MODIFIED:20250402T232028Z
UID:10007211-1781881200-1781893800@renoriver.org
SUMMARY:Happy Hour at Sierra Tap House
DESCRIPTION:Happy Hour 3 PM – 6:30 PM
URL:https://renoriver.org/event/happy-hour-at-sierra-tap-house/2026-06-19/
CATEGORIES:Drink Specials,Happy Hour
ATTACH;FMTTYPE=image/png:https://renoriver.org/wp-content/uploads/2024/01/Happy_Hour_Sierra_Tap_House.png
END:VEVENT
BEGIN:VEVENT
DTSTART;TZID=America/Los_Angeles:20260620T120000
DTEND;TZID=America/Los_Angeles:20260620T150000
DTSTAMP:20260419T132737
CREATED:20240119T210430Z
LAST-MODIFIED:20250402T234743Z
UID:10013482-1781956800-1781967600@renoriver.org
SUMMARY:Mimosa and Bloody Mary Weekend at Sierra Tap House
DESCRIPTION:Join us every weekend at Sierra Tap House for $6 Mimosas & Bloody Marys  between 12 PM – 3 PM
URL:https://renoriver.org/event/mimosa-and-bloody-mary-weekend-at-sierra-tap-house/2026-06-20/
CATEGORIES:Drink Specials,Happy Hour,Rush The River
ATTACH;FMTTYPE=image/png:https://renoriver.org/wp-content/uploads/2024/01/Mimosa_and_Bloody_Mary_Weekend.png
END:VEVENT
END:VCALENDAR