BEGIN:VCALENDAR
VERSION:2.0
PRODID:-//The Riverwalk District - ECPv6.15.19//NONSGML v1.0//EN
CALSCALE:GREGORIAN
METHOD:PUBLISH
X-WR-CALNAME:The Riverwalk District
X-ORIGINAL-URL:https://renoriver.org
X-WR-CALDESC:Events for The Riverwalk District
REFRESH-INTERVAL;VALUE=DURATION:PT1H
X-Robots-Tag:noindex
X-PUBLISHED-TTL:PT1H
BEGIN:VTIMEZONE
TZID:America/Los_Angeles
BEGIN:DAYLIGHT
TZOFFSETFROM:-0800
TZOFFSETTO:-0700
TZNAME:PDT
DTSTART:20250309T100000
END:DAYLIGHT
BEGIN:STANDARD
TZOFFSETFROM:-0700
TZOFFSETTO:-0800
TZNAME:PST
DTSTART:20251102T090000
END:STANDARD
BEGIN:DAYLIGHT
TZOFFSETFROM:-0800
TZOFFSETTO:-0700
TZNAME:PDT
DTSTART:20260308T100000
END:DAYLIGHT
BEGIN:STANDARD
TZOFFSETFROM:-0700
TZOFFSETTO:-0800
TZNAME:PST
DTSTART:20261101T090000
END:STANDARD
BEGIN:DAYLIGHT
TZOFFSETFROM:-0800
TZOFFSETTO:-0700
TZNAME:PDT
DTSTART:20270314T100000
END:DAYLIGHT
BEGIN:STANDARD
TZOFFSETFROM:-0700
TZOFFSETTO:-0800
TZNAME:PST
DTSTART:20271107T090000
END:STANDARD
END:VTIMEZONE
BEGIN:VEVENT
DTSTART;TZID=America/Los_Angeles:20260427T150000
DTEND;TZID=America/Los_Angeles:20260427T183000
DTSTAMP:20260419T052827
CREATED:20240119T210741Z
LAST-MODIFIED:20250402T232028Z
UID:10007172-1777302000-1777314600@renoriver.org
SUMMARY:Happy Hour at Sierra Tap House
DESCRIPTION:Happy Hour 3 PM – 6:30 PM
URL:https://renoriver.org/event/happy-hour-at-sierra-tap-house/2026-04-27/
CATEGORIES:Drink Specials,Happy Hour
ATTACH;FMTTYPE=image/png:https://renoriver.org/wp-content/uploads/2024/01/Happy_Hour_Sierra_Tap_House.png
END:VEVENT
BEGIN:VEVENT
DTSTART;TZID=America/Los_Angeles:20260428T150000
DTEND;TZID=America/Los_Angeles:20260428T183000
DTSTAMP:20260419T052827
CREATED:20240119T210741Z
LAST-MODIFIED:20250402T232028Z
UID:10007173-1777388400-1777401000@renoriver.org
SUMMARY:Happy Hour at Sierra Tap House
DESCRIPTION:Happy Hour 3 PM – 6:30 PM
URL:https://renoriver.org/event/happy-hour-at-sierra-tap-house/2026-04-28/
CATEGORIES:Drink Specials,Happy Hour
ATTACH;FMTTYPE=image/png:https://renoriver.org/wp-content/uploads/2024/01/Happy_Hour_Sierra_Tap_House.png
END:VEVENT
BEGIN:VEVENT
DTSTART;TZID=America/Los_Angeles:20260428T190000
DTEND;TZID=America/Los_Angeles:20260428T210000
DTSTAMP:20260419T052827
CREATED:20240119T205615Z
LAST-MODIFIED:20250402T231511Z
UID:10004525-1777402800-1777410000@renoriver.org
SUMMARY:DJ Trivia at Sierra Tap House
DESCRIPTION:Grab your friends and play a game of DJ Trivia 7:30 PM – 9:30 PM at Sierra Tap House. Sign-ups start at 7:00 p.m.
URL:https://renoriver.org/event/dj-trivia-at-sierra-tap-house/2026-04-28/
CATEGORIES:DJ Trivia
ATTACH;FMTTYPE=image/png:https://renoriver.org/wp-content/uploads/2024/01/DJ_Trivia_STH.png
END:VEVENT
BEGIN:VEVENT
DTSTART;TZID=America/Los_Angeles:20260429T150000
DTEND;TZID=America/Los_Angeles:20260429T183000
DTSTAMP:20260419T052827
CREATED:20240119T210741Z
LAST-MODIFIED:20250402T232028Z
UID:10007174-1777474800-1777487400@renoriver.org
SUMMARY:Happy Hour at Sierra Tap House
DESCRIPTION:Happy Hour 3 PM – 6:30 PM
URL:https://renoriver.org/event/happy-hour-at-sierra-tap-house/2026-04-29/
CATEGORIES:Drink Specials,Happy Hour
ATTACH;FMTTYPE=image/png:https://renoriver.org/wp-content/uploads/2024/01/Happy_Hour_Sierra_Tap_House.png
END:VEVENT
BEGIN:VEVENT
DTSTART;TZID=America/Los_Angeles:20260430T120000
DTEND;TZID=America/Los_Angeles:20260430T233000
DTSTAMP:20260419T052827
CREATED:20240119T210117Z
LAST-MODIFIED:20250402T233849Z
UID:10012725-1777550400-1777591800@renoriver.org
SUMMARY:Tahoe Thursdays at Sierra Tap House
DESCRIPTION:Enjoy $4 Tahoe Beer Cans during our Tahoe Thursday and College Night at Sierra Tap House.
URL:https://renoriver.org/event/tahoe-thursdays-at-sierra-tap-house/2026-04-30/
CATEGORIES:Drink Specials
ATTACH;FMTTYPE=image/png:https://renoriver.org/wp-content/uploads/2024/01/Tahoe_Thursday.png
END:VEVENT
BEGIN:VEVENT
DTSTART;TZID=America/Los_Angeles:20260430T150000
DTEND;TZID=America/Los_Angeles:20260430T183000
DTSTAMP:20260419T052827
CREATED:20240119T210741Z
LAST-MODIFIED:20250402T232028Z
UID:10007175-1777561200-1777573800@renoriver.org
SUMMARY:Happy Hour at Sierra Tap House
DESCRIPTION:Happy Hour 3 PM – 6:30 PM
URL:https://renoriver.org/event/happy-hour-at-sierra-tap-house/2026-04-30/
CATEGORIES:Drink Specials,Happy Hour
ATTACH;FMTTYPE=image/png:https://renoriver.org/wp-content/uploads/2024/01/Happy_Hour_Sierra_Tap_House.png
END:VEVENT
BEGIN:VEVENT
DTSTART;TZID=America/Los_Angeles:20260501T150000
DTEND;TZID=America/Los_Angeles:20260501T183000
DTSTAMP:20260419T052827
CREATED:20240119T210741Z
LAST-MODIFIED:20250402T232028Z
UID:10007176-1777647600-1777660200@renoriver.org
SUMMARY:Happy Hour at Sierra Tap House
DESCRIPTION:Happy Hour 3 PM – 6:30 PM
URL:https://renoriver.org/event/happy-hour-at-sierra-tap-house/2026-05-01/
CATEGORIES:Drink Specials,Happy Hour
ATTACH;FMTTYPE=image/png:https://renoriver.org/wp-content/uploads/2024/01/Happy_Hour_Sierra_Tap_House.png
END:VEVENT
BEGIN:VEVENT
DTSTART;TZID=America/Los_Angeles:20260502T120000
DTEND;TZID=America/Los_Angeles:20260502T150000
DTSTAMP:20260419T052827
CREATED:20240119T210430Z
LAST-MODIFIED:20250402T234743Z
UID:10013468-1777723200-1777734000@renoriver.org
SUMMARY:Mimosa and Bloody Mary Weekend at Sierra Tap House
DESCRIPTION:Join us every weekend at Sierra Tap House for $6 Mimosas & Bloody Marys  between 12 PM – 3 PM
URL:https://renoriver.org/event/mimosa-and-bloody-mary-weekend-at-sierra-tap-house/2026-05-02/
CATEGORIES:Drink Specials,Happy Hour,Rush The River
ATTACH;FMTTYPE=image/png:https://renoriver.org/wp-content/uploads/2024/01/Mimosa_and_Bloody_Mary_Weekend.png
END:VEVENT
BEGIN:VEVENT
DTSTART;TZID=America/Los_Angeles:20260503T120000
DTEND;TZID=America/Los_Angeles:20260503T150000
DTSTAMP:20260419T052827
CREATED:20240119T210430Z
LAST-MODIFIED:20250402T234743Z
UID:10013469-1777809600-1777820400@renoriver.org
SUMMARY:Mimosa and Bloody Mary Weekend at Sierra Tap House
DESCRIPTION:Join us every weekend at Sierra Tap House for $6 Mimosas & Bloody Marys  between 12 PM – 3 PM
URL:https://renoriver.org/event/mimosa-and-bloody-mary-weekend-at-sierra-tap-house/2026-05-03/
CATEGORIES:Drink Specials,Happy Hour,Rush The River
ATTACH;FMTTYPE=image/png:https://renoriver.org/wp-content/uploads/2024/01/Mimosa_and_Bloody_Mary_Weekend.png
END:VEVENT
BEGIN:VEVENT
DTSTART;TZID=America/Los_Angeles:20260504T120000
DTEND;TZID=America/Los_Angeles:20260504T233000
DTSTAMP:20260419T052827
CREATED:20240119T205240Z
LAST-MODIFIED:20250402T235310Z
UID:10014618-1777896000-1777937400@renoriver.org
SUMMARY:All Day Happy Hour at Sierra Tap House
DESCRIPTION:Sierra Tap House \nAll Day Happy Hour 12 PM – 12 AM
URL:https://renoriver.org/event/all-day-happy-hour-at-sierra-tap-house/2026-05-04/
CATEGORIES:Drink Specials,Happy Hour
ATTACH;FMTTYPE=image/png:https://renoriver.org/wp-content/uploads/2024/01/All_Day_Happy_Hour_STH.png
END:VEVENT
BEGIN:VEVENT
DTSTART;TZID=America/Los_Angeles:20260504T150000
DTEND;TZID=America/Los_Angeles:20260504T183000
DTSTAMP:20260419T052827
CREATED:20240119T210741Z
LAST-MODIFIED:20250402T232028Z
UID:10007177-1777906800-1777919400@renoriver.org
SUMMARY:Happy Hour at Sierra Tap House
DESCRIPTION:Happy Hour 3 PM – 6:30 PM
URL:https://renoriver.org/event/happy-hour-at-sierra-tap-house/2026-05-04/
CATEGORIES:Drink Specials,Happy Hour
ATTACH;FMTTYPE=image/png:https://renoriver.org/wp-content/uploads/2024/01/Happy_Hour_Sierra_Tap_House.png
END:VEVENT
BEGIN:VEVENT
DTSTART;TZID=America/Los_Angeles:20260505T150000
DTEND;TZID=America/Los_Angeles:20260505T183000
DTSTAMP:20260419T052827
CREATED:20240119T210741Z
LAST-MODIFIED:20250402T232028Z
UID:10007178-1777993200-1778005800@renoriver.org
SUMMARY:Happy Hour at Sierra Tap House
DESCRIPTION:Happy Hour 3 PM – 6:30 PM
URL:https://renoriver.org/event/happy-hour-at-sierra-tap-house/2026-05-05/
CATEGORIES:Drink Specials,Happy Hour
ATTACH;FMTTYPE=image/png:https://renoriver.org/wp-content/uploads/2024/01/Happy_Hour_Sierra_Tap_House.png
END:VEVENT
BEGIN:VEVENT
DTSTART;TZID=America/Los_Angeles:20260505T190000
DTEND;TZID=America/Los_Angeles:20260505T210000
DTSTAMP:20260419T052827
CREATED:20240119T205615Z
LAST-MODIFIED:20250402T231511Z
UID:10004526-1778007600-1778014800@renoriver.org
SUMMARY:DJ Trivia at Sierra Tap House
DESCRIPTION:Grab your friends and play a game of DJ Trivia 7:30 PM – 9:30 PM at Sierra Tap House. Sign-ups start at 7:00 p.m.
URL:https://renoriver.org/event/dj-trivia-at-sierra-tap-house/2026-05-05/
CATEGORIES:DJ Trivia
ATTACH;FMTTYPE=image/png:https://renoriver.org/wp-content/uploads/2024/01/DJ_Trivia_STH.png
END:VEVENT
BEGIN:VEVENT
DTSTART;TZID=America/Los_Angeles:20260506T150000
DTEND;TZID=America/Los_Angeles:20260506T183000
DTSTAMP:20260419T052827
CREATED:20240119T210741Z
LAST-MODIFIED:20250402T232028Z
UID:10007179-1778079600-1778092200@renoriver.org
SUMMARY:Happy Hour at Sierra Tap House
DESCRIPTION:Happy Hour 3 PM – 6:30 PM
URL:https://renoriver.org/event/happy-hour-at-sierra-tap-house/2026-05-06/
CATEGORIES:Drink Specials,Happy Hour
ATTACH;FMTTYPE=image/png:https://renoriver.org/wp-content/uploads/2024/01/Happy_Hour_Sierra_Tap_House.png
END:VEVENT
BEGIN:VEVENT
DTSTART;TZID=America/Los_Angeles:20260507T120000
DTEND;TZID=America/Los_Angeles:20260507T233000
DTSTAMP:20260419T052827
CREATED:20240119T210117Z
LAST-MODIFIED:20250402T233849Z
UID:10012726-1778155200-1778196600@renoriver.org
SUMMARY:Tahoe Thursdays at Sierra Tap House
DESCRIPTION:Enjoy $4 Tahoe Beer Cans during our Tahoe Thursday and College Night at Sierra Tap House.
URL:https://renoriver.org/event/tahoe-thursdays-at-sierra-tap-house/2026-05-07/
CATEGORIES:Drink Specials
ATTACH;FMTTYPE=image/png:https://renoriver.org/wp-content/uploads/2024/01/Tahoe_Thursday.png
END:VEVENT
BEGIN:VEVENT
DTSTART;TZID=America/Los_Angeles:20260507T150000
DTEND;TZID=America/Los_Angeles:20260507T183000
DTSTAMP:20260419T052827
CREATED:20240119T210741Z
LAST-MODIFIED:20250402T232028Z
UID:10007180-1778166000-1778178600@renoriver.org
SUMMARY:Happy Hour at Sierra Tap House
DESCRIPTION:Happy Hour 3 PM – 6:30 PM
URL:https://renoriver.org/event/happy-hour-at-sierra-tap-house/2026-05-07/
CATEGORIES:Drink Specials,Happy Hour
ATTACH;FMTTYPE=image/png:https://renoriver.org/wp-content/uploads/2024/01/Happy_Hour_Sierra_Tap_House.png
END:VEVENT
BEGIN:VEVENT
DTSTART;TZID=America/Los_Angeles:20260508T150000
DTEND;TZID=America/Los_Angeles:20260508T183000
DTSTAMP:20260419T052827
CREATED:20240119T210741Z
LAST-MODIFIED:20250402T232028Z
UID:10007181-1778252400-1778265000@renoriver.org
SUMMARY:Happy Hour at Sierra Tap House
DESCRIPTION:Happy Hour 3 PM – 6:30 PM
URL:https://renoriver.org/event/happy-hour-at-sierra-tap-house/2026-05-08/
CATEGORIES:Drink Specials,Happy Hour
ATTACH;FMTTYPE=image/png:https://renoriver.org/wp-content/uploads/2024/01/Happy_Hour_Sierra_Tap_House.png
END:VEVENT
BEGIN:VEVENT
DTSTART;TZID=America/Los_Angeles:20260509T120000
DTEND;TZID=America/Los_Angeles:20260509T150000
DTSTAMP:20260419T052827
CREATED:20240119T210430Z
LAST-MODIFIED:20250402T234743Z
UID:10013470-1778328000-1778338800@renoriver.org
SUMMARY:Mimosa and Bloody Mary Weekend at Sierra Tap House
DESCRIPTION:Join us every weekend at Sierra Tap House for $6 Mimosas & Bloody Marys  between 12 PM – 3 PM
URL:https://renoriver.org/event/mimosa-and-bloody-mary-weekend-at-sierra-tap-house/2026-05-09/
CATEGORIES:Drink Specials,Happy Hour,Rush The River
ATTACH;FMTTYPE=image/png:https://renoriver.org/wp-content/uploads/2024/01/Mimosa_and_Bloody_Mary_Weekend.png
END:VEVENT
BEGIN:VEVENT
DTSTART;TZID=America/Los_Angeles:20260510T120000
DTEND;TZID=America/Los_Angeles:20260510T150000
DTSTAMP:20260419T052827
CREATED:20240119T210430Z
LAST-MODIFIED:20250402T234743Z
UID:10013471-1778414400-1778425200@renoriver.org
SUMMARY:Mimosa and Bloody Mary Weekend at Sierra Tap House
DESCRIPTION:Join us every weekend at Sierra Tap House for $6 Mimosas & Bloody Marys  between 12 PM – 3 PM
URL:https://renoriver.org/event/mimosa-and-bloody-mary-weekend-at-sierra-tap-house/2026-05-10/
CATEGORIES:Drink Specials,Happy Hour,Rush The River
ATTACH;FMTTYPE=image/png:https://renoriver.org/wp-content/uploads/2024/01/Mimosa_and_Bloody_Mary_Weekend.png
END:VEVENT
BEGIN:VEVENT
DTSTART;TZID=America/Los_Angeles:20260511T120000
DTEND;TZID=America/Los_Angeles:20260511T233000
DTSTAMP:20260419T052827
CREATED:20240119T205240Z
LAST-MODIFIED:20250402T235310Z
UID:10014619-1778500800-1778542200@renoriver.org
SUMMARY:All Day Happy Hour at Sierra Tap House
DESCRIPTION:Sierra Tap House \nAll Day Happy Hour 12 PM – 12 AM
URL:https://renoriver.org/event/all-day-happy-hour-at-sierra-tap-house/2026-05-11/
CATEGORIES:Drink Specials,Happy Hour
ATTACH;FMTTYPE=image/png:https://renoriver.org/wp-content/uploads/2024/01/All_Day_Happy_Hour_STH.png
END:VEVENT
BEGIN:VEVENT
DTSTART;TZID=America/Los_Angeles:20260511T150000
DTEND;TZID=America/Los_Angeles:20260511T183000
DTSTAMP:20260419T052827
CREATED:20240119T210741Z
LAST-MODIFIED:20250402T232028Z
UID:10007182-1778511600-1778524200@renoriver.org
SUMMARY:Happy Hour at Sierra Tap House
DESCRIPTION:Happy Hour 3 PM – 6:30 PM
URL:https://renoriver.org/event/happy-hour-at-sierra-tap-house/2026-05-11/
CATEGORIES:Drink Specials,Happy Hour
ATTACH;FMTTYPE=image/png:https://renoriver.org/wp-content/uploads/2024/01/Happy_Hour_Sierra_Tap_House.png
END:VEVENT
BEGIN:VEVENT
DTSTART;TZID=America/Los_Angeles:20260512T150000
DTEND;TZID=America/Los_Angeles:20260512T183000
DTSTAMP:20260419T052827
CREATED:20240119T210741Z
LAST-MODIFIED:20250402T232028Z
UID:10007183-1778598000-1778610600@renoriver.org
SUMMARY:Happy Hour at Sierra Tap House
DESCRIPTION:Happy Hour 3 PM – 6:30 PM
URL:https://renoriver.org/event/happy-hour-at-sierra-tap-house/2026-05-12/
CATEGORIES:Drink Specials,Happy Hour
ATTACH;FMTTYPE=image/png:https://renoriver.org/wp-content/uploads/2024/01/Happy_Hour_Sierra_Tap_House.png
END:VEVENT
BEGIN:VEVENT
DTSTART;TZID=America/Los_Angeles:20260512T190000
DTEND;TZID=America/Los_Angeles:20260512T210000
DTSTAMP:20260419T052827
CREATED:20240119T205615Z
LAST-MODIFIED:20250402T231511Z
UID:10004527-1778612400-1778619600@renoriver.org
SUMMARY:DJ Trivia at Sierra Tap House
DESCRIPTION:Grab your friends and play a game of DJ Trivia 7:30 PM – 9:30 PM at Sierra Tap House. Sign-ups start at 7:00 p.m.
URL:https://renoriver.org/event/dj-trivia-at-sierra-tap-house/2026-05-12/
CATEGORIES:DJ Trivia
ATTACH;FMTTYPE=image/png:https://renoriver.org/wp-content/uploads/2024/01/DJ_Trivia_STH.png
END:VEVENT
BEGIN:VEVENT
DTSTART;TZID=America/Los_Angeles:20260513T150000
DTEND;TZID=America/Los_Angeles:20260513T183000
DTSTAMP:20260419T052827
CREATED:20240119T210741Z
LAST-MODIFIED:20250402T232028Z
UID:10007184-1778684400-1778697000@renoriver.org
SUMMARY:Happy Hour at Sierra Tap House
DESCRIPTION:Happy Hour 3 PM – 6:30 PM
URL:https://renoriver.org/event/happy-hour-at-sierra-tap-house/2026-05-13/
CATEGORIES:Drink Specials,Happy Hour
ATTACH;FMTTYPE=image/png:https://renoriver.org/wp-content/uploads/2024/01/Happy_Hour_Sierra_Tap_House.png
END:VEVENT
BEGIN:VEVENT
DTSTART;TZID=America/Los_Angeles:20260514T120000
DTEND;TZID=America/Los_Angeles:20260514T233000
DTSTAMP:20260419T052827
CREATED:20240119T210117Z
LAST-MODIFIED:20250402T233849Z
UID:10012727-1778760000-1778801400@renoriver.org
SUMMARY:Tahoe Thursdays at Sierra Tap House
DESCRIPTION:Enjoy $4 Tahoe Beer Cans during our Tahoe Thursday and College Night at Sierra Tap House.
URL:https://renoriver.org/event/tahoe-thursdays-at-sierra-tap-house/2026-05-14/
CATEGORIES:Drink Specials
ATTACH;FMTTYPE=image/png:https://renoriver.org/wp-content/uploads/2024/01/Tahoe_Thursday.png
END:VEVENT
BEGIN:VEVENT
DTSTART;TZID=America/Los_Angeles:20260514T150000
DTEND;TZID=America/Los_Angeles:20260514T183000
DTSTAMP:20260419T052827
CREATED:20240119T210741Z
LAST-MODIFIED:20250402T232028Z
UID:10007185-1778770800-1778783400@renoriver.org
SUMMARY:Happy Hour at Sierra Tap House
DESCRIPTION:Happy Hour 3 PM – 6:30 PM
URL:https://renoriver.org/event/happy-hour-at-sierra-tap-house/2026-05-14/
CATEGORIES:Drink Specials,Happy Hour
ATTACH;FMTTYPE=image/png:https://renoriver.org/wp-content/uploads/2024/01/Happy_Hour_Sierra_Tap_House.png
END:VEVENT
BEGIN:VEVENT
DTSTART;TZID=America/Los_Angeles:20260515T150000
DTEND;TZID=America/Los_Angeles:20260515T183000
DTSTAMP:20260419T052827
CREATED:20240119T210741Z
LAST-MODIFIED:20250402T232028Z
UID:10007186-1778857200-1778869800@renoriver.org
SUMMARY:Happy Hour at Sierra Tap House
DESCRIPTION:Happy Hour 3 PM – 6:30 PM
URL:https://renoriver.org/event/happy-hour-at-sierra-tap-house/2026-05-15/
CATEGORIES:Drink Specials,Happy Hour
ATTACH;FMTTYPE=image/png:https://renoriver.org/wp-content/uploads/2024/01/Happy_Hour_Sierra_Tap_House.png
END:VEVENT
BEGIN:VEVENT
DTSTART;TZID=America/Los_Angeles:20260516T120000
DTEND;TZID=America/Los_Angeles:20260516T150000
DTSTAMP:20260419T052827
CREATED:20240119T210430Z
LAST-MODIFIED:20250402T234743Z
UID:10013472-1778932800-1778943600@renoriver.org
SUMMARY:Mimosa and Bloody Mary Weekend at Sierra Tap House
DESCRIPTION:Join us every weekend at Sierra Tap House for $6 Mimosas & Bloody Marys  between 12 PM – 3 PM
URL:https://renoriver.org/event/mimosa-and-bloody-mary-weekend-at-sierra-tap-house/2026-05-16/
CATEGORIES:Drink Specials,Happy Hour,Rush The River
ATTACH;FMTTYPE=image/png:https://renoriver.org/wp-content/uploads/2024/01/Mimosa_and_Bloody_Mary_Weekend.png
END:VEVENT
BEGIN:VEVENT
DTSTART;TZID=America/Los_Angeles:20260517T120000
DTEND;TZID=America/Los_Angeles:20260517T150000
DTSTAMP:20260419T052827
CREATED:20240119T210430Z
LAST-MODIFIED:20250402T234743Z
UID:10013473-1779019200-1779030000@renoriver.org
SUMMARY:Mimosa and Bloody Mary Weekend at Sierra Tap House
DESCRIPTION:Join us every weekend at Sierra Tap House for $6 Mimosas & Bloody Marys  between 12 PM – 3 PM
URL:https://renoriver.org/event/mimosa-and-bloody-mary-weekend-at-sierra-tap-house/2026-05-17/
CATEGORIES:Drink Specials,Happy Hour,Rush The River
ATTACH;FMTTYPE=image/png:https://renoriver.org/wp-content/uploads/2024/01/Mimosa_and_Bloody_Mary_Weekend.png
END:VEVENT
BEGIN:VEVENT
DTSTART;TZID=America/Los_Angeles:20260518T120000
DTEND;TZID=America/Los_Angeles:20260518T233000
DTSTAMP:20260419T052827
CREATED:20240119T205240Z
LAST-MODIFIED:20250402T235310Z
UID:10014620-1779105600-1779147000@renoriver.org
SUMMARY:All Day Happy Hour at Sierra Tap House
DESCRIPTION:Sierra Tap House \nAll Day Happy Hour 12 PM – 12 AM
URL:https://renoriver.org/event/all-day-happy-hour-at-sierra-tap-house/2026-05-18/
CATEGORIES:Drink Specials,Happy Hour
ATTACH;FMTTYPE=image/png:https://renoriver.org/wp-content/uploads/2024/01/All_Day_Happy_Hour_STH.png
END:VEVENT
END:VCALENDAR