BEGIN:VCALENDAR
VERSION:2.0
PRODID:-//The Riverwalk District - ECPv6.15.19//NONSGML v1.0//EN
CALSCALE:GREGORIAN
METHOD:PUBLISH
X-WR-CALNAME:The Riverwalk District
X-ORIGINAL-URL:https://renoriver.org
X-WR-CALDESC:Events for The Riverwalk District
REFRESH-INTERVAL;VALUE=DURATION:PT1H
X-Robots-Tag:noindex
X-PUBLISHED-TTL:PT1H
BEGIN:VTIMEZONE
TZID:America/Los_Angeles
BEGIN:DAYLIGHT
TZOFFSETFROM:-0800
TZOFFSETTO:-0700
TZNAME:PDT
DTSTART:20250309T100000
END:DAYLIGHT
BEGIN:STANDARD
TZOFFSETFROM:-0700
TZOFFSETTO:-0800
TZNAME:PST
DTSTART:20251102T090000
END:STANDARD
BEGIN:DAYLIGHT
TZOFFSETFROM:-0800
TZOFFSETTO:-0700
TZNAME:PDT
DTSTART:20260308T100000
END:DAYLIGHT
BEGIN:STANDARD
TZOFFSETFROM:-0700
TZOFFSETTO:-0800
TZNAME:PST
DTSTART:20261101T090000
END:STANDARD
BEGIN:DAYLIGHT
TZOFFSETFROM:-0800
TZOFFSETTO:-0700
TZNAME:PDT
DTSTART:20270314T100000
END:DAYLIGHT
BEGIN:STANDARD
TZOFFSETFROM:-0700
TZOFFSETTO:-0800
TZNAME:PST
DTSTART:20271107T090000
END:STANDARD
END:VTIMEZONE
BEGIN:VEVENT
DTSTART;TZID=America/Los_Angeles:20260223T150000
DTEND;TZID=America/Los_Angeles:20260223T180000
DTSTAMP:20260422T225242
CREATED:20240119T202643Z
LAST-MODIFIED:20250402T232328Z
UID:10010178-1771858800-1771869600@renoriver.org
SUMMARY:Shim's Happy Hour
DESCRIPTION:Daily Happy Hour Mon – Fri 3 PM – 6 PM. Enjoy two for one all drafts\, well drinks\, and house wines.
URL:https://renoriver.org/event/shims-happy-hour/2026-02-23/
CATEGORIES:Drink Specials,Happy Hour
ATTACH;FMTTYPE=image/jpeg:https://renoriver.org/wp-content/uploads/2023/10/380658482_861006098925568_8146902726083313491_n.jpg
END:VEVENT
BEGIN:VEVENT
DTSTART;TZID=America/Los_Angeles:20260224T150000
DTEND;TZID=America/Los_Angeles:20260224T180000
DTSTAMP:20260422T225242
CREATED:20240119T202643Z
LAST-MODIFIED:20250402T232328Z
UID:10010179-1771945200-1771956000@renoriver.org
SUMMARY:Shim's Happy Hour
DESCRIPTION:Daily Happy Hour Mon – Fri 3 PM – 6 PM. Enjoy two for one all drafts\, well drinks\, and house wines.
URL:https://renoriver.org/event/shims-happy-hour/2026-02-24/
CATEGORIES:Drink Specials,Happy Hour
ATTACH;FMTTYPE=image/jpeg:https://renoriver.org/wp-content/uploads/2023/10/380658482_861006098925568_8146902726083313491_n.jpg
END:VEVENT
BEGIN:VEVENT
DTSTART;TZID=America/Los_Angeles:20260225T150000
DTEND;TZID=America/Los_Angeles:20260225T233000
DTSTAMP:20260422T225242
CREATED:20240119T203545Z
LAST-MODIFIED:20250402T232730Z
UID:10011453-1772031600-1772062200@renoriver.org
SUMMARY:All Day Happy Hour at Shim's
DESCRIPTION:Celebrate Happy Hour all day with us! From 3:00 p.m to close\, enjoy two for one all drafts\, well drinks\, and house wines.
URL:https://renoriver.org/event/all-day-happy-hour-at-shims/2026-02-25/
CATEGORIES:Drink Specials,Happy Hour
ATTACH;FMTTYPE=image/png:https://renoriver.org/wp-content/uploads/2024/01/All_Day_Happy_Hour_Shims-1.png
END:VEVENT
BEGIN:VEVENT
DTSTART;TZID=America/Los_Angeles:20260226T150000
DTEND;TZID=America/Los_Angeles:20260226T180000
DTSTAMP:20260422T225242
CREATED:20240119T202643Z
LAST-MODIFIED:20250402T232328Z
UID:10010180-1772118000-1772128800@renoriver.org
SUMMARY:Shim's Happy Hour
DESCRIPTION:Daily Happy Hour Mon – Fri 3 PM – 6 PM. Enjoy two for one all drafts\, well drinks\, and house wines.
URL:https://renoriver.org/event/shims-happy-hour/2026-02-26/
CATEGORIES:Drink Specials,Happy Hour
ATTACH;FMTTYPE=image/jpeg:https://renoriver.org/wp-content/uploads/2023/10/380658482_861006098925568_8146902726083313491_n.jpg
END:VEVENT
BEGIN:VEVENT
DTSTART;TZID=America/Los_Angeles:20260227T150000
DTEND;TZID=America/Los_Angeles:20260227T180000
DTSTAMP:20260422T225242
CREATED:20240119T202643Z
LAST-MODIFIED:20250402T232328Z
UID:10010181-1772204400-1772215200@renoriver.org
SUMMARY:Shim's Happy Hour
DESCRIPTION:Daily Happy Hour Mon – Fri 3 PM – 6 PM. Enjoy two for one all drafts\, well drinks\, and house wines.
URL:https://renoriver.org/event/shims-happy-hour/2026-02-27/
CATEGORIES:Drink Specials,Happy Hour
ATTACH;FMTTYPE=image/jpeg:https://renoriver.org/wp-content/uploads/2023/10/380658482_861006098925568_8146902726083313491_n.jpg
END:VEVENT
BEGIN:VEVENT
DTSTART;TZID=America/Los_Angeles:20260228T150000
DTEND;TZID=America/Los_Angeles:20260228T170000
DTSTAMP:20260422T225242
CREATED:20240119T204108Z
LAST-MODIFIED:20250806T182407Z
UID:10016920-1772290800-1772298000@renoriver.org
SUMMARY:Bloody Mary and Mimosa Weekend at Shim's
DESCRIPTION:Spend your weekend at Shim’s from 3:00 p.m. – 5:00 p.m. where we’ll be serving up Mimosa Flights\, Mimosicles\, and $8 Bloody Marys!
URL:https://renoriver.org/event/bloody-mary-and-mimosa-weekend-at-shims/2026-02-28/
CATEGORIES:Drink Specials,Rush The River
ATTACH;FMTTYPE=image/png:https://renoriver.org/wp-content/uploads/2024/01/Screenshot-2025-08-06-at-11.22.51-AM.png
END:VEVENT
BEGIN:VEVENT
DTSTART;TZID=America/Los_Angeles:20260301T150000
DTEND;TZID=America/Los_Angeles:20260301T170000
DTSTAMP:20260422T225242
CREATED:20240119T204108Z
LAST-MODIFIED:20250806T182407Z
UID:10016921-1772377200-1772384400@renoriver.org
SUMMARY:Bloody Mary and Mimosa Weekend at Shim's
DESCRIPTION:Spend your weekend at Shim’s from 3:00 p.m. – 5:00 p.m. where we’ll be serving up Mimosa Flights\, Mimosicles\, and $8 Bloody Marys!
URL:https://renoriver.org/event/bloody-mary-and-mimosa-weekend-at-shims/2026-03-01/
CATEGORIES:Drink Specials,Rush The River
ATTACH;FMTTYPE=image/png:https://renoriver.org/wp-content/uploads/2024/01/Screenshot-2025-08-06-at-11.22.51-AM.png
END:VEVENT
END:VCALENDAR