BEGIN:VCALENDAR
VERSION:2.0
PRODID:-//The Riverwalk District - ECPv6.15.19//NONSGML v1.0//EN
CALSCALE:GREGORIAN
METHOD:PUBLISH
X-WR-CALNAME:The Riverwalk District
X-ORIGINAL-URL:https://renoriver.org
X-WR-CALDESC:Events for The Riverwalk District
REFRESH-INTERVAL;VALUE=DURATION:PT1H
X-Robots-Tag:noindex
X-PUBLISHED-TTL:PT1H
BEGIN:VTIMEZONE
TZID:America/Los_Angeles
BEGIN:DAYLIGHT
TZOFFSETFROM:-0800
TZOFFSETTO:-0700
TZNAME:PDT
DTSTART:20250309T100000
END:DAYLIGHT
BEGIN:STANDARD
TZOFFSETFROM:-0700
TZOFFSETTO:-0800
TZNAME:PST
DTSTART:20251102T090000
END:STANDARD
BEGIN:DAYLIGHT
TZOFFSETFROM:-0800
TZOFFSETTO:-0700
TZNAME:PDT
DTSTART:20260308T100000
END:DAYLIGHT
BEGIN:STANDARD
TZOFFSETFROM:-0700
TZOFFSETTO:-0800
TZNAME:PST
DTSTART:20261101T090000
END:STANDARD
BEGIN:DAYLIGHT
TZOFFSETFROM:-0800
TZOFFSETTO:-0700
TZNAME:PDT
DTSTART:20270314T100000
END:DAYLIGHT
BEGIN:STANDARD
TZOFFSETFROM:-0700
TZOFFSETTO:-0800
TZNAME:PST
DTSTART:20271107T090000
END:STANDARD
END:VTIMEZONE
BEGIN:VEVENT
DTSTART;TZID=America/Los_Angeles:20260509T100000
DTEND;TZID=America/Los_Angeles:20260509T130000
DTSTAMP:20260422T150444
CREATED:20250617T210706Z
LAST-MODIFIED:20251027T233043Z
UID:10016711-1778320800-1778331600@renoriver.org
SUMMARY:Reno Phil presents The Orchestra Moves
DESCRIPTION:Free Family Concert \nWiggles welcome!\nGet ready to move\, groove\, and feel the music at The Orchestra Moves—a free\, fun-filled family concert with the Reno Phil! Music isn’t just something we hear—it’s something we feel and move to! Watch as the orchestra brings sound to life\, soaring high and low\, creating exciting patterns\, and even making you want to dance in your seat! With interactive moments\, creative movement activities\, and plenty of surprises\, this concert is the perfect way for kids and families to experience the magic of music together. Come clap\, sway\, and discover how the orchestra moves—you won’t want to sit still for this one! \nThe concert is 1-hr. No advance ticket reservation is required. \nLobby Activities: Enjoy special activities for children on the plaza and in the concert hall lobbies related to the theme of the concert\, including a coloring station\, craft station\, and more. Activities take place from 10:00 AM – 10:55 AM for 11:00 AM concertgoers.
URL:https://renoriver.org/event/reno-phil-presents-the-orchestra-moves/
LOCATION:Pioneer Center for the Performing Arts
CATEGORIES:Concerts
ATTACH;FMTTYPE=image/png:https://renoriver.org/wp-content/uploads/2025/06/OrchMoves.png
END:VEVENT
BEGIN:VEVENT
DTSTART;TZID=America/Los_Angeles:20260516T190000
DTEND;TZID=America/Los_Angeles:20260516T210000
DTSTAMP:20260422T150444
CREATED:20250617T215707Z
LAST-MODIFIED:20251027T233040Z
UID:10016715-1778958000-1778965200@renoriver.org
SUMMARY:Reno Phil presents Movies with the Maestro
DESCRIPTION:Experience the magic of the movies like never before with Movies with the Maestro! Led by conductor Laura Jackson\, the Reno Phil will transport you through decades of cinematic brilliance\, performing critically acclaimed film scores from Hollywood’s most iconic blockbusters. Revisit the greatest film soundtracks of all time\, from the sweeping adventure of The Magnificent Seven and the timeless romance of Titanic to the epic heroism of The Avengers and beyond. Don’t miss this unforgettable night of music that brings the silver screen to life—live in concert! \nPLEASE NOTE: No images\, film clips or other media will be shown. The Reno Phil will be in the spotlight during this all-music program. We do encourage themed attire\, however prop weapons are NOT permitted at the venue. 
URL:https://renoriver.org/event/reno-phil-presents-movies-with-the-maestro-2/2026-05-16/
LOCATION:Pioneer Center for the Performing Arts
CATEGORIES:Concerts
ATTACH;FMTTYPE=image/png:https://renoriver.org/wp-content/uploads/2025/06/MovieswithMaestro.png
END:VEVENT
BEGIN:VEVENT
DTSTART;TZID=America/Los_Angeles:20260616T130000
DTEND;TZID=America/Los_Angeles:20260616T150000
DTSTAMP:20260422T150444
CREATED:20250617T215707Z
LAST-MODIFIED:20251027T233040Z
UID:10016716-1781614800-1781622000@renoriver.org
SUMMARY:Reno Phil presents Movies with the Maestro
DESCRIPTION:Experience the magic of the movies like never before with Movies with the Maestro! Led by conductor Laura Jackson\, the Reno Phil will transport you through decades of cinematic brilliance\, performing critically acclaimed film scores from Hollywood’s most iconic blockbusters. Revisit the greatest film soundtracks of all time\, from the sweeping adventure of The Magnificent Seven and the timeless romance of Titanic to the epic heroism of The Avengers and beyond. Don’t miss this unforgettable night of music that brings the silver screen to life—live in concert! \nPLEASE NOTE: No images\, film clips or other media will be shown. The Reno Phil will be in the spotlight during this all-music program. We do encourage themed attire\, however prop weapons are NOT permitted at the venue. 
URL:https://renoriver.org/event/reno-phil-presents-movies-with-the-maestro-2/2026-06-16/
LOCATION:Pioneer Center for the Performing Arts
CATEGORIES:Concerts
ATTACH;FMTTYPE=image/png:https://renoriver.org/wp-content/uploads/2025/06/MovieswithMaestro.png
END:VEVENT
END:VCALENDAR