BEGIN:VCALENDAR
VERSION:2.0
PRODID:-//The Riverwalk District - ECPv6.15.19//NONSGML v1.0//EN
CALSCALE:GREGORIAN
METHOD:PUBLISH
X-ORIGINAL-URL:https://renoriver.org
X-WR-CALDESC:Events for The Riverwalk District
REFRESH-INTERVAL;VALUE=DURATION:PT1H
X-Robots-Tag:noindex
X-PUBLISHED-TTL:PT1H
BEGIN:VTIMEZONE
TZID:America/Los_Angeles
BEGIN:DAYLIGHT
TZOFFSETFROM:-0800
TZOFFSETTO:-0700
TZNAME:PDT
DTSTART:20240310T100000
END:DAYLIGHT
BEGIN:STANDARD
TZOFFSETFROM:-0700
TZOFFSETTO:-0800
TZNAME:PST
DTSTART:20241103T090000
END:STANDARD
BEGIN:DAYLIGHT
TZOFFSETFROM:-0800
TZOFFSETTO:-0700
TZNAME:PDT
DTSTART:20250309T100000
END:DAYLIGHT
BEGIN:STANDARD
TZOFFSETFROM:-0700
TZOFFSETTO:-0800
TZNAME:PST
DTSTART:20251102T090000
END:STANDARD
BEGIN:DAYLIGHT
TZOFFSETFROM:-0800
TZOFFSETTO:-0700
TZNAME:PDT
DTSTART:20260308T100000
END:DAYLIGHT
BEGIN:STANDARD
TZOFFSETFROM:-0700
TZOFFSETTO:-0800
TZNAME:PST
DTSTART:20261101T090000
END:STANDARD
END:VTIMEZONE
BEGIN:VEVENT
DTSTART;VALUE=DATE:20251129
DTEND;VALUE=DATE:20251130
DTSTAMP:20260420T205909
CREATED:20251128T090051Z
LAST-MODIFIED:20251113T000828Z
UID:10018271-1764403200-1764435600@renoriver.org
SUMMARY:Black Friday and Small Business Saturday specials for Stereophonic!
DESCRIPTION:Take advantage of the Pioneer Center for the Performing Arts exciting Black Friday and Small Business Saturday specials for Stereophonic! For a limited time\, single seats are just $40\, and student rush tickets are available for only $25—making it easier than ever to experience this dynamic Broadway show. Plus\, don’t miss out on the fantastic Four-Show Bundle from BCTR\, offering significant savings and the chance to enjoy a variety of incredible performances throughout the season. Whether you’re treating yourself or gifting a theater lover\, these deals are perfect for celebrating live arts.
URL:https://renoriver.org/event/black-friday-and-small-business-saturday-specials-for-stereophonic/2025-11-29/
LOCATION:Pioneer Center for the Performing Arts
CATEGORIES:Special Events,Theater
ATTACH;FMTTYPE=image/png:https://renoriver.org/wp-content/uploads/2017/07/Visit.png
END:VEVENT
END:VCALENDAR