BEGIN:VCALENDAR
VERSION:2.0
PRODID:-//The Riverwalk District - ECPv6.15.19//NONSGML v1.0//EN
CALSCALE:GREGORIAN
METHOD:PUBLISH
X-WR-CALNAME:The Riverwalk District
X-ORIGINAL-URL:https://renoriver.org
X-WR-CALDESC:Events for The Riverwalk District
REFRESH-INTERVAL;VALUE=DURATION:PT1H
X-Robots-Tag:noindex
X-PUBLISHED-TTL:PT1H
BEGIN:VTIMEZONE
TZID:America/Los_Angeles
BEGIN:DAYLIGHT
TZOFFSETFROM:-0800
TZOFFSETTO:-0700
TZNAME:PDT
DTSTART:20240310T100000
END:DAYLIGHT
BEGIN:STANDARD
TZOFFSETFROM:-0700
TZOFFSETTO:-0800
TZNAME:PST
DTSTART:20241103T090000
END:STANDARD
BEGIN:DAYLIGHT
TZOFFSETFROM:-0800
TZOFFSETTO:-0700
TZNAME:PDT
DTSTART:20250309T100000
END:DAYLIGHT
BEGIN:STANDARD
TZOFFSETFROM:-0700
TZOFFSETTO:-0800
TZNAME:PST
DTSTART:20251102T090000
END:STANDARD
BEGIN:DAYLIGHT
TZOFFSETFROM:-0800
TZOFFSETTO:-0700
TZNAME:PDT
DTSTART:20260308T100000
END:DAYLIGHT
BEGIN:STANDARD
TZOFFSETFROM:-0700
TZOFFSETTO:-0800
TZNAME:PST
DTSTART:20261101T090000
END:STANDARD
END:VTIMEZONE
BEGIN:VEVENT
DTSTART;VALUE=DATE:20250501
DTEND;VALUE=DATE:20250502
DTSTAMP:20260425T120525
CREATED:20240903T191008Z
LAST-MODIFIED:20250402T230804Z
UID:10002001-1746057600-1746143999@renoriver.org
SUMMARY:Burger\, Beer\, & Shot $20 Any Day
DESCRIPTION:Our Burger (no substitutions) with fries on the side\, a select bottled beer\, and a well shot included.
URL:https://renoriver.org/event/burger-beer-shot-20-any-day/2025-05-01/
CATEGORIES:Daily Specials,Drink Specials,Food Specials,Rush The River
ATTACH;FMTTYPE=image/jpeg:https://renoriver.org/wp-content/uploads/2017/04/Black-and-White-Bottlecap-jpeg-Cory-Holdridge-scaled-1.jpg
END:VEVENT
BEGIN:VEVENT
DTSTART;TZID=America/Los_Angeles:20250501T150000
DTEND;TZID=America/Los_Angeles:20250501T180000
DTSTAMP:20260425T120525
CREATED:20240903T191454Z
LAST-MODIFIED:20250402T230705Z
UID:10000477-1746111600-1746122400@renoriver.org
SUMMARY:Our Bar Happy Hour
DESCRIPTION:Monday-Friday 3:00 pm – 6:00 pm $2.00 off any draft beer\, bottle\, can\, well cocktail\, or glass of wine.
URL:https://renoriver.org/event/our-bar-happy-hour/2025-05-01/
CATEGORIES:Daily Specials,Drink Specials
ATTACH;FMTTYPE=image/jpeg:https://renoriver.org/wp-content/uploads/2017/04/445356497_18398052727078431_6545476689669071342_n.jpg
END:VEVENT
BEGIN:VEVENT
DTSTART;VALUE=DATE:20250502
DTEND;VALUE=DATE:20250503
DTSTAMP:20260425T120525
CREATED:20240903T191008Z
LAST-MODIFIED:20250402T230804Z
UID:10002002-1746144000-1746230399@renoriver.org
SUMMARY:Burger\, Beer\, & Shot $20 Any Day
DESCRIPTION:Our Burger (no substitutions) with fries on the side\, a select bottled beer\, and a well shot included.
URL:https://renoriver.org/event/burger-beer-shot-20-any-day/2025-05-02/
CATEGORIES:Daily Specials,Drink Specials,Food Specials,Rush The River
ATTACH;FMTTYPE=image/jpeg:https://renoriver.org/wp-content/uploads/2017/04/Black-and-White-Bottlecap-jpeg-Cory-Holdridge-scaled-1.jpg
END:VEVENT
BEGIN:VEVENT
DTSTART;TZID=America/Los_Angeles:20250502T150000
DTEND;TZID=America/Los_Angeles:20250502T180000
DTSTAMP:20260425T120525
CREATED:20240903T191454Z
LAST-MODIFIED:20250402T230705Z
UID:10000478-1746198000-1746208800@renoriver.org
SUMMARY:Our Bar Happy Hour
DESCRIPTION:Monday-Friday 3:00 pm – 6:00 pm $2.00 off any draft beer\, bottle\, can\, well cocktail\, or glass of wine.
URL:https://renoriver.org/event/our-bar-happy-hour/2025-05-02/
CATEGORIES:Daily Specials,Drink Specials
ATTACH;FMTTYPE=image/jpeg:https://renoriver.org/wp-content/uploads/2017/04/445356497_18398052727078431_6545476689669071342_n.jpg
END:VEVENT
BEGIN:VEVENT
DTSTART;VALUE=DATE:20250503
DTEND;VALUE=DATE:20250504
DTSTAMP:20260425T120525
CREATED:20240903T191008Z
LAST-MODIFIED:20250402T230804Z
UID:10002003-1746230400-1746316799@renoriver.org
SUMMARY:Burger\, Beer\, & Shot $20 Any Day
DESCRIPTION:Our Burger (no substitutions) with fries on the side\, a select bottled beer\, and a well shot included.
URL:https://renoriver.org/event/burger-beer-shot-20-any-day/2025-05-03/
CATEGORIES:Daily Specials,Drink Specials,Food Specials,Rush The River
ATTACH;FMTTYPE=image/jpeg:https://renoriver.org/wp-content/uploads/2017/04/Black-and-White-Bottlecap-jpeg-Cory-Holdridge-scaled-1.jpg
END:VEVENT
BEGIN:VEVENT
DTSTART;VALUE=DATE:20250504
DTEND;VALUE=DATE:20250505
DTSTAMP:20260425T120525
CREATED:20240903T191008Z
LAST-MODIFIED:20250402T230804Z
UID:10002004-1746316800-1746403199@renoriver.org
SUMMARY:Burger\, Beer\, & Shot $20 Any Day
DESCRIPTION:Our Burger (no substitutions) with fries on the side\, a select bottled beer\, and a well shot included.
URL:https://renoriver.org/event/burger-beer-shot-20-any-day/2025-05-04/
CATEGORIES:Daily Specials,Drink Specials,Food Specials,Rush The River
ATTACH;FMTTYPE=image/jpeg:https://renoriver.org/wp-content/uploads/2017/04/Black-and-White-Bottlecap-jpeg-Cory-Holdridge-scaled-1.jpg
END:VEVENT
BEGIN:VEVENT
DTSTART;VALUE=DATE:20250505
DTEND;VALUE=DATE:20250506
DTSTAMP:20260425T120525
CREATED:20240903T191008Z
LAST-MODIFIED:20250402T230804Z
UID:10002005-1746403200-1746489599@renoriver.org
SUMMARY:Burger\, Beer\, & Shot $20 Any Day
DESCRIPTION:Our Burger (no substitutions) with fries on the side\, a select bottled beer\, and a well shot included.
URL:https://renoriver.org/event/burger-beer-shot-20-any-day/2025-05-05/
CATEGORIES:Daily Specials,Drink Specials,Food Specials,Rush The River
ATTACH;FMTTYPE=image/jpeg:https://renoriver.org/wp-content/uploads/2017/04/Black-and-White-Bottlecap-jpeg-Cory-Holdridge-scaled-1.jpg
END:VEVENT
BEGIN:VEVENT
DTSTART;TZID=America/Los_Angeles:20250505T150000
DTEND;TZID=America/Los_Angeles:20250505T180000
DTSTAMP:20260425T120525
CREATED:20240903T191454Z
LAST-MODIFIED:20250402T230705Z
UID:10000479-1746457200-1746468000@renoriver.org
SUMMARY:Our Bar Happy Hour
DESCRIPTION:Monday-Friday 3:00 pm – 6:00 pm $2.00 off any draft beer\, bottle\, can\, well cocktail\, or glass of wine.
URL:https://renoriver.org/event/our-bar-happy-hour/2025-05-05/
CATEGORIES:Daily Specials,Drink Specials
ATTACH;FMTTYPE=image/jpeg:https://renoriver.org/wp-content/uploads/2017/04/445356497_18398052727078431_6545476689669071342_n.jpg
END:VEVENT
BEGIN:VEVENT
DTSTART;VALUE=DATE:20250506
DTEND;VALUE=DATE:20250507
DTSTAMP:20260425T120525
CREATED:20240903T191008Z
LAST-MODIFIED:20250402T230804Z
UID:10002006-1746489600-1746575999@renoriver.org
SUMMARY:Burger\, Beer\, & Shot $20 Any Day
DESCRIPTION:Our Burger (no substitutions) with fries on the side\, a select bottled beer\, and a well shot included.
URL:https://renoriver.org/event/burger-beer-shot-20-any-day/2025-05-06/
CATEGORIES:Daily Specials,Drink Specials,Food Specials,Rush The River
ATTACH;FMTTYPE=image/jpeg:https://renoriver.org/wp-content/uploads/2017/04/Black-and-White-Bottlecap-jpeg-Cory-Holdridge-scaled-1.jpg
END:VEVENT
BEGIN:VEVENT
DTSTART;TZID=America/Los_Angeles:20250506T110000
DTEND;TZID=America/Los_Angeles:20250506T230000
DTSTAMP:20260425T120525
CREATED:20240903T190432Z
LAST-MODIFIED:20250402T230542Z
UID:10000052-1746529200-1746572400@renoriver.org
SUMMARY:$3 Taco Tuesday
DESCRIPTION:3 types of tacos offered for $3 each along with numerous $3 beverage options.
URL:https://renoriver.org/event/3-taco-tuesday/2025-05-06/
CATEGORIES:Drink Specials,Food Specials
ATTACH;FMTTYPE=image/jpeg:https://renoriver.org/wp-content/uploads/2017/04/Tuesday-Taco-Cory-Holdridge.jpg
END:VEVENT
BEGIN:VEVENT
DTSTART;TZID=America/Los_Angeles:20250506T150000
DTEND;TZID=America/Los_Angeles:20250506T180000
DTSTAMP:20260425T120525
CREATED:20240903T191454Z
LAST-MODIFIED:20250402T230705Z
UID:10000480-1746543600-1746554400@renoriver.org
SUMMARY:Our Bar Happy Hour
DESCRIPTION:Monday-Friday 3:00 pm – 6:00 pm $2.00 off any draft beer\, bottle\, can\, well cocktail\, or glass of wine.
URL:https://renoriver.org/event/our-bar-happy-hour/2025-05-06/
CATEGORIES:Daily Specials,Drink Specials
ATTACH;FMTTYPE=image/jpeg:https://renoriver.org/wp-content/uploads/2017/04/445356497_18398052727078431_6545476689669071342_n.jpg
END:VEVENT
BEGIN:VEVENT
DTSTART;VALUE=DATE:20250507
DTEND;VALUE=DATE:20250508
DTSTAMP:20260425T120525
CREATED:20240903T191008Z
LAST-MODIFIED:20250402T230804Z
UID:10002007-1746576000-1746662399@renoriver.org
SUMMARY:Burger\, Beer\, & Shot $20 Any Day
DESCRIPTION:Our Burger (no substitutions) with fries on the side\, a select bottled beer\, and a well shot included.
URL:https://renoriver.org/event/burger-beer-shot-20-any-day/2025-05-07/
CATEGORIES:Daily Specials,Drink Specials,Food Specials,Rush The River
ATTACH;FMTTYPE=image/jpeg:https://renoriver.org/wp-content/uploads/2017/04/Black-and-White-Bottlecap-jpeg-Cory-Holdridge-scaled-1.jpg
END:VEVENT
BEGIN:VEVENT
DTSTART;TZID=America/Los_Angeles:20250507T150000
DTEND;TZID=America/Los_Angeles:20250507T180000
DTSTAMP:20260425T120525
CREATED:20240903T191454Z
LAST-MODIFIED:20250402T230705Z
UID:10000481-1746630000-1746640800@renoriver.org
SUMMARY:Our Bar Happy Hour
DESCRIPTION:Monday-Friday 3:00 pm – 6:00 pm $2.00 off any draft beer\, bottle\, can\, well cocktail\, or glass of wine.
URL:https://renoriver.org/event/our-bar-happy-hour/2025-05-07/
CATEGORIES:Daily Specials,Drink Specials
ATTACH;FMTTYPE=image/jpeg:https://renoriver.org/wp-content/uploads/2017/04/445356497_18398052727078431_6545476689669071342_n.jpg
END:VEVENT
BEGIN:VEVENT
DTSTART;VALUE=DATE:20250508
DTEND;VALUE=DATE:20250509
DTSTAMP:20260425T120525
CREATED:20240903T191008Z
LAST-MODIFIED:20250402T230804Z
UID:10002008-1746662400-1746748799@renoriver.org
SUMMARY:Burger\, Beer\, & Shot $20 Any Day
DESCRIPTION:Our Burger (no substitutions) with fries on the side\, a select bottled beer\, and a well shot included.
URL:https://renoriver.org/event/burger-beer-shot-20-any-day/2025-05-08/
CATEGORIES:Daily Specials,Drink Specials,Food Specials,Rush The River
ATTACH;FMTTYPE=image/jpeg:https://renoriver.org/wp-content/uploads/2017/04/Black-and-White-Bottlecap-jpeg-Cory-Holdridge-scaled-1.jpg
END:VEVENT
BEGIN:VEVENT
DTSTART;TZID=America/Los_Angeles:20250508T150000
DTEND;TZID=America/Los_Angeles:20250508T180000
DTSTAMP:20260425T120525
CREATED:20240903T191454Z
LAST-MODIFIED:20250402T230705Z
UID:10000482-1746716400-1746727200@renoriver.org
SUMMARY:Our Bar Happy Hour
DESCRIPTION:Monday-Friday 3:00 pm – 6:00 pm $2.00 off any draft beer\, bottle\, can\, well cocktail\, or glass of wine.
URL:https://renoriver.org/event/our-bar-happy-hour/2025-05-08/
CATEGORIES:Daily Specials,Drink Specials
ATTACH;FMTTYPE=image/jpeg:https://renoriver.org/wp-content/uploads/2017/04/445356497_18398052727078431_6545476689669071342_n.jpg
END:VEVENT
BEGIN:VEVENT
DTSTART;VALUE=DATE:20250509
DTEND;VALUE=DATE:20250510
DTSTAMP:20260425T120525
CREATED:20240903T191008Z
LAST-MODIFIED:20250402T230804Z
UID:10002009-1746748800-1746835199@renoriver.org
SUMMARY:Burger\, Beer\, & Shot $20 Any Day
DESCRIPTION:Our Burger (no substitutions) with fries on the side\, a select bottled beer\, and a well shot included.
URL:https://renoriver.org/event/burger-beer-shot-20-any-day/2025-05-09/
CATEGORIES:Daily Specials,Drink Specials,Food Specials,Rush The River
ATTACH;FMTTYPE=image/jpeg:https://renoriver.org/wp-content/uploads/2017/04/Black-and-White-Bottlecap-jpeg-Cory-Holdridge-scaled-1.jpg
END:VEVENT
BEGIN:VEVENT
DTSTART;TZID=America/Los_Angeles:20250509T150000
DTEND;TZID=America/Los_Angeles:20250509T180000
DTSTAMP:20260425T120525
CREATED:20240903T191454Z
LAST-MODIFIED:20250402T230705Z
UID:10000483-1746802800-1746813600@renoriver.org
SUMMARY:Our Bar Happy Hour
DESCRIPTION:Monday-Friday 3:00 pm – 6:00 pm $2.00 off any draft beer\, bottle\, can\, well cocktail\, or glass of wine.
URL:https://renoriver.org/event/our-bar-happy-hour/2025-05-09/
CATEGORIES:Daily Specials,Drink Specials
ATTACH;FMTTYPE=image/jpeg:https://renoriver.org/wp-content/uploads/2017/04/445356497_18398052727078431_6545476689669071342_n.jpg
END:VEVENT
BEGIN:VEVENT
DTSTART;VALUE=DATE:20250510
DTEND;VALUE=DATE:20250511
DTSTAMP:20260425T120525
CREATED:20240903T191008Z
LAST-MODIFIED:20250402T230804Z
UID:10002010-1746835200-1746921599@renoriver.org
SUMMARY:Burger\, Beer\, & Shot $20 Any Day
DESCRIPTION:Our Burger (no substitutions) with fries on the side\, a select bottled beer\, and a well shot included.
URL:https://renoriver.org/event/burger-beer-shot-20-any-day/2025-05-10/
CATEGORIES:Daily Specials,Drink Specials,Food Specials,Rush The River
ATTACH;FMTTYPE=image/jpeg:https://renoriver.org/wp-content/uploads/2017/04/Black-and-White-Bottlecap-jpeg-Cory-Holdridge-scaled-1.jpg
END:VEVENT
BEGIN:VEVENT
DTSTART;VALUE=DATE:20250511
DTEND;VALUE=DATE:20250512
DTSTAMP:20260425T120525
CREATED:20240903T191008Z
LAST-MODIFIED:20250402T230804Z
UID:10002011-1746921600-1747007999@renoriver.org
SUMMARY:Burger\, Beer\, & Shot $20 Any Day
DESCRIPTION:Our Burger (no substitutions) with fries on the side\, a select bottled beer\, and a well shot included.
URL:https://renoriver.org/event/burger-beer-shot-20-any-day/2025-05-11/
CATEGORIES:Daily Specials,Drink Specials,Food Specials,Rush The River
ATTACH;FMTTYPE=image/jpeg:https://renoriver.org/wp-content/uploads/2017/04/Black-and-White-Bottlecap-jpeg-Cory-Holdridge-scaled-1.jpg
END:VEVENT
BEGIN:VEVENT
DTSTART;VALUE=DATE:20250512
DTEND;VALUE=DATE:20250513
DTSTAMP:20260425T120525
CREATED:20240903T191008Z
LAST-MODIFIED:20250402T230804Z
UID:10002012-1747008000-1747094399@renoriver.org
SUMMARY:Burger\, Beer\, & Shot $20 Any Day
DESCRIPTION:Our Burger (no substitutions) with fries on the side\, a select bottled beer\, and a well shot included.
URL:https://renoriver.org/event/burger-beer-shot-20-any-day/2025-05-12/
CATEGORIES:Daily Specials,Drink Specials,Food Specials,Rush The River
ATTACH;FMTTYPE=image/jpeg:https://renoriver.org/wp-content/uploads/2017/04/Black-and-White-Bottlecap-jpeg-Cory-Holdridge-scaled-1.jpg
END:VEVENT
BEGIN:VEVENT
DTSTART;TZID=America/Los_Angeles:20250512T150000
DTEND;TZID=America/Los_Angeles:20250512T180000
DTSTAMP:20260425T120525
CREATED:20240903T191454Z
LAST-MODIFIED:20250402T230705Z
UID:10000484-1747062000-1747072800@renoriver.org
SUMMARY:Our Bar Happy Hour
DESCRIPTION:Monday-Friday 3:00 pm – 6:00 pm $2.00 off any draft beer\, bottle\, can\, well cocktail\, or glass of wine.
URL:https://renoriver.org/event/our-bar-happy-hour/2025-05-12/
CATEGORIES:Daily Specials,Drink Specials
ATTACH;FMTTYPE=image/jpeg:https://renoriver.org/wp-content/uploads/2017/04/445356497_18398052727078431_6545476689669071342_n.jpg
END:VEVENT
BEGIN:VEVENT
DTSTART;VALUE=DATE:20250513
DTEND;VALUE=DATE:20250514
DTSTAMP:20260425T120525
CREATED:20240903T191008Z
LAST-MODIFIED:20250402T230804Z
UID:10002013-1747094400-1747180799@renoriver.org
SUMMARY:Burger\, Beer\, & Shot $20 Any Day
DESCRIPTION:Our Burger (no substitutions) with fries on the side\, a select bottled beer\, and a well shot included.
URL:https://renoriver.org/event/burger-beer-shot-20-any-day/2025-05-13/
CATEGORIES:Daily Specials,Drink Specials,Food Specials,Rush The River
ATTACH;FMTTYPE=image/jpeg:https://renoriver.org/wp-content/uploads/2017/04/Black-and-White-Bottlecap-jpeg-Cory-Holdridge-scaled-1.jpg
END:VEVENT
BEGIN:VEVENT
DTSTART;TZID=America/Los_Angeles:20250513T110000
DTEND;TZID=America/Los_Angeles:20250513T230000
DTSTAMP:20260425T120525
CREATED:20240903T190432Z
LAST-MODIFIED:20250402T230542Z
UID:10000053-1747134000-1747177200@renoriver.org
SUMMARY:$3 Taco Tuesday
DESCRIPTION:3 types of tacos offered for $3 each along with numerous $3 beverage options.
URL:https://renoriver.org/event/3-taco-tuesday/2025-05-13/
CATEGORIES:Drink Specials,Food Specials
ATTACH;FMTTYPE=image/jpeg:https://renoriver.org/wp-content/uploads/2017/04/Tuesday-Taco-Cory-Holdridge.jpg
END:VEVENT
BEGIN:VEVENT
DTSTART;TZID=America/Los_Angeles:20250513T150000
DTEND;TZID=America/Los_Angeles:20250513T180000
DTSTAMP:20260425T120525
CREATED:20240903T191454Z
LAST-MODIFIED:20250402T230705Z
UID:10000485-1747148400-1747159200@renoriver.org
SUMMARY:Our Bar Happy Hour
DESCRIPTION:Monday-Friday 3:00 pm – 6:00 pm $2.00 off any draft beer\, bottle\, can\, well cocktail\, or glass of wine.
URL:https://renoriver.org/event/our-bar-happy-hour/2025-05-13/
CATEGORIES:Daily Specials,Drink Specials
ATTACH;FMTTYPE=image/jpeg:https://renoriver.org/wp-content/uploads/2017/04/445356497_18398052727078431_6545476689669071342_n.jpg
END:VEVENT
BEGIN:VEVENT
DTSTART;VALUE=DATE:20250514
DTEND;VALUE=DATE:20250515
DTSTAMP:20260425T120525
CREATED:20240903T191008Z
LAST-MODIFIED:20250402T230804Z
UID:10002014-1747180800-1747267199@renoriver.org
SUMMARY:Burger\, Beer\, & Shot $20 Any Day
DESCRIPTION:Our Burger (no substitutions) with fries on the side\, a select bottled beer\, and a well shot included.
URL:https://renoriver.org/event/burger-beer-shot-20-any-day/2025-05-14/
CATEGORIES:Daily Specials,Drink Specials,Food Specials,Rush The River
ATTACH;FMTTYPE=image/jpeg:https://renoriver.org/wp-content/uploads/2017/04/Black-and-White-Bottlecap-jpeg-Cory-Holdridge-scaled-1.jpg
END:VEVENT
BEGIN:VEVENT
DTSTART;TZID=America/Los_Angeles:20250514T150000
DTEND;TZID=America/Los_Angeles:20250514T180000
DTSTAMP:20260425T120525
CREATED:20240903T191454Z
LAST-MODIFIED:20250402T230705Z
UID:10000486-1747234800-1747245600@renoriver.org
SUMMARY:Our Bar Happy Hour
DESCRIPTION:Monday-Friday 3:00 pm – 6:00 pm $2.00 off any draft beer\, bottle\, can\, well cocktail\, or glass of wine.
URL:https://renoriver.org/event/our-bar-happy-hour/2025-05-14/
CATEGORIES:Daily Specials,Drink Specials
ATTACH;FMTTYPE=image/jpeg:https://renoriver.org/wp-content/uploads/2017/04/445356497_18398052727078431_6545476689669071342_n.jpg
END:VEVENT
BEGIN:VEVENT
DTSTART;VALUE=DATE:20250515
DTEND;VALUE=DATE:20250516
DTSTAMP:20260425T120525
CREATED:20240903T191008Z
LAST-MODIFIED:20250402T230804Z
UID:10002015-1747267200-1747353599@renoriver.org
SUMMARY:Burger\, Beer\, & Shot $20 Any Day
DESCRIPTION:Our Burger (no substitutions) with fries on the side\, a select bottled beer\, and a well shot included.
URL:https://renoriver.org/event/burger-beer-shot-20-any-day/2025-05-15/
CATEGORIES:Daily Specials,Drink Specials,Food Specials,Rush The River
ATTACH;FMTTYPE=image/jpeg:https://renoriver.org/wp-content/uploads/2017/04/Black-and-White-Bottlecap-jpeg-Cory-Holdridge-scaled-1.jpg
END:VEVENT
BEGIN:VEVENT
DTSTART;TZID=America/Los_Angeles:20250515T150000
DTEND;TZID=America/Los_Angeles:20250515T180000
DTSTAMP:20260425T120525
CREATED:20240903T191454Z
LAST-MODIFIED:20250402T230705Z
UID:10000487-1747321200-1747332000@renoriver.org
SUMMARY:Our Bar Happy Hour
DESCRIPTION:Monday-Friday 3:00 pm – 6:00 pm $2.00 off any draft beer\, bottle\, can\, well cocktail\, or glass of wine.
URL:https://renoriver.org/event/our-bar-happy-hour/2025-05-15/
CATEGORIES:Daily Specials,Drink Specials
ATTACH;FMTTYPE=image/jpeg:https://renoriver.org/wp-content/uploads/2017/04/445356497_18398052727078431_6545476689669071342_n.jpg
END:VEVENT
BEGIN:VEVENT
DTSTART;VALUE=DATE:20250516
DTEND;VALUE=DATE:20250517
DTSTAMP:20260425T120525
CREATED:20240903T191008Z
LAST-MODIFIED:20250402T230804Z
UID:10002016-1747353600-1747439999@renoriver.org
SUMMARY:Burger\, Beer\, & Shot $20 Any Day
DESCRIPTION:Our Burger (no substitutions) with fries on the side\, a select bottled beer\, and a well shot included.
URL:https://renoriver.org/event/burger-beer-shot-20-any-day/2025-05-16/
CATEGORIES:Daily Specials,Drink Specials,Food Specials,Rush The River
ATTACH;FMTTYPE=image/jpeg:https://renoriver.org/wp-content/uploads/2017/04/Black-and-White-Bottlecap-jpeg-Cory-Holdridge-scaled-1.jpg
END:VEVENT
BEGIN:VEVENT
DTSTART;TZID=America/Los_Angeles:20250516T150000
DTEND;TZID=America/Los_Angeles:20250516T180000
DTSTAMP:20260425T120525
CREATED:20240903T191454Z
LAST-MODIFIED:20250402T230705Z
UID:10000488-1747407600-1747418400@renoriver.org
SUMMARY:Our Bar Happy Hour
DESCRIPTION:Monday-Friday 3:00 pm – 6:00 pm $2.00 off any draft beer\, bottle\, can\, well cocktail\, or glass of wine.
URL:https://renoriver.org/event/our-bar-happy-hour/2025-05-16/
CATEGORIES:Daily Specials,Drink Specials
ATTACH;FMTTYPE=image/jpeg:https://renoriver.org/wp-content/uploads/2017/04/445356497_18398052727078431_6545476689669071342_n.jpg
END:VEVENT
END:VCALENDAR