BEGIN:VCALENDAR
VERSION:2.0
PRODID:-//The Riverwalk District - ECPv6.15.19//NONSGML v1.0//EN
CALSCALE:GREGORIAN
METHOD:PUBLISH
X-WR-CALNAME:The Riverwalk District
X-ORIGINAL-URL:https://renoriver.org
X-WR-CALDESC:Events for The Riverwalk District
REFRESH-INTERVAL;VALUE=DURATION:PT1H
X-Robots-Tag:noindex
X-PUBLISHED-TTL:PT1H
BEGIN:VTIMEZONE
TZID:America/Los_Angeles
BEGIN:DAYLIGHT
TZOFFSETFROM:-0800
TZOFFSETTO:-0700
TZNAME:PDT
DTSTART:20250309T100000
END:DAYLIGHT
BEGIN:STANDARD
TZOFFSETFROM:-0700
TZOFFSETTO:-0800
TZNAME:PST
DTSTART:20251102T090000
END:STANDARD
BEGIN:DAYLIGHT
TZOFFSETFROM:-0800
TZOFFSETTO:-0700
TZNAME:PDT
DTSTART:20260308T100000
END:DAYLIGHT
BEGIN:STANDARD
TZOFFSETFROM:-0700
TZOFFSETTO:-0800
TZNAME:PST
DTSTART:20261101T090000
END:STANDARD
BEGIN:DAYLIGHT
TZOFFSETFROM:-0800
TZOFFSETTO:-0700
TZNAME:PDT
DTSTART:20270314T100000
END:DAYLIGHT
BEGIN:STANDARD
TZOFFSETFROM:-0700
TZOFFSETTO:-0800
TZNAME:PST
DTSTART:20271107T090000
END:STANDARD
END:VTIMEZONE
BEGIN:VEVENT
DTSTART;TZID=America/Los_Angeles:20260511T150000
DTEND;TZID=America/Los_Angeles:20260511T180000
DTSTAMP:20260422T223457
CREATED:20240214T194005Z
LAST-MODIFIED:20250402T232208Z
UID:10008758-1778511600-1778522400@renoriver.org
SUMMARY:Happy Hour at Ole Bridge Pub
DESCRIPTION:Enjoy $2 off most beer\, house wine\, and well drinks.
URL:https://renoriver.org/event/happy-hour-at-ole-bridge-pub/2026-05-11/
CATEGORIES:Drink Specials,Happy Hour
ATTACH;FMTTYPE=image/jpeg:https://renoriver.org/wp-content/uploads/2024/06/social_tiles7.1.jpg
END:VEVENT
BEGIN:VEVENT
DTSTART;TZID=America/Los_Angeles:20260511T150000
DTEND;TZID=America/Los_Angeles:20260511T233000
DTSTAMP:20260422T223457
CREATED:20240214T194538Z
LAST-MODIFIED:20250402T235357Z
UID:10014934-1778511600-1778542200@renoriver.org
SUMMARY:Monday Mules at Ole Bridge Pub
DESCRIPTION:Enjoy $2 off our Moscow Mules
URL:https://renoriver.org/event/monday-mules-at-ole-bridge-pub/2026-05-11/
CATEGORIES:Drink Specials
ATTACH;FMTTYPE=image/png:https://renoriver.org/wp-content/uploads/2024/06/social_tiles_can_wednesday9.png
END:VEVENT
BEGIN:VEVENT
DTSTART;TZID=America/Los_Angeles:20260512T150000
DTEND;TZID=America/Los_Angeles:20260512T180000
DTSTAMP:20260422T223457
CREATED:20240214T194005Z
LAST-MODIFIED:20250402T232208Z
UID:10008759-1778598000-1778608800@renoriver.org
SUMMARY:Happy Hour at Ole Bridge Pub
DESCRIPTION:Enjoy $2 off most beer\, house wine\, and well drinks.
URL:https://renoriver.org/event/happy-hour-at-ole-bridge-pub/2026-05-12/
CATEGORIES:Drink Specials,Happy Hour
ATTACH;FMTTYPE=image/jpeg:https://renoriver.org/wp-content/uploads/2024/06/social_tiles7.1.jpg
END:VEVENT
BEGIN:VEVENT
DTSTART;TZID=America/Los_Angeles:20260512T150000
DTEND;TZID=America/Los_Angeles:20260512T233000
DTSTAMP:20260422T223457
CREATED:20240214T205722Z
LAST-MODIFIED:20250402T231834Z
UID:10006419-1778598000-1778628600@renoriver.org
SUMMARY:Local Tuesdays at Ole Bridge Pub
DESCRIPTION:Enjoy $2 off our Moscow Mules
URL:https://renoriver.org/event/local-tuesdays-at-ole-bridge-pub/2026-05-12/
CATEGORIES:Drink Specials
ATTACH;FMTTYPE=image/png:https://renoriver.org/wp-content/uploads/2024/06/social_tiles6.png
END:VEVENT
BEGIN:VEVENT
DTSTART;TZID=America/Los_Angeles:20260513T150000
DTEND;TZID=America/Los_Angeles:20260513T180000
DTSTAMP:20260422T223457
CREATED:20240214T194005Z
LAST-MODIFIED:20250402T232208Z
UID:10008760-1778684400-1778695200@renoriver.org
SUMMARY:Happy Hour at Ole Bridge Pub
DESCRIPTION:Enjoy $2 off most beer\, house wine\, and well drinks.
URL:https://renoriver.org/event/happy-hour-at-ole-bridge-pub/2026-05-13/
CATEGORIES:Drink Specials,Happy Hour
ATTACH;FMTTYPE=image/jpeg:https://renoriver.org/wp-content/uploads/2024/06/social_tiles7.1.jpg
END:VEVENT
BEGIN:VEVENT
DTSTART;TZID=America/Los_Angeles:20260513T150000
DTEND;TZID=America/Los_Angeles:20260513T233000
DTSTAMP:20260422T223457
CREATED:20240214T194930Z
LAST-MODIFIED:20250402T232950Z
UID:10011779-1778684400-1778715000@renoriver.org
SUMMARY:Can Wednesdays at Ole Bridge Pub
DESCRIPTION:Enjoy $2 off all cans
URL:https://renoriver.org/event/can-wednesdays-at-ole-bridge-pub/2026-05-13/
CATEGORIES:Drink Specials
ATTACH;FMTTYPE=image/png:https://renoriver.org/wp-content/uploads/2024/06/social_tiles_can_wednesday10.png
END:VEVENT
BEGIN:VEVENT
DTSTART;TZID=America/Los_Angeles:20260513T190000
DTEND;TZID=America/Los_Angeles:20260513T210000
DTSTAMP:20260422T223457
CREATED:20240214T204301Z
LAST-MODIFIED:20250402T233103Z
UID:10012094-1778698800-1778706000@renoriver.org
SUMMARY:DJ Trivia at Ole Bridge Pub
DESCRIPTION:Fun\, Live\, Interactive Trivia Game that includes you\, your team\, other teams\, and a live DJ host. Every Wednesday 7-9pm
URL:https://renoriver.org/event/dj-trivia-at-ole-bridge-pub/2026-05-13/
CATEGORIES:DJ Trivia
ATTACH;FMTTYPE=image/png:https://renoriver.org/wp-content/uploads/2024/06/social_tiles_DJ_trivia11.png
END:VEVENT
BEGIN:VEVENT
DTSTART;TZID=America/Los_Angeles:20260514T150000
DTEND;TZID=America/Los_Angeles:20260514T180000
DTSTAMP:20260422T223457
CREATED:20240214T194005Z
LAST-MODIFIED:20250402T232208Z
UID:10008761-1778770800-1778781600@renoriver.org
SUMMARY:Happy Hour at Ole Bridge Pub
DESCRIPTION:Enjoy $2 off most beer\, house wine\, and well drinks.
URL:https://renoriver.org/event/happy-hour-at-ole-bridge-pub/2026-05-14/
CATEGORIES:Drink Specials,Happy Hour
ATTACH;FMTTYPE=image/jpeg:https://renoriver.org/wp-content/uploads/2024/06/social_tiles7.1.jpg
END:VEVENT
BEGIN:VEVENT
DTSTART;TZID=America/Los_Angeles:20260515T150000
DTEND;TZID=America/Los_Angeles:20260515T180000
DTSTAMP:20260422T223457
CREATED:20240214T194005Z
LAST-MODIFIED:20250402T232208Z
UID:10008762-1778857200-1778868000@renoriver.org
SUMMARY:Happy Hour at Ole Bridge Pub
DESCRIPTION:Enjoy $2 off most beer\, house wine\, and well drinks.
URL:https://renoriver.org/event/happy-hour-at-ole-bridge-pub/2026-05-15/
CATEGORIES:Drink Specials,Happy Hour
ATTACH;FMTTYPE=image/jpeg:https://renoriver.org/wp-content/uploads/2024/06/social_tiles7.1.jpg
END:VEVENT
BEGIN:VEVENT
DTSTART;TZID=America/Los_Angeles:20260517T120000
DTEND;TZID=America/Los_Angeles:20260517T233000
DTSTAMP:20260422T223457
CREATED:20240214T205028Z
LAST-MODIFIED:20250402T234918Z
UID:10013990-1779019200-1779060600@renoriver.org
SUMMARY:Bloody Mary Sundays at Ole Bridge Pub
DESCRIPTION:Enjoy All-Day $6 Bloody Marys & $15 All-You Can Drink Mimosas 12PM – 2PM.
URL:https://renoriver.org/event/bloody-mary-sundays-at-ole-bridge-pub/2026-05-17/
CATEGORIES:Drink Specials,Rush The River
ATTACH;FMTTYPE=image/jpeg:https://renoriver.org/wp-content/uploads/2024/06/social_tiles10.jpg
END:VEVENT
BEGIN:VEVENT
DTSTART;TZID=America/Los_Angeles:20260518T150000
DTEND;TZID=America/Los_Angeles:20260518T180000
DTSTAMP:20260422T223457
CREATED:20240214T194005Z
LAST-MODIFIED:20250402T232208Z
UID:10008763-1779116400-1779127200@renoriver.org
SUMMARY:Happy Hour at Ole Bridge Pub
DESCRIPTION:Enjoy $2 off most beer\, house wine\, and well drinks.
URL:https://renoriver.org/event/happy-hour-at-ole-bridge-pub/2026-05-18/
CATEGORIES:Drink Specials,Happy Hour
ATTACH;FMTTYPE=image/jpeg:https://renoriver.org/wp-content/uploads/2024/06/social_tiles7.1.jpg
END:VEVENT
BEGIN:VEVENT
DTSTART;TZID=America/Los_Angeles:20260518T150000
DTEND;TZID=America/Los_Angeles:20260518T233000
DTSTAMP:20260422T223457
CREATED:20240214T194538Z
LAST-MODIFIED:20250402T235357Z
UID:10014935-1779116400-1779147000@renoriver.org
SUMMARY:Monday Mules at Ole Bridge Pub
DESCRIPTION:Enjoy $2 off our Moscow Mules
URL:https://renoriver.org/event/monday-mules-at-ole-bridge-pub/2026-05-18/
CATEGORIES:Drink Specials
ATTACH;FMTTYPE=image/png:https://renoriver.org/wp-content/uploads/2024/06/social_tiles_can_wednesday9.png
END:VEVENT
BEGIN:VEVENT
DTSTART;TZID=America/Los_Angeles:20260519T150000
DTEND;TZID=America/Los_Angeles:20260519T180000
DTSTAMP:20260422T223457
CREATED:20240214T194005Z
LAST-MODIFIED:20250402T232208Z
UID:10008764-1779202800-1779213600@renoriver.org
SUMMARY:Happy Hour at Ole Bridge Pub
DESCRIPTION:Enjoy $2 off most beer\, house wine\, and well drinks.
URL:https://renoriver.org/event/happy-hour-at-ole-bridge-pub/2026-05-19/
CATEGORIES:Drink Specials,Happy Hour
ATTACH;FMTTYPE=image/jpeg:https://renoriver.org/wp-content/uploads/2024/06/social_tiles7.1.jpg
END:VEVENT
BEGIN:VEVENT
DTSTART;TZID=America/Los_Angeles:20260519T150000
DTEND;TZID=America/Los_Angeles:20260519T233000
DTSTAMP:20260422T223457
CREATED:20240214T205722Z
LAST-MODIFIED:20250402T231834Z
UID:10006420-1779202800-1779233400@renoriver.org
SUMMARY:Local Tuesdays at Ole Bridge Pub
DESCRIPTION:Enjoy $2 off our Moscow Mules
URL:https://renoriver.org/event/local-tuesdays-at-ole-bridge-pub/2026-05-19/
CATEGORIES:Drink Specials
ATTACH;FMTTYPE=image/png:https://renoriver.org/wp-content/uploads/2024/06/social_tiles6.png
END:VEVENT
BEGIN:VEVENT
DTSTART;TZID=America/Los_Angeles:20260520T150000
DTEND;TZID=America/Los_Angeles:20260520T180000
DTSTAMP:20260422T223457
CREATED:20240214T194005Z
LAST-MODIFIED:20250402T232208Z
UID:10008765-1779289200-1779300000@renoriver.org
SUMMARY:Happy Hour at Ole Bridge Pub
DESCRIPTION:Enjoy $2 off most beer\, house wine\, and well drinks.
URL:https://renoriver.org/event/happy-hour-at-ole-bridge-pub/2026-05-20/
CATEGORIES:Drink Specials,Happy Hour
ATTACH;FMTTYPE=image/jpeg:https://renoriver.org/wp-content/uploads/2024/06/social_tiles7.1.jpg
END:VEVENT
BEGIN:VEVENT
DTSTART;TZID=America/Los_Angeles:20260520T150000
DTEND;TZID=America/Los_Angeles:20260520T233000
DTSTAMP:20260422T223457
CREATED:20240214T194930Z
LAST-MODIFIED:20250402T232950Z
UID:10011780-1779289200-1779319800@renoriver.org
SUMMARY:Can Wednesdays at Ole Bridge Pub
DESCRIPTION:Enjoy $2 off all cans
URL:https://renoriver.org/event/can-wednesdays-at-ole-bridge-pub/2026-05-20/
CATEGORIES:Drink Specials
ATTACH;FMTTYPE=image/png:https://renoriver.org/wp-content/uploads/2024/06/social_tiles_can_wednesday10.png
END:VEVENT
BEGIN:VEVENT
DTSTART;TZID=America/Los_Angeles:20260520T190000
DTEND;TZID=America/Los_Angeles:20260520T210000
DTSTAMP:20260422T223457
CREATED:20240214T204301Z
LAST-MODIFIED:20250402T233103Z
UID:10012095-1779303600-1779310800@renoriver.org
SUMMARY:DJ Trivia at Ole Bridge Pub
DESCRIPTION:Fun\, Live\, Interactive Trivia Game that includes you\, your team\, other teams\, and a live DJ host. Every Wednesday 7-9pm
URL:https://renoriver.org/event/dj-trivia-at-ole-bridge-pub/2026-05-20/
CATEGORIES:DJ Trivia
ATTACH;FMTTYPE=image/png:https://renoriver.org/wp-content/uploads/2024/06/social_tiles_DJ_trivia11.png
END:VEVENT
BEGIN:VEVENT
DTSTART;TZID=America/Los_Angeles:20260521T150000
DTEND;TZID=America/Los_Angeles:20260521T180000
DTSTAMP:20260422T223457
CREATED:20240214T194005Z
LAST-MODIFIED:20250402T232208Z
UID:10008766-1779375600-1779386400@renoriver.org
SUMMARY:Happy Hour at Ole Bridge Pub
DESCRIPTION:Enjoy $2 off most beer\, house wine\, and well drinks.
URL:https://renoriver.org/event/happy-hour-at-ole-bridge-pub/2026-05-21/
CATEGORIES:Drink Specials,Happy Hour
ATTACH;FMTTYPE=image/jpeg:https://renoriver.org/wp-content/uploads/2024/06/social_tiles7.1.jpg
END:VEVENT
BEGIN:VEVENT
DTSTART;TZID=America/Los_Angeles:20260522T150000
DTEND;TZID=America/Los_Angeles:20260522T180000
DTSTAMP:20260422T223457
CREATED:20240214T194005Z
LAST-MODIFIED:20250402T232208Z
UID:10008767-1779462000-1779472800@renoriver.org
SUMMARY:Happy Hour at Ole Bridge Pub
DESCRIPTION:Enjoy $2 off most beer\, house wine\, and well drinks.
URL:https://renoriver.org/event/happy-hour-at-ole-bridge-pub/2026-05-22/
CATEGORIES:Drink Specials,Happy Hour
ATTACH;FMTTYPE=image/jpeg:https://renoriver.org/wp-content/uploads/2024/06/social_tiles7.1.jpg
END:VEVENT
BEGIN:VEVENT
DTSTART;TZID=America/Los_Angeles:20260524T120000
DTEND;TZID=America/Los_Angeles:20260524T233000
DTSTAMP:20260422T223457
CREATED:20240214T205028Z
LAST-MODIFIED:20250402T234918Z
UID:10013991-1779624000-1779665400@renoriver.org
SUMMARY:Bloody Mary Sundays at Ole Bridge Pub
DESCRIPTION:Enjoy All-Day $6 Bloody Marys & $15 All-You Can Drink Mimosas 12PM – 2PM.
URL:https://renoriver.org/event/bloody-mary-sundays-at-ole-bridge-pub/2026-05-24/
CATEGORIES:Drink Specials,Rush The River
ATTACH;FMTTYPE=image/jpeg:https://renoriver.org/wp-content/uploads/2024/06/social_tiles10.jpg
END:VEVENT
BEGIN:VEVENT
DTSTART;TZID=America/Los_Angeles:20260525T150000
DTEND;TZID=America/Los_Angeles:20260525T180000
DTSTAMP:20260422T223457
CREATED:20240214T194005Z
LAST-MODIFIED:20250402T232208Z
UID:10008768-1779721200-1779732000@renoriver.org
SUMMARY:Happy Hour at Ole Bridge Pub
DESCRIPTION:Enjoy $2 off most beer\, house wine\, and well drinks.
URL:https://renoriver.org/event/happy-hour-at-ole-bridge-pub/2026-05-25/
CATEGORIES:Drink Specials,Happy Hour
ATTACH;FMTTYPE=image/jpeg:https://renoriver.org/wp-content/uploads/2024/06/social_tiles7.1.jpg
END:VEVENT
BEGIN:VEVENT
DTSTART;TZID=America/Los_Angeles:20260525T150000
DTEND;TZID=America/Los_Angeles:20260525T233000
DTSTAMP:20260422T223457
CREATED:20240214T194538Z
LAST-MODIFIED:20250402T235357Z
UID:10014936-1779721200-1779751800@renoriver.org
SUMMARY:Monday Mules at Ole Bridge Pub
DESCRIPTION:Enjoy $2 off our Moscow Mules
URL:https://renoriver.org/event/monday-mules-at-ole-bridge-pub/2026-05-25/
CATEGORIES:Drink Specials
ATTACH;FMTTYPE=image/png:https://renoriver.org/wp-content/uploads/2024/06/social_tiles_can_wednesday9.png
END:VEVENT
BEGIN:VEVENT
DTSTART;TZID=America/Los_Angeles:20260526T150000
DTEND;TZID=America/Los_Angeles:20260526T180000
DTSTAMP:20260422T223457
CREATED:20240214T194005Z
LAST-MODIFIED:20250402T232208Z
UID:10008769-1779807600-1779818400@renoriver.org
SUMMARY:Happy Hour at Ole Bridge Pub
DESCRIPTION:Enjoy $2 off most beer\, house wine\, and well drinks.
URL:https://renoriver.org/event/happy-hour-at-ole-bridge-pub/2026-05-26/
CATEGORIES:Drink Specials,Happy Hour
ATTACH;FMTTYPE=image/jpeg:https://renoriver.org/wp-content/uploads/2024/06/social_tiles7.1.jpg
END:VEVENT
BEGIN:VEVENT
DTSTART;TZID=America/Los_Angeles:20260526T150000
DTEND;TZID=America/Los_Angeles:20260526T233000
DTSTAMP:20260422T223457
CREATED:20240214T205722Z
LAST-MODIFIED:20250402T231834Z
UID:10006421-1779807600-1779838200@renoriver.org
SUMMARY:Local Tuesdays at Ole Bridge Pub
DESCRIPTION:Enjoy $2 off our Moscow Mules
URL:https://renoriver.org/event/local-tuesdays-at-ole-bridge-pub/2026-05-26/
CATEGORIES:Drink Specials
ATTACH;FMTTYPE=image/png:https://renoriver.org/wp-content/uploads/2024/06/social_tiles6.png
END:VEVENT
BEGIN:VEVENT
DTSTART;TZID=America/Los_Angeles:20260527T150000
DTEND;TZID=America/Los_Angeles:20260527T180000
DTSTAMP:20260422T223457
CREATED:20240214T194005Z
LAST-MODIFIED:20250402T232208Z
UID:10008770-1779894000-1779904800@renoriver.org
SUMMARY:Happy Hour at Ole Bridge Pub
DESCRIPTION:Enjoy $2 off most beer\, house wine\, and well drinks.
URL:https://renoriver.org/event/happy-hour-at-ole-bridge-pub/2026-05-27/
CATEGORIES:Drink Specials,Happy Hour
ATTACH;FMTTYPE=image/jpeg:https://renoriver.org/wp-content/uploads/2024/06/social_tiles7.1.jpg
END:VEVENT
BEGIN:VEVENT
DTSTART;TZID=America/Los_Angeles:20260527T150000
DTEND;TZID=America/Los_Angeles:20260527T233000
DTSTAMP:20260422T223457
CREATED:20240214T194930Z
LAST-MODIFIED:20250402T232950Z
UID:10011781-1779894000-1779924600@renoriver.org
SUMMARY:Can Wednesdays at Ole Bridge Pub
DESCRIPTION:Enjoy $2 off all cans
URL:https://renoriver.org/event/can-wednesdays-at-ole-bridge-pub/2026-05-27/
CATEGORIES:Drink Specials
ATTACH;FMTTYPE=image/png:https://renoriver.org/wp-content/uploads/2024/06/social_tiles_can_wednesday10.png
END:VEVENT
BEGIN:VEVENT
DTSTART;TZID=America/Los_Angeles:20260527T190000
DTEND;TZID=America/Los_Angeles:20260527T210000
DTSTAMP:20260422T223457
CREATED:20240214T204301Z
LAST-MODIFIED:20250402T233103Z
UID:10012096-1779908400-1779915600@renoriver.org
SUMMARY:DJ Trivia at Ole Bridge Pub
DESCRIPTION:Fun\, Live\, Interactive Trivia Game that includes you\, your team\, other teams\, and a live DJ host. Every Wednesday 7-9pm
URL:https://renoriver.org/event/dj-trivia-at-ole-bridge-pub/2026-05-27/
CATEGORIES:DJ Trivia
ATTACH;FMTTYPE=image/png:https://renoriver.org/wp-content/uploads/2024/06/social_tiles_DJ_trivia11.png
END:VEVENT
BEGIN:VEVENT
DTSTART;TZID=America/Los_Angeles:20260528T150000
DTEND;TZID=America/Los_Angeles:20260528T180000
DTSTAMP:20260422T223457
CREATED:20240214T194005Z
LAST-MODIFIED:20250402T232208Z
UID:10008771-1779980400-1779991200@renoriver.org
SUMMARY:Happy Hour at Ole Bridge Pub
DESCRIPTION:Enjoy $2 off most beer\, house wine\, and well drinks.
URL:https://renoriver.org/event/happy-hour-at-ole-bridge-pub/2026-05-28/
CATEGORIES:Drink Specials,Happy Hour
ATTACH;FMTTYPE=image/jpeg:https://renoriver.org/wp-content/uploads/2024/06/social_tiles7.1.jpg
END:VEVENT
BEGIN:VEVENT
DTSTART;TZID=America/Los_Angeles:20260529T150000
DTEND;TZID=America/Los_Angeles:20260529T180000
DTSTAMP:20260422T223457
CREATED:20240214T194005Z
LAST-MODIFIED:20250402T232208Z
UID:10008772-1780066800-1780077600@renoriver.org
SUMMARY:Happy Hour at Ole Bridge Pub
DESCRIPTION:Enjoy $2 off most beer\, house wine\, and well drinks.
URL:https://renoriver.org/event/happy-hour-at-ole-bridge-pub/2026-05-29/
CATEGORIES:Drink Specials,Happy Hour
ATTACH;FMTTYPE=image/jpeg:https://renoriver.org/wp-content/uploads/2024/06/social_tiles7.1.jpg
END:VEVENT
BEGIN:VEVENT
DTSTART;TZID=America/Los_Angeles:20260531T120000
DTEND;TZID=America/Los_Angeles:20260531T233000
DTSTAMP:20260422T223457
CREATED:20240214T205028Z
LAST-MODIFIED:20250402T234918Z
UID:10013992-1780228800-1780270200@renoriver.org
SUMMARY:Bloody Mary Sundays at Ole Bridge Pub
DESCRIPTION:Enjoy All-Day $6 Bloody Marys & $15 All-You Can Drink Mimosas 12PM – 2PM.
URL:https://renoriver.org/event/bloody-mary-sundays-at-ole-bridge-pub/2026-05-31/
CATEGORIES:Drink Specials,Rush The River
ATTACH;FMTTYPE=image/jpeg:https://renoriver.org/wp-content/uploads/2024/06/social_tiles10.jpg
END:VEVENT
END:VCALENDAR