BEGIN:VCALENDAR
VERSION:2.0
PRODID:-//The Riverwalk District - ECPv6.15.19//NONSGML v1.0//EN
CALSCALE:GREGORIAN
METHOD:PUBLISH
X-ORIGINAL-URL:https://renoriver.org
X-WR-CALDESC:Events for The Riverwalk District
REFRESH-INTERVAL;VALUE=DURATION:PT1H
X-Robots-Tag:noindex
X-PUBLISHED-TTL:PT1H
BEGIN:VTIMEZONE
TZID:America/Los_Angeles
BEGIN:DAYLIGHT
TZOFFSETFROM:-0800
TZOFFSETTO:-0700
TZNAME:PDT
DTSTART:20240310T100000
END:DAYLIGHT
BEGIN:STANDARD
TZOFFSETFROM:-0700
TZOFFSETTO:-0800
TZNAME:PST
DTSTART:20241103T090000
END:STANDARD
BEGIN:DAYLIGHT
TZOFFSETFROM:-0800
TZOFFSETTO:-0700
TZNAME:PDT
DTSTART:20250309T100000
END:DAYLIGHT
BEGIN:STANDARD
TZOFFSETFROM:-0700
TZOFFSETTO:-0800
TZNAME:PST
DTSTART:20251102T090000
END:STANDARD
BEGIN:DAYLIGHT
TZOFFSETFROM:-0800
TZOFFSETTO:-0700
TZNAME:PDT
DTSTART:20260308T100000
END:DAYLIGHT
BEGIN:STANDARD
TZOFFSETFROM:-0700
TZOFFSETTO:-0800
TZNAME:PST
DTSTART:20261101T090000
END:STANDARD
END:VTIMEZONE
BEGIN:VEVENT
DTSTART;TZID=America/Los_Angeles:20250511T090000
DTEND;TZID=America/Los_Angeles:20250511T150000
DTSTAMP:20260425T142700
CREATED:20250422T231901Z
LAST-MODIFIED:20250422T232341Z
UID:10015587-1746954000-1746975600@renoriver.org
SUMMARY:Wild River Grille Mother's Day Brunch
DESCRIPTION:Three Course Prix Fixe MenuServing 9:00am – 3:00pm$18 Bottomless Mimosas—Riverside Dining Out On Our Picturesque Patio Available Upon Request \n$45 for Adults $18 for Childrenkids menu for 12 and under \nFULL MENU AVAILABLE ONLINE | CALL FOR RESERVATIONS | 775-284-7455WILDRIVERGRILLE.COM | 17 S. VIRGINIA ST. | DOWNTOWN RENO
URL:https://renoriver.org/event/wild-river-grille-mothers-day-brunch/
LOCATION:Wild River Grille
CATEGORIES:Special Events
ATTACH;FMTTYPE=image/png:https://renoriver.org/wp-content/uploads/2025/04/Mothers_Day-1.png
END:VEVENT
END:VCALENDAR