BEGIN:VCALENDAR
VERSION:2.0
PRODID:-//The Riverwalk District - ECPv6.15.19//NONSGML v1.0//EN
CALSCALE:GREGORIAN
METHOD:PUBLISH
X-ORIGINAL-URL:https://renoriver.org
X-WR-CALDESC:Events for The Riverwalk District
REFRESH-INTERVAL;VALUE=DURATION:PT1H
X-Robots-Tag:noindex
X-PUBLISHED-TTL:PT1H
BEGIN:VTIMEZONE
TZID:America/Los_Angeles
BEGIN:DAYLIGHT
TZOFFSETFROM:-0800
TZOFFSETTO:-0700
TZNAME:PDT
DTSTART:20240310T100000
END:DAYLIGHT
BEGIN:STANDARD
TZOFFSETFROM:-0700
TZOFFSETTO:-0800
TZNAME:PST
DTSTART:20241103T090000
END:STANDARD
BEGIN:DAYLIGHT
TZOFFSETFROM:-0800
TZOFFSETTO:-0700
TZNAME:PDT
DTSTART:20250309T100000
END:DAYLIGHT
BEGIN:STANDARD
TZOFFSETFROM:-0700
TZOFFSETTO:-0800
TZNAME:PST
DTSTART:20251102T090000
END:STANDARD
BEGIN:DAYLIGHT
TZOFFSETFROM:-0800
TZOFFSETTO:-0700
TZNAME:PDT
DTSTART:20260308T100000
END:DAYLIGHT
BEGIN:STANDARD
TZOFFSETFROM:-0700
TZOFFSETTO:-0800
TZNAME:PST
DTSTART:20261101T090000
END:STANDARD
END:VTIMEZONE
BEGIN:VEVENT
DTSTART;TZID=America/Los_Angeles:20250203T150000
DTEND;TZID=America/Los_Angeles:20250203T180000
DTSTAMP:20260422T192437
CREATED:20240903T191454Z
LAST-MODIFIED:20250402T230705Z
UID:10000414-1738594800-1738605600@renoriver.org
SUMMARY:Our Bar Happy Hour
DESCRIPTION:Monday-Friday 3:00 pm – 6:00 pm $2.00 off any draft beer\, bottle\, can\, well cocktail\, or glass of wine.
URL:https://renoriver.org/event/our-bar-happy-hour/2025-02-03/
CATEGORIES:Daily Specials,Drink Specials
ATTACH;FMTTYPE=image/jpeg:https://renoriver.org/wp-content/uploads/2017/04/445356497_18398052727078431_6545476689669071342_n.jpg
END:VEVENT
BEGIN:VEVENT
DTSTART;TZID=America/Los_Angeles:20250204T150000
DTEND;TZID=America/Los_Angeles:20250204T180000
DTSTAMP:20260422T192437
CREATED:20240903T191454Z
LAST-MODIFIED:20250402T230705Z
UID:10000415-1738681200-1738692000@renoriver.org
SUMMARY:Our Bar Happy Hour
DESCRIPTION:Monday-Friday 3:00 pm – 6:00 pm $2.00 off any draft beer\, bottle\, can\, well cocktail\, or glass of wine.
URL:https://renoriver.org/event/our-bar-happy-hour/2025-02-04/
CATEGORIES:Daily Specials,Drink Specials
ATTACH;FMTTYPE=image/jpeg:https://renoriver.org/wp-content/uploads/2017/04/445356497_18398052727078431_6545476689669071342_n.jpg
END:VEVENT
BEGIN:VEVENT
DTSTART;TZID=America/Los_Angeles:20250205T150000
DTEND;TZID=America/Los_Angeles:20250205T180000
DTSTAMP:20260422T192437
CREATED:20240903T191454Z
LAST-MODIFIED:20250402T230705Z
UID:10000416-1738767600-1738778400@renoriver.org
SUMMARY:Our Bar Happy Hour
DESCRIPTION:Monday-Friday 3:00 pm – 6:00 pm $2.00 off any draft beer\, bottle\, can\, well cocktail\, or glass of wine.
URL:https://renoriver.org/event/our-bar-happy-hour/2025-02-05/
CATEGORIES:Daily Specials,Drink Specials
ATTACH;FMTTYPE=image/jpeg:https://renoriver.org/wp-content/uploads/2017/04/445356497_18398052727078431_6545476689669071342_n.jpg
END:VEVENT
BEGIN:VEVENT
DTSTART;TZID=America/Los_Angeles:20250206T150000
DTEND;TZID=America/Los_Angeles:20250206T180000
DTSTAMP:20260422T192437
CREATED:20240903T191454Z
LAST-MODIFIED:20250402T230705Z
UID:10000417-1738854000-1738864800@renoriver.org
SUMMARY:Our Bar Happy Hour
DESCRIPTION:Monday-Friday 3:00 pm – 6:00 pm $2.00 off any draft beer\, bottle\, can\, well cocktail\, or glass of wine.
URL:https://renoriver.org/event/our-bar-happy-hour/2025-02-06/
CATEGORIES:Daily Specials,Drink Specials
ATTACH;FMTTYPE=image/jpeg:https://renoriver.org/wp-content/uploads/2017/04/445356497_18398052727078431_6545476689669071342_n.jpg
END:VEVENT
BEGIN:VEVENT
DTSTART;TZID=America/Los_Angeles:20250207T150000
DTEND;TZID=America/Los_Angeles:20250207T180000
DTSTAMP:20260422T192437
CREATED:20240903T191454Z
LAST-MODIFIED:20250402T230705Z
UID:10000418-1738940400-1738951200@renoriver.org
SUMMARY:Our Bar Happy Hour
DESCRIPTION:Monday-Friday 3:00 pm – 6:00 pm $2.00 off any draft beer\, bottle\, can\, well cocktail\, or glass of wine.
URL:https://renoriver.org/event/our-bar-happy-hour/2025-02-07/
CATEGORIES:Daily Specials,Drink Specials
ATTACH;FMTTYPE=image/jpeg:https://renoriver.org/wp-content/uploads/2017/04/445356497_18398052727078431_6545476689669071342_n.jpg
END:VEVENT
BEGIN:VEVENT
DTSTART;TZID=America/Los_Angeles:20250210T150000
DTEND;TZID=America/Los_Angeles:20250210T180000
DTSTAMP:20260422T192437
CREATED:20240903T191454Z
LAST-MODIFIED:20250402T230705Z
UID:10000419-1739199600-1739210400@renoriver.org
SUMMARY:Our Bar Happy Hour
DESCRIPTION:Monday-Friday 3:00 pm – 6:00 pm $2.00 off any draft beer\, bottle\, can\, well cocktail\, or glass of wine.
URL:https://renoriver.org/event/our-bar-happy-hour/2025-02-10/
CATEGORIES:Daily Specials,Drink Specials
ATTACH;FMTTYPE=image/jpeg:https://renoriver.org/wp-content/uploads/2017/04/445356497_18398052727078431_6545476689669071342_n.jpg
END:VEVENT
BEGIN:VEVENT
DTSTART;TZID=America/Los_Angeles:20250211T150000
DTEND;TZID=America/Los_Angeles:20250211T180000
DTSTAMP:20260422T192437
CREATED:20240903T191454Z
LAST-MODIFIED:20250402T230705Z
UID:10000420-1739286000-1739296800@renoriver.org
SUMMARY:Our Bar Happy Hour
DESCRIPTION:Monday-Friday 3:00 pm – 6:00 pm $2.00 off any draft beer\, bottle\, can\, well cocktail\, or glass of wine.
URL:https://renoriver.org/event/our-bar-happy-hour/2025-02-11/
CATEGORIES:Daily Specials,Drink Specials
ATTACH;FMTTYPE=image/jpeg:https://renoriver.org/wp-content/uploads/2017/04/445356497_18398052727078431_6545476689669071342_n.jpg
END:VEVENT
BEGIN:VEVENT
DTSTART;TZID=America/Los_Angeles:20250212T150000
DTEND;TZID=America/Los_Angeles:20250212T180000
DTSTAMP:20260422T192437
CREATED:20240903T191454Z
LAST-MODIFIED:20250402T230705Z
UID:10000421-1739372400-1739383200@renoriver.org
SUMMARY:Our Bar Happy Hour
DESCRIPTION:Monday-Friday 3:00 pm – 6:00 pm $2.00 off any draft beer\, bottle\, can\, well cocktail\, or glass of wine.
URL:https://renoriver.org/event/our-bar-happy-hour/2025-02-12/
CATEGORIES:Daily Specials,Drink Specials
ATTACH;FMTTYPE=image/jpeg:https://renoriver.org/wp-content/uploads/2017/04/445356497_18398052727078431_6545476689669071342_n.jpg
END:VEVENT
BEGIN:VEVENT
DTSTART;TZID=America/Los_Angeles:20250213T150000
DTEND;TZID=America/Los_Angeles:20250213T180000
DTSTAMP:20260422T192437
CREATED:20240903T191454Z
LAST-MODIFIED:20250402T230705Z
UID:10000422-1739458800-1739469600@renoriver.org
SUMMARY:Our Bar Happy Hour
DESCRIPTION:Monday-Friday 3:00 pm – 6:00 pm $2.00 off any draft beer\, bottle\, can\, well cocktail\, or glass of wine.
URL:https://renoriver.org/event/our-bar-happy-hour/2025-02-13/
CATEGORIES:Daily Specials,Drink Specials
ATTACH;FMTTYPE=image/jpeg:https://renoriver.org/wp-content/uploads/2017/04/445356497_18398052727078431_6545476689669071342_n.jpg
END:VEVENT
BEGIN:VEVENT
DTSTART;TZID=America/Los_Angeles:20250214T150000
DTEND;TZID=America/Los_Angeles:20250214T180000
DTSTAMP:20260422T192437
CREATED:20240903T191454Z
LAST-MODIFIED:20250402T230705Z
UID:10000423-1739545200-1739556000@renoriver.org
SUMMARY:Our Bar Happy Hour
DESCRIPTION:Monday-Friday 3:00 pm – 6:00 pm $2.00 off any draft beer\, bottle\, can\, well cocktail\, or glass of wine.
URL:https://renoriver.org/event/our-bar-happy-hour/2025-02-14/
CATEGORIES:Daily Specials,Drink Specials
ATTACH;FMTTYPE=image/jpeg:https://renoriver.org/wp-content/uploads/2017/04/445356497_18398052727078431_6545476689669071342_n.jpg
END:VEVENT
BEGIN:VEVENT
DTSTART;TZID=America/Los_Angeles:20250217T150000
DTEND;TZID=America/Los_Angeles:20250217T180000
DTSTAMP:20260422T192437
CREATED:20240903T191454Z
LAST-MODIFIED:20250402T230705Z
UID:10000424-1739804400-1739815200@renoriver.org
SUMMARY:Our Bar Happy Hour
DESCRIPTION:Monday-Friday 3:00 pm – 6:00 pm $2.00 off any draft beer\, bottle\, can\, well cocktail\, or glass of wine.
URL:https://renoriver.org/event/our-bar-happy-hour/2025-02-17/
CATEGORIES:Daily Specials,Drink Specials
ATTACH;FMTTYPE=image/jpeg:https://renoriver.org/wp-content/uploads/2017/04/445356497_18398052727078431_6545476689669071342_n.jpg
END:VEVENT
BEGIN:VEVENT
DTSTART;TZID=America/Los_Angeles:20250218T150000
DTEND;TZID=America/Los_Angeles:20250218T180000
DTSTAMP:20260422T192437
CREATED:20240903T191454Z
LAST-MODIFIED:20250402T230705Z
UID:10000425-1739890800-1739901600@renoriver.org
SUMMARY:Our Bar Happy Hour
DESCRIPTION:Monday-Friday 3:00 pm – 6:00 pm $2.00 off any draft beer\, bottle\, can\, well cocktail\, or glass of wine.
URL:https://renoriver.org/event/our-bar-happy-hour/2025-02-18/
CATEGORIES:Daily Specials,Drink Specials
ATTACH;FMTTYPE=image/jpeg:https://renoriver.org/wp-content/uploads/2017/04/445356497_18398052727078431_6545476689669071342_n.jpg
END:VEVENT
BEGIN:VEVENT
DTSTART;TZID=America/Los_Angeles:20250219T150000
DTEND;TZID=America/Los_Angeles:20250219T180000
DTSTAMP:20260422T192437
CREATED:20240903T191454Z
LAST-MODIFIED:20250402T230705Z
UID:10000426-1739977200-1739988000@renoriver.org
SUMMARY:Our Bar Happy Hour
DESCRIPTION:Monday-Friday 3:00 pm – 6:00 pm $2.00 off any draft beer\, bottle\, can\, well cocktail\, or glass of wine.
URL:https://renoriver.org/event/our-bar-happy-hour/2025-02-19/
CATEGORIES:Daily Specials,Drink Specials
ATTACH;FMTTYPE=image/jpeg:https://renoriver.org/wp-content/uploads/2017/04/445356497_18398052727078431_6545476689669071342_n.jpg
END:VEVENT
BEGIN:VEVENT
DTSTART;TZID=America/Los_Angeles:20250220T150000
DTEND;TZID=America/Los_Angeles:20250220T180000
DTSTAMP:20260422T192437
CREATED:20240903T191454Z
LAST-MODIFIED:20250402T230705Z
UID:10000427-1740063600-1740074400@renoriver.org
SUMMARY:Our Bar Happy Hour
DESCRIPTION:Monday-Friday 3:00 pm – 6:00 pm $2.00 off any draft beer\, bottle\, can\, well cocktail\, or glass of wine.
URL:https://renoriver.org/event/our-bar-happy-hour/2025-02-20/
CATEGORIES:Daily Specials,Drink Specials
ATTACH;FMTTYPE=image/jpeg:https://renoriver.org/wp-content/uploads/2017/04/445356497_18398052727078431_6545476689669071342_n.jpg
END:VEVENT
BEGIN:VEVENT
DTSTART;TZID=America/Los_Angeles:20250221T150000
DTEND;TZID=America/Los_Angeles:20250221T180000
DTSTAMP:20260422T192437
CREATED:20240903T191454Z
LAST-MODIFIED:20250402T230705Z
UID:10000428-1740150000-1740160800@renoriver.org
SUMMARY:Our Bar Happy Hour
DESCRIPTION:Monday-Friday 3:00 pm – 6:00 pm $2.00 off any draft beer\, bottle\, can\, well cocktail\, or glass of wine.
URL:https://renoriver.org/event/our-bar-happy-hour/2025-02-21/
CATEGORIES:Daily Specials,Drink Specials
ATTACH;FMTTYPE=image/jpeg:https://renoriver.org/wp-content/uploads/2017/04/445356497_18398052727078431_6545476689669071342_n.jpg
END:VEVENT
BEGIN:VEVENT
DTSTART;TZID=America/Los_Angeles:20250224T150000
DTEND;TZID=America/Los_Angeles:20250224T180000
DTSTAMP:20260422T192437
CREATED:20240903T191454Z
LAST-MODIFIED:20250402T230705Z
UID:10000429-1740409200-1740420000@renoriver.org
SUMMARY:Our Bar Happy Hour
DESCRIPTION:Monday-Friday 3:00 pm – 6:00 pm $2.00 off any draft beer\, bottle\, can\, well cocktail\, or glass of wine.
URL:https://renoriver.org/event/our-bar-happy-hour/2025-02-24/
CATEGORIES:Daily Specials,Drink Specials
ATTACH;FMTTYPE=image/jpeg:https://renoriver.org/wp-content/uploads/2017/04/445356497_18398052727078431_6545476689669071342_n.jpg
END:VEVENT
BEGIN:VEVENT
DTSTART;TZID=America/Los_Angeles:20250225T150000
DTEND;TZID=America/Los_Angeles:20250225T180000
DTSTAMP:20260422T192437
CREATED:20240903T191454Z
LAST-MODIFIED:20250402T230705Z
UID:10000430-1740495600-1740506400@renoriver.org
SUMMARY:Our Bar Happy Hour
DESCRIPTION:Monday-Friday 3:00 pm – 6:00 pm $2.00 off any draft beer\, bottle\, can\, well cocktail\, or glass of wine.
URL:https://renoriver.org/event/our-bar-happy-hour/2025-02-25/
CATEGORIES:Daily Specials,Drink Specials
ATTACH;FMTTYPE=image/jpeg:https://renoriver.org/wp-content/uploads/2017/04/445356497_18398052727078431_6545476689669071342_n.jpg
END:VEVENT
BEGIN:VEVENT
DTSTART;TZID=America/Los_Angeles:20250226T150000
DTEND;TZID=America/Los_Angeles:20250226T180000
DTSTAMP:20260422T192437
CREATED:20240903T191454Z
LAST-MODIFIED:20250402T230705Z
UID:10000431-1740582000-1740592800@renoriver.org
SUMMARY:Our Bar Happy Hour
DESCRIPTION:Monday-Friday 3:00 pm – 6:00 pm $2.00 off any draft beer\, bottle\, can\, well cocktail\, or glass of wine.
URL:https://renoriver.org/event/our-bar-happy-hour/2025-02-26/
CATEGORIES:Daily Specials,Drink Specials
ATTACH;FMTTYPE=image/jpeg:https://renoriver.org/wp-content/uploads/2017/04/445356497_18398052727078431_6545476689669071342_n.jpg
END:VEVENT
BEGIN:VEVENT
DTSTART;TZID=America/Los_Angeles:20250227T150000
DTEND;TZID=America/Los_Angeles:20250227T180000
DTSTAMP:20260422T192437
CREATED:20240903T191454Z
LAST-MODIFIED:20250402T230705Z
UID:10000432-1740668400-1740679200@renoriver.org
SUMMARY:Our Bar Happy Hour
DESCRIPTION:Monday-Friday 3:00 pm – 6:00 pm $2.00 off any draft beer\, bottle\, can\, well cocktail\, or glass of wine.
URL:https://renoriver.org/event/our-bar-happy-hour/2025-02-27/
CATEGORIES:Daily Specials,Drink Specials
ATTACH;FMTTYPE=image/jpeg:https://renoriver.org/wp-content/uploads/2017/04/445356497_18398052727078431_6545476689669071342_n.jpg
END:VEVENT
BEGIN:VEVENT
DTSTART;TZID=America/Los_Angeles:20250228T150000
DTEND;TZID=America/Los_Angeles:20250228T180000
DTSTAMP:20260422T192437
CREATED:20240903T191454Z
LAST-MODIFIED:20250402T230705Z
UID:10000433-1740754800-1740765600@renoriver.org
SUMMARY:Our Bar Happy Hour
DESCRIPTION:Monday-Friday 3:00 pm – 6:00 pm $2.00 off any draft beer\, bottle\, can\, well cocktail\, or glass of wine.
URL:https://renoriver.org/event/our-bar-happy-hour/2025-02-28/
CATEGORIES:Daily Specials,Drink Specials
ATTACH;FMTTYPE=image/jpeg:https://renoriver.org/wp-content/uploads/2017/04/445356497_18398052727078431_6545476689669071342_n.jpg
END:VEVENT
END:VCALENDAR