BEGIN:VCALENDAR
VERSION:2.0
PRODID:-//The Riverwalk District - ECPv6.15.19//NONSGML v1.0//EN
CALSCALE:GREGORIAN
METHOD:PUBLISH
X-ORIGINAL-URL:https://renoriver.org
X-WR-CALDESC:Events for The Riverwalk District
REFRESH-INTERVAL;VALUE=DURATION:PT1H
X-Robots-Tag:noindex
X-PUBLISHED-TTL:PT1H
BEGIN:VTIMEZONE
TZID:America/Los_Angeles
BEGIN:DAYLIGHT
TZOFFSETFROM:-0800
TZOFFSETTO:-0700
TZNAME:PDT
DTSTART:20260308T100000
END:DAYLIGHT
BEGIN:STANDARD
TZOFFSETFROM:-0700
TZOFFSETTO:-0800
TZNAME:PST
DTSTART:20261101T090000
END:STANDARD
BEGIN:DAYLIGHT
TZOFFSETFROM:-0800
TZOFFSETTO:-0700
TZNAME:PDT
DTSTART:20270314T100000
END:DAYLIGHT
BEGIN:STANDARD
TZOFFSETFROM:-0700
TZOFFSETTO:-0800
TZNAME:PST
DTSTART:20271107T090000
END:STANDARD
BEGIN:DAYLIGHT
TZOFFSETFROM:-0800
TZOFFSETTO:-0700
TZNAME:PDT
DTSTART:20280312T100000
END:DAYLIGHT
BEGIN:STANDARD
TZOFFSETFROM:-0700
TZOFFSETTO:-0800
TZNAME:PST
DTSTART:20281105T090000
END:STANDARD
END:VTIMEZONE
BEGIN:VEVENT
DTSTART;TZID=America/Los_Angeles:20270327T150000
DTEND;TZID=America/Los_Angeles:20270327T170000
DTSTAMP:20260419T214755
CREATED:20240119T204108Z
LAST-MODIFIED:20250806T182407Z
UID:10017032-1806159600-1806166800@renoriver.org
SUMMARY:Bloody Mary and Mimosa Weekend at Shim's
DESCRIPTION:Spend your weekend at Shim’s from 3:00 p.m. – 5:00 p.m. where we’ll be serving up Mimosa Flights\, Mimosicles\, and $8 Bloody Marys!
URL:https://renoriver.org/event/bloody-mary-and-mimosa-weekend-at-shims/2027-03-27/
CATEGORIES:Drink Specials,Rush The River
ATTACH;FMTTYPE=image/png:https://renoriver.org/wp-content/uploads/2024/01/Screenshot-2025-08-06-at-11.22.51-AM.png
END:VEVENT
BEGIN:VEVENT
DTSTART;TZID=America/Los_Angeles:20270328T150000
DTEND;TZID=America/Los_Angeles:20270328T170000
DTSTAMP:20260419T214755
CREATED:20240119T204108Z
LAST-MODIFIED:20250806T182407Z
UID:10017033-1806246000-1806253200@renoriver.org
SUMMARY:Bloody Mary and Mimosa Weekend at Shim's
DESCRIPTION:Spend your weekend at Shim’s from 3:00 p.m. – 5:00 p.m. where we’ll be serving up Mimosa Flights\, Mimosicles\, and $8 Bloody Marys!
URL:https://renoriver.org/event/bloody-mary-and-mimosa-weekend-at-shims/2027-03-28/
CATEGORIES:Drink Specials,Rush The River
ATTACH;FMTTYPE=image/png:https://renoriver.org/wp-content/uploads/2024/01/Screenshot-2025-08-06-at-11.22.51-AM.png
END:VEVENT
BEGIN:VEVENT
DTSTART;TZID=America/Los_Angeles:20270403T150000
DTEND;TZID=America/Los_Angeles:20270403T170000
DTSTAMP:20260419T214755
CREATED:20240119T204108Z
LAST-MODIFIED:20250806T182407Z
UID:10017034-1806764400-1806771600@renoriver.org
SUMMARY:Bloody Mary and Mimosa Weekend at Shim's
DESCRIPTION:Spend your weekend at Shim’s from 3:00 p.m. – 5:00 p.m. where we’ll be serving up Mimosa Flights\, Mimosicles\, and $8 Bloody Marys!
URL:https://renoriver.org/event/bloody-mary-and-mimosa-weekend-at-shims/2027-04-03/
CATEGORIES:Drink Specials,Rush The River
ATTACH;FMTTYPE=image/png:https://renoriver.org/wp-content/uploads/2024/01/Screenshot-2025-08-06-at-11.22.51-AM.png
END:VEVENT
BEGIN:VEVENT
DTSTART;TZID=America/Los_Angeles:20270404T150000
DTEND;TZID=America/Los_Angeles:20270404T170000
DTSTAMP:20260419T214755
CREATED:20240119T204108Z
LAST-MODIFIED:20250806T182407Z
UID:10017035-1806850800-1806858000@renoriver.org
SUMMARY:Bloody Mary and Mimosa Weekend at Shim's
DESCRIPTION:Spend your weekend at Shim’s from 3:00 p.m. – 5:00 p.m. where we’ll be serving up Mimosa Flights\, Mimosicles\, and $8 Bloody Marys!
URL:https://renoriver.org/event/bloody-mary-and-mimosa-weekend-at-shims/2027-04-04/
CATEGORIES:Drink Specials,Rush The River
ATTACH;FMTTYPE=image/png:https://renoriver.org/wp-content/uploads/2024/01/Screenshot-2025-08-06-at-11.22.51-AM.png
END:VEVENT
BEGIN:VEVENT
DTSTART;TZID=America/Los_Angeles:20270410T150000
DTEND;TZID=America/Los_Angeles:20270410T170000
DTSTAMP:20260419T214755
CREATED:20240119T204108Z
LAST-MODIFIED:20250806T182407Z
UID:10017036-1807369200-1807376400@renoriver.org
SUMMARY:Bloody Mary and Mimosa Weekend at Shim's
DESCRIPTION:Spend your weekend at Shim’s from 3:00 p.m. – 5:00 p.m. where we’ll be serving up Mimosa Flights\, Mimosicles\, and $8 Bloody Marys!
URL:https://renoriver.org/event/bloody-mary-and-mimosa-weekend-at-shims/2027-04-10/
CATEGORIES:Drink Specials,Rush The River
ATTACH;FMTTYPE=image/png:https://renoriver.org/wp-content/uploads/2024/01/Screenshot-2025-08-06-at-11.22.51-AM.png
END:VEVENT
BEGIN:VEVENT
DTSTART;TZID=America/Los_Angeles:20270411T150000
DTEND;TZID=America/Los_Angeles:20270411T170000
DTSTAMP:20260419T214755
CREATED:20240119T204108Z
LAST-MODIFIED:20250806T182407Z
UID:10017037-1807455600-1807462800@renoriver.org
SUMMARY:Bloody Mary and Mimosa Weekend at Shim's
DESCRIPTION:Spend your weekend at Shim’s from 3:00 p.m. – 5:00 p.m. where we’ll be serving up Mimosa Flights\, Mimosicles\, and $8 Bloody Marys!
URL:https://renoriver.org/event/bloody-mary-and-mimosa-weekend-at-shims/2027-04-11/
CATEGORIES:Drink Specials,Rush The River
ATTACH;FMTTYPE=image/png:https://renoriver.org/wp-content/uploads/2024/01/Screenshot-2025-08-06-at-11.22.51-AM.png
END:VEVENT
BEGIN:VEVENT
DTSTART;TZID=America/Los_Angeles:20270417T150000
DTEND;TZID=America/Los_Angeles:20270417T170000
DTSTAMP:20260419T214755
CREATED:20240119T204108Z
LAST-MODIFIED:20250806T182407Z
UID:10017038-1807974000-1807981200@renoriver.org
SUMMARY:Bloody Mary and Mimosa Weekend at Shim's
DESCRIPTION:Spend your weekend at Shim’s from 3:00 p.m. – 5:00 p.m. where we’ll be serving up Mimosa Flights\, Mimosicles\, and $8 Bloody Marys!
URL:https://renoriver.org/event/bloody-mary-and-mimosa-weekend-at-shims/2027-04-17/
CATEGORIES:Drink Specials,Rush The River
ATTACH;FMTTYPE=image/png:https://renoriver.org/wp-content/uploads/2024/01/Screenshot-2025-08-06-at-11.22.51-AM.png
END:VEVENT
BEGIN:VEVENT
DTSTART;TZID=America/Los_Angeles:20270418T150000
DTEND;TZID=America/Los_Angeles:20270418T170000
DTSTAMP:20260419T214755
CREATED:20240119T204108Z
LAST-MODIFIED:20250806T182407Z
UID:10017039-1808060400-1808067600@renoriver.org
SUMMARY:Bloody Mary and Mimosa Weekend at Shim's
DESCRIPTION:Spend your weekend at Shim’s from 3:00 p.m. – 5:00 p.m. where we’ll be serving up Mimosa Flights\, Mimosicles\, and $8 Bloody Marys!
URL:https://renoriver.org/event/bloody-mary-and-mimosa-weekend-at-shims/2027-04-18/
CATEGORIES:Drink Specials,Rush The River
ATTACH;FMTTYPE=image/png:https://renoriver.org/wp-content/uploads/2024/01/Screenshot-2025-08-06-at-11.22.51-AM.png
END:VEVENT
BEGIN:VEVENT
DTSTART;TZID=America/Los_Angeles:20270424T150000
DTEND;TZID=America/Los_Angeles:20270424T170000
DTSTAMP:20260419T214755
CREATED:20240119T204108Z
LAST-MODIFIED:20250806T182407Z
UID:10017040-1808578800-1808586000@renoriver.org
SUMMARY:Bloody Mary and Mimosa Weekend at Shim's
DESCRIPTION:Spend your weekend at Shim’s from 3:00 p.m. – 5:00 p.m. where we’ll be serving up Mimosa Flights\, Mimosicles\, and $8 Bloody Marys!
URL:https://renoriver.org/event/bloody-mary-and-mimosa-weekend-at-shims/2027-04-24/
CATEGORIES:Drink Specials,Rush The River
ATTACH;FMTTYPE=image/png:https://renoriver.org/wp-content/uploads/2024/01/Screenshot-2025-08-06-at-11.22.51-AM.png
END:VEVENT
BEGIN:VEVENT
DTSTART;TZID=America/Los_Angeles:20270425T150000
DTEND;TZID=America/Los_Angeles:20270425T170000
DTSTAMP:20260419T214755
CREATED:20240119T204108Z
LAST-MODIFIED:20250806T182407Z
UID:10017041-1808665200-1808672400@renoriver.org
SUMMARY:Bloody Mary and Mimosa Weekend at Shim's
DESCRIPTION:Spend your weekend at Shim’s from 3:00 p.m. – 5:00 p.m. where we’ll be serving up Mimosa Flights\, Mimosicles\, and $8 Bloody Marys!
URL:https://renoriver.org/event/bloody-mary-and-mimosa-weekend-at-shims/2027-04-25/
CATEGORIES:Drink Specials,Rush The River
ATTACH;FMTTYPE=image/png:https://renoriver.org/wp-content/uploads/2024/01/Screenshot-2025-08-06-at-11.22.51-AM.png
END:VEVENT
BEGIN:VEVENT
DTSTART;TZID=America/Los_Angeles:20270501T150000
DTEND;TZID=America/Los_Angeles:20270501T170000
DTSTAMP:20260419T214755
CREATED:20240119T204108Z
LAST-MODIFIED:20250806T182407Z
UID:10017042-1809183600-1809190800@renoriver.org
SUMMARY:Bloody Mary and Mimosa Weekend at Shim's
DESCRIPTION:Spend your weekend at Shim’s from 3:00 p.m. – 5:00 p.m. where we’ll be serving up Mimosa Flights\, Mimosicles\, and $8 Bloody Marys!
URL:https://renoriver.org/event/bloody-mary-and-mimosa-weekend-at-shims/2027-05-01/
CATEGORIES:Drink Specials,Rush The River
ATTACH;FMTTYPE=image/png:https://renoriver.org/wp-content/uploads/2024/01/Screenshot-2025-08-06-at-11.22.51-AM.png
END:VEVENT
BEGIN:VEVENT
DTSTART;TZID=America/Los_Angeles:20270502T150000
DTEND;TZID=America/Los_Angeles:20270502T170000
DTSTAMP:20260419T214755
CREATED:20240119T204108Z
LAST-MODIFIED:20250806T182407Z
UID:10017043-1809270000-1809277200@renoriver.org
SUMMARY:Bloody Mary and Mimosa Weekend at Shim's
DESCRIPTION:Spend your weekend at Shim’s from 3:00 p.m. – 5:00 p.m. where we’ll be serving up Mimosa Flights\, Mimosicles\, and $8 Bloody Marys!
URL:https://renoriver.org/event/bloody-mary-and-mimosa-weekend-at-shims/2027-05-02/
CATEGORIES:Drink Specials,Rush The River
ATTACH;FMTTYPE=image/png:https://renoriver.org/wp-content/uploads/2024/01/Screenshot-2025-08-06-at-11.22.51-AM.png
END:VEVENT
BEGIN:VEVENT
DTSTART;TZID=America/Los_Angeles:20270508T150000
DTEND;TZID=America/Los_Angeles:20270508T170000
DTSTAMP:20260419T214755
CREATED:20240119T204108Z
LAST-MODIFIED:20250806T182407Z
UID:10017044-1809788400-1809795600@renoriver.org
SUMMARY:Bloody Mary and Mimosa Weekend at Shim's
DESCRIPTION:Spend your weekend at Shim’s from 3:00 p.m. – 5:00 p.m. where we’ll be serving up Mimosa Flights\, Mimosicles\, and $8 Bloody Marys!
URL:https://renoriver.org/event/bloody-mary-and-mimosa-weekend-at-shims/2027-05-08/
CATEGORIES:Drink Specials,Rush The River
ATTACH;FMTTYPE=image/png:https://renoriver.org/wp-content/uploads/2024/01/Screenshot-2025-08-06-at-11.22.51-AM.png
END:VEVENT
BEGIN:VEVENT
DTSTART;TZID=America/Los_Angeles:20270509T150000
DTEND;TZID=America/Los_Angeles:20270509T170000
DTSTAMP:20260419T214755
CREATED:20240119T204108Z
LAST-MODIFIED:20250806T182407Z
UID:10017045-1809874800-1809882000@renoriver.org
SUMMARY:Bloody Mary and Mimosa Weekend at Shim's
DESCRIPTION:Spend your weekend at Shim’s from 3:00 p.m. – 5:00 p.m. where we’ll be serving up Mimosa Flights\, Mimosicles\, and $8 Bloody Marys!
URL:https://renoriver.org/event/bloody-mary-and-mimosa-weekend-at-shims/2027-05-09/
CATEGORIES:Drink Specials,Rush The River
ATTACH;FMTTYPE=image/png:https://renoriver.org/wp-content/uploads/2024/01/Screenshot-2025-08-06-at-11.22.51-AM.png
END:VEVENT
BEGIN:VEVENT
DTSTART;TZID=America/Los_Angeles:20270515T150000
DTEND;TZID=America/Los_Angeles:20270515T170000
DTSTAMP:20260419T214755
CREATED:20240119T204108Z
LAST-MODIFIED:20250806T182407Z
UID:10017046-1810393200-1810400400@renoriver.org
SUMMARY:Bloody Mary and Mimosa Weekend at Shim's
DESCRIPTION:Spend your weekend at Shim’s from 3:00 p.m. – 5:00 p.m. where we’ll be serving up Mimosa Flights\, Mimosicles\, and $8 Bloody Marys!
URL:https://renoriver.org/event/bloody-mary-and-mimosa-weekend-at-shims/2027-05-15/
CATEGORIES:Drink Specials,Rush The River
ATTACH;FMTTYPE=image/png:https://renoriver.org/wp-content/uploads/2024/01/Screenshot-2025-08-06-at-11.22.51-AM.png
END:VEVENT
BEGIN:VEVENT
DTSTART;TZID=America/Los_Angeles:20270516T150000
DTEND;TZID=America/Los_Angeles:20270516T170000
DTSTAMP:20260419T214755
CREATED:20240119T204108Z
LAST-MODIFIED:20250806T182407Z
UID:10017047-1810479600-1810486800@renoriver.org
SUMMARY:Bloody Mary and Mimosa Weekend at Shim's
DESCRIPTION:Spend your weekend at Shim’s from 3:00 p.m. – 5:00 p.m. where we’ll be serving up Mimosa Flights\, Mimosicles\, and $8 Bloody Marys!
URL:https://renoriver.org/event/bloody-mary-and-mimosa-weekend-at-shims/2027-05-16/
CATEGORIES:Drink Specials,Rush The River
ATTACH;FMTTYPE=image/png:https://renoriver.org/wp-content/uploads/2024/01/Screenshot-2025-08-06-at-11.22.51-AM.png
END:VEVENT
BEGIN:VEVENT
DTSTART;TZID=America/Los_Angeles:20270522T150000
DTEND;TZID=America/Los_Angeles:20270522T170000
DTSTAMP:20260419T214755
CREATED:20240119T204108Z
LAST-MODIFIED:20250806T182407Z
UID:10017048-1810998000-1811005200@renoriver.org
SUMMARY:Bloody Mary and Mimosa Weekend at Shim's
DESCRIPTION:Spend your weekend at Shim’s from 3:00 p.m. – 5:00 p.m. where we’ll be serving up Mimosa Flights\, Mimosicles\, and $8 Bloody Marys!
URL:https://renoriver.org/event/bloody-mary-and-mimosa-weekend-at-shims/2027-05-22/
CATEGORIES:Drink Specials,Rush The River
ATTACH;FMTTYPE=image/png:https://renoriver.org/wp-content/uploads/2024/01/Screenshot-2025-08-06-at-11.22.51-AM.png
END:VEVENT
BEGIN:VEVENT
DTSTART;TZID=America/Los_Angeles:20270523T150000
DTEND;TZID=America/Los_Angeles:20270523T170000
DTSTAMP:20260419T214755
CREATED:20240119T204108Z
LAST-MODIFIED:20250806T182407Z
UID:10017049-1811084400-1811091600@renoriver.org
SUMMARY:Bloody Mary and Mimosa Weekend at Shim's
DESCRIPTION:Spend your weekend at Shim’s from 3:00 p.m. – 5:00 p.m. where we’ll be serving up Mimosa Flights\, Mimosicles\, and $8 Bloody Marys!
URL:https://renoriver.org/event/bloody-mary-and-mimosa-weekend-at-shims/2027-05-23/
CATEGORIES:Drink Specials,Rush The River
ATTACH;FMTTYPE=image/png:https://renoriver.org/wp-content/uploads/2024/01/Screenshot-2025-08-06-at-11.22.51-AM.png
END:VEVENT
BEGIN:VEVENT
DTSTART;TZID=America/Los_Angeles:20270529T150000
DTEND;TZID=America/Los_Angeles:20270529T170000
DTSTAMP:20260419T214755
CREATED:20240119T204108Z
LAST-MODIFIED:20250806T182407Z
UID:10017050-1811602800-1811610000@renoriver.org
SUMMARY:Bloody Mary and Mimosa Weekend at Shim's
DESCRIPTION:Spend your weekend at Shim’s from 3:00 p.m. – 5:00 p.m. where we’ll be serving up Mimosa Flights\, Mimosicles\, and $8 Bloody Marys!
URL:https://renoriver.org/event/bloody-mary-and-mimosa-weekend-at-shims/2027-05-29/
CATEGORIES:Drink Specials,Rush The River
ATTACH;FMTTYPE=image/png:https://renoriver.org/wp-content/uploads/2024/01/Screenshot-2025-08-06-at-11.22.51-AM.png
END:VEVENT
BEGIN:VEVENT
DTSTART;TZID=America/Los_Angeles:20270530T150000
DTEND;TZID=America/Los_Angeles:20270530T170000
DTSTAMP:20260419T214755
CREATED:20240119T204108Z
LAST-MODIFIED:20250806T182407Z
UID:10017051-1811689200-1811696400@renoriver.org
SUMMARY:Bloody Mary and Mimosa Weekend at Shim's
DESCRIPTION:Spend your weekend at Shim’s from 3:00 p.m. – 5:00 p.m. where we’ll be serving up Mimosa Flights\, Mimosicles\, and $8 Bloody Marys!
URL:https://renoriver.org/event/bloody-mary-and-mimosa-weekend-at-shims/2027-05-30/
CATEGORIES:Drink Specials,Rush The River
ATTACH;FMTTYPE=image/png:https://renoriver.org/wp-content/uploads/2024/01/Screenshot-2025-08-06-at-11.22.51-AM.png
END:VEVENT
BEGIN:VEVENT
DTSTART;TZID=America/Los_Angeles:20270605T150000
DTEND;TZID=America/Los_Angeles:20270605T170000
DTSTAMP:20260419T214755
CREATED:20240119T204108Z
LAST-MODIFIED:20250806T182407Z
UID:10017052-1812207600-1812214800@renoriver.org
SUMMARY:Bloody Mary and Mimosa Weekend at Shim's
DESCRIPTION:Spend your weekend at Shim’s from 3:00 p.m. – 5:00 p.m. where we’ll be serving up Mimosa Flights\, Mimosicles\, and $8 Bloody Marys!
URL:https://renoriver.org/event/bloody-mary-and-mimosa-weekend-at-shims/2027-06-05/
CATEGORIES:Drink Specials,Rush The River
ATTACH;FMTTYPE=image/png:https://renoriver.org/wp-content/uploads/2024/01/Screenshot-2025-08-06-at-11.22.51-AM.png
END:VEVENT
BEGIN:VEVENT
DTSTART;TZID=America/Los_Angeles:20270606T150000
DTEND;TZID=America/Los_Angeles:20270606T170000
DTSTAMP:20260419T214755
CREATED:20240119T204108Z
LAST-MODIFIED:20250806T182407Z
UID:10017053-1812294000-1812301200@renoriver.org
SUMMARY:Bloody Mary and Mimosa Weekend at Shim's
DESCRIPTION:Spend your weekend at Shim’s from 3:00 p.m. – 5:00 p.m. where we’ll be serving up Mimosa Flights\, Mimosicles\, and $8 Bloody Marys!
URL:https://renoriver.org/event/bloody-mary-and-mimosa-weekend-at-shims/2027-06-06/
CATEGORIES:Drink Specials,Rush The River
ATTACH;FMTTYPE=image/png:https://renoriver.org/wp-content/uploads/2024/01/Screenshot-2025-08-06-at-11.22.51-AM.png
END:VEVENT
BEGIN:VEVENT
DTSTART;TZID=America/Los_Angeles:20270612T150000
DTEND;TZID=America/Los_Angeles:20270612T170000
DTSTAMP:20260419T214755
CREATED:20240119T204108Z
LAST-MODIFIED:20250806T182407Z
UID:10017054-1812812400-1812819600@renoriver.org
SUMMARY:Bloody Mary and Mimosa Weekend at Shim's
DESCRIPTION:Spend your weekend at Shim’s from 3:00 p.m. – 5:00 p.m. where we’ll be serving up Mimosa Flights\, Mimosicles\, and $8 Bloody Marys!
URL:https://renoriver.org/event/bloody-mary-and-mimosa-weekend-at-shims/2027-06-12/
CATEGORIES:Drink Specials,Rush The River
ATTACH;FMTTYPE=image/png:https://renoriver.org/wp-content/uploads/2024/01/Screenshot-2025-08-06-at-11.22.51-AM.png
END:VEVENT
BEGIN:VEVENT
DTSTART;TZID=America/Los_Angeles:20270613T150000
DTEND;TZID=America/Los_Angeles:20270613T170000
DTSTAMP:20260419T214755
CREATED:20240119T204108Z
LAST-MODIFIED:20250806T182407Z
UID:10017055-1812898800-1812906000@renoriver.org
SUMMARY:Bloody Mary and Mimosa Weekend at Shim's
DESCRIPTION:Spend your weekend at Shim’s from 3:00 p.m. – 5:00 p.m. where we’ll be serving up Mimosa Flights\, Mimosicles\, and $8 Bloody Marys!
URL:https://renoriver.org/event/bloody-mary-and-mimosa-weekend-at-shims/2027-06-13/
CATEGORIES:Drink Specials,Rush The River
ATTACH;FMTTYPE=image/png:https://renoriver.org/wp-content/uploads/2024/01/Screenshot-2025-08-06-at-11.22.51-AM.png
END:VEVENT
BEGIN:VEVENT
DTSTART;TZID=America/Los_Angeles:20270619T150000
DTEND;TZID=America/Los_Angeles:20270619T170000
DTSTAMP:20260419T214755
CREATED:20240119T204108Z
LAST-MODIFIED:20250806T182407Z
UID:10017056-1813417200-1813424400@renoriver.org
SUMMARY:Bloody Mary and Mimosa Weekend at Shim's
DESCRIPTION:Spend your weekend at Shim’s from 3:00 p.m. – 5:00 p.m. where we’ll be serving up Mimosa Flights\, Mimosicles\, and $8 Bloody Marys!
URL:https://renoriver.org/event/bloody-mary-and-mimosa-weekend-at-shims/2027-06-19/
CATEGORIES:Drink Specials,Rush The River
ATTACH;FMTTYPE=image/png:https://renoriver.org/wp-content/uploads/2024/01/Screenshot-2025-08-06-at-11.22.51-AM.png
END:VEVENT
BEGIN:VEVENT
DTSTART;TZID=America/Los_Angeles:20270620T150000
DTEND;TZID=America/Los_Angeles:20270620T170000
DTSTAMP:20260419T214755
CREATED:20240119T204108Z
LAST-MODIFIED:20250806T182407Z
UID:10017057-1813503600-1813510800@renoriver.org
SUMMARY:Bloody Mary and Mimosa Weekend at Shim's
DESCRIPTION:Spend your weekend at Shim’s from 3:00 p.m. – 5:00 p.m. where we’ll be serving up Mimosa Flights\, Mimosicles\, and $8 Bloody Marys!
URL:https://renoriver.org/event/bloody-mary-and-mimosa-weekend-at-shims/2027-06-20/
CATEGORIES:Drink Specials,Rush The River
ATTACH;FMTTYPE=image/png:https://renoriver.org/wp-content/uploads/2024/01/Screenshot-2025-08-06-at-11.22.51-AM.png
END:VEVENT
BEGIN:VEVENT
DTSTART;TZID=America/Los_Angeles:20270626T150000
DTEND;TZID=America/Los_Angeles:20270626T170000
DTSTAMP:20260419T214755
CREATED:20240119T204108Z
LAST-MODIFIED:20250806T182407Z
UID:10017058-1814022000-1814029200@renoriver.org
SUMMARY:Bloody Mary and Mimosa Weekend at Shim's
DESCRIPTION:Spend your weekend at Shim’s from 3:00 p.m. – 5:00 p.m. where we’ll be serving up Mimosa Flights\, Mimosicles\, and $8 Bloody Marys!
URL:https://renoriver.org/event/bloody-mary-and-mimosa-weekend-at-shims/2027-06-26/
CATEGORIES:Drink Specials,Rush The River
ATTACH;FMTTYPE=image/png:https://renoriver.org/wp-content/uploads/2024/01/Screenshot-2025-08-06-at-11.22.51-AM.png
END:VEVENT
BEGIN:VEVENT
DTSTART;TZID=America/Los_Angeles:20270627T150000
DTEND;TZID=America/Los_Angeles:20270627T170000
DTSTAMP:20260419T214755
CREATED:20240119T204108Z
LAST-MODIFIED:20250806T182407Z
UID:10017059-1814108400-1814115600@renoriver.org
SUMMARY:Bloody Mary and Mimosa Weekend at Shim's
DESCRIPTION:Spend your weekend at Shim’s from 3:00 p.m. – 5:00 p.m. where we’ll be serving up Mimosa Flights\, Mimosicles\, and $8 Bloody Marys!
URL:https://renoriver.org/event/bloody-mary-and-mimosa-weekend-at-shims/2027-06-27/
CATEGORIES:Drink Specials,Rush The River
ATTACH;FMTTYPE=image/png:https://renoriver.org/wp-content/uploads/2024/01/Screenshot-2025-08-06-at-11.22.51-AM.png
END:VEVENT
BEGIN:VEVENT
DTSTART;TZID=America/Los_Angeles:20270703T150000
DTEND;TZID=America/Los_Angeles:20270703T170000
DTSTAMP:20260419T214755
CREATED:20240119T204108Z
LAST-MODIFIED:20250806T182407Z
UID:10017060-1814626800-1814634000@renoriver.org
SUMMARY:Bloody Mary and Mimosa Weekend at Shim's
DESCRIPTION:Spend your weekend at Shim’s from 3:00 p.m. – 5:00 p.m. where we’ll be serving up Mimosa Flights\, Mimosicles\, and $8 Bloody Marys!
URL:https://renoriver.org/event/bloody-mary-and-mimosa-weekend-at-shims/2027-07-03/
CATEGORIES:Drink Specials,Rush The River
ATTACH;FMTTYPE=image/png:https://renoriver.org/wp-content/uploads/2024/01/Screenshot-2025-08-06-at-11.22.51-AM.png
END:VEVENT
BEGIN:VEVENT
DTSTART;TZID=America/Los_Angeles:20270704T150000
DTEND;TZID=America/Los_Angeles:20270704T170000
DTSTAMP:20260419T214755
CREATED:20240119T204108Z
LAST-MODIFIED:20250806T182407Z
UID:10017061-1814713200-1814720400@renoriver.org
SUMMARY:Bloody Mary and Mimosa Weekend at Shim's
DESCRIPTION:Spend your weekend at Shim’s from 3:00 p.m. – 5:00 p.m. where we’ll be serving up Mimosa Flights\, Mimosicles\, and $8 Bloody Marys!
URL:https://renoriver.org/event/bloody-mary-and-mimosa-weekend-at-shims/2027-07-04/
CATEGORIES:Drink Specials,Rush The River
ATTACH;FMTTYPE=image/png:https://renoriver.org/wp-content/uploads/2024/01/Screenshot-2025-08-06-at-11.22.51-AM.png
END:VEVENT
END:VCALENDAR