BEGIN:VCALENDAR
VERSION:2.0
PRODID:-//The Riverwalk District - ECPv6.15.19//NONSGML v1.0//EN
CALSCALE:GREGORIAN
METHOD:PUBLISH
X-ORIGINAL-URL:https://renoriver.org
X-WR-CALDESC:Events for The Riverwalk District
REFRESH-INTERVAL;VALUE=DURATION:PT1H
X-Robots-Tag:noindex
X-PUBLISHED-TTL:PT1H
BEGIN:VTIMEZONE
TZID:America/Los_Angeles
BEGIN:DAYLIGHT
TZOFFSETFROM:-0800
TZOFFSETTO:-0700
TZNAME:PDT
DTSTART:20260308T100000
END:DAYLIGHT
BEGIN:STANDARD
TZOFFSETFROM:-0700
TZOFFSETTO:-0800
TZNAME:PST
DTSTART:20261101T090000
END:STANDARD
BEGIN:DAYLIGHT
TZOFFSETFROM:-0800
TZOFFSETTO:-0700
TZNAME:PDT
DTSTART:20270314T100000
END:DAYLIGHT
BEGIN:STANDARD
TZOFFSETFROM:-0700
TZOFFSETTO:-0800
TZNAME:PST
DTSTART:20271107T090000
END:STANDARD
BEGIN:DAYLIGHT
TZOFFSETFROM:-0800
TZOFFSETTO:-0700
TZNAME:PDT
DTSTART:20280312T100000
END:DAYLIGHT
BEGIN:STANDARD
TZOFFSETFROM:-0700
TZOFFSETTO:-0800
TZNAME:PST
DTSTART:20281105T090000
END:STANDARD
END:VTIMEZONE
BEGIN:VEVENT
DTSTART;TZID=America/Los_Angeles:20270112T150000
DTEND;TZID=America/Los_Angeles:20270112T180000
DTSTAMP:20260421T113844
CREATED:20240214T194005Z
LAST-MODIFIED:20250402T232208Z
UID:10008934-1799766000-1799776800@renoriver.org
SUMMARY:Happy Hour at Ole Bridge Pub
DESCRIPTION:Enjoy $2 off most beer\, house wine\, and well drinks.
URL:https://renoriver.org/event/happy-hour-at-ole-bridge-pub/2027-01-12/
CATEGORIES:Drink Specials,Happy Hour
ATTACH;FMTTYPE=image/jpeg:https://renoriver.org/wp-content/uploads/2024/06/social_tiles7.1.jpg
END:VEVENT
BEGIN:VEVENT
DTSTART;TZID=America/Los_Angeles:20270112T150000
DTEND;TZID=America/Los_Angeles:20270112T180000
DTSTAMP:20260421T113844
CREATED:20240903T191454Z
LAST-MODIFIED:20250402T230705Z
UID:10000920-1799766000-1799776800@renoriver.org
SUMMARY:Our Bar Happy Hour
DESCRIPTION:Monday-Friday 3:00 pm – 6:00 pm $2.00 off any draft beer\, bottle\, can\, well cocktail\, or glass of wine.
URL:https://renoriver.org/event/our-bar-happy-hour/2027-01-12/
CATEGORIES:Daily Specials,Drink Specials
ATTACH;FMTTYPE=image/jpeg:https://renoriver.org/wp-content/uploads/2017/04/445356497_18398052727078431_6545476689669071342_n.jpg
END:VEVENT
BEGIN:VEVENT
DTSTART;TZID=America/Los_Angeles:20270112T150000
DTEND;TZID=America/Los_Angeles:20270112T183000
DTSTAMP:20260421T113844
CREATED:20240119T210741Z
LAST-MODIFIED:20250402T232028Z
UID:10007358-1799766000-1799778600@renoriver.org
SUMMARY:Happy Hour at Sierra Tap House
DESCRIPTION:Happy Hour 3 PM – 6:30 PM
URL:https://renoriver.org/event/happy-hour-at-sierra-tap-house/2027-01-12/
CATEGORIES:Drink Specials,Happy Hour
ATTACH;FMTTYPE=image/png:https://renoriver.org/wp-content/uploads/2024/01/Happy_Hour_Sierra_Tap_House.png
END:VEVENT
BEGIN:VEVENT
DTSTART;TZID=America/Los_Angeles:20270112T150000
DTEND;TZID=America/Los_Angeles:20270112T233000
DTSTAMP:20260421T113844
CREATED:20240214T205722Z
LAST-MODIFIED:20250402T231834Z
UID:10006454-1799766000-1799796600@renoriver.org
SUMMARY:Local Tuesdays at Ole Bridge Pub
DESCRIPTION:Enjoy $2 off our Moscow Mules
URL:https://renoriver.org/event/local-tuesdays-at-ole-bridge-pub/2027-01-12/
CATEGORIES:Drink Specials
ATTACH;FMTTYPE=image/png:https://renoriver.org/wp-content/uploads/2024/06/social_tiles6.png
END:VEVENT
BEGIN:VEVENT
DTSTART;TZID=America/Los_Angeles:20270112T160000
DTEND;TZID=America/Los_Angeles:20270112T180000
DTSTAMP:20260421T113844
CREATED:20240119T195042Z
LAST-MODIFIED:20250402T231713Z
UID:10005466-1799769600-1799776800@renoriver.org
SUMMARY:Wild River Grille Happy Hour
DESCRIPTION:Daily Happy Hour Mon – Fri 4 PM – 6 PM
URL:https://renoriver.org/event/wild-river-grille-happy-hour/2027-01-12/
CATEGORIES:Drink Specials,Happy Hour
ATTACH;FMTTYPE=image/jpeg:https://renoriver.org/wp-content/uploads/2024/01/Wild_River_Grille_Happy_Hour.jpeg
END:VEVENT
BEGIN:VEVENT
DTSTART;TZID=America/Los_Angeles:20270112T190000
DTEND;TZID=America/Los_Angeles:20270112T210000
DTSTAMP:20260421T113844
CREATED:20240119T205615Z
LAST-MODIFIED:20250402T231511Z
UID:10004562-1799780400-1799787600@renoriver.org
SUMMARY:DJ Trivia at Sierra Tap House
DESCRIPTION:Grab your friends and play a game of DJ Trivia 7:30 PM – 9:30 PM at Sierra Tap House. Sign-ups start at 7:00 p.m.
URL:https://renoriver.org/event/dj-trivia-at-sierra-tap-house/2027-01-12/
CATEGORIES:DJ Trivia
ATTACH;FMTTYPE=image/png:https://renoriver.org/wp-content/uploads/2024/01/DJ_Trivia_STH.png
END:VEVENT
BEGIN:VEVENT
DTSTART;VALUE=DATE:20270113
DTEND;VALUE=DATE:20270114
DTSTAMP:20260421T113844
CREATED:20240903T191008Z
LAST-MODIFIED:20250402T230804Z
UID:10002623-1799798400-1799884799@renoriver.org
SUMMARY:Burger\, Beer\, & Shot $20 Any Day
DESCRIPTION:Our Burger (no substitutions) with fries on the side\, a select bottled beer\, and a well shot included.
URL:https://renoriver.org/event/burger-beer-shot-20-any-day/2027-01-13/
CATEGORIES:Daily Specials,Drink Specials,Food Specials,Rush The River
ATTACH;FMTTYPE=image/jpeg:https://renoriver.org/wp-content/uploads/2017/04/Black-and-White-Bottlecap-jpeg-Cory-Holdridge-scaled-1.jpg
END:VEVENT
BEGIN:VEVENT
DTSTART;TZID=America/Los_Angeles:20270113T150000
DTEND;TZID=America/Los_Angeles:20270113T180000
DTSTAMP:20260421T113844
CREATED:20240214T194005Z
LAST-MODIFIED:20250402T232208Z
UID:10008935-1799852400-1799863200@renoriver.org
SUMMARY:Happy Hour at Ole Bridge Pub
DESCRIPTION:Enjoy $2 off most beer\, house wine\, and well drinks.
URL:https://renoriver.org/event/happy-hour-at-ole-bridge-pub/2027-01-13/
CATEGORIES:Drink Specials,Happy Hour
ATTACH;FMTTYPE=image/jpeg:https://renoriver.org/wp-content/uploads/2024/06/social_tiles7.1.jpg
END:VEVENT
BEGIN:VEVENT
DTSTART;TZID=America/Los_Angeles:20270113T150000
DTEND;TZID=America/Los_Angeles:20270113T180000
DTSTAMP:20260421T113844
CREATED:20240903T191454Z
LAST-MODIFIED:20250402T230705Z
UID:10000921-1799852400-1799863200@renoriver.org
SUMMARY:Our Bar Happy Hour
DESCRIPTION:Monday-Friday 3:00 pm – 6:00 pm $2.00 off any draft beer\, bottle\, can\, well cocktail\, or glass of wine.
URL:https://renoriver.org/event/our-bar-happy-hour/2027-01-13/
CATEGORIES:Daily Specials,Drink Specials
ATTACH;FMTTYPE=image/jpeg:https://renoriver.org/wp-content/uploads/2017/04/445356497_18398052727078431_6545476689669071342_n.jpg
END:VEVENT
BEGIN:VEVENT
DTSTART;TZID=America/Los_Angeles:20270113T150000
DTEND;TZID=America/Los_Angeles:20270113T183000
DTSTAMP:20260421T113844
CREATED:20240119T210741Z
LAST-MODIFIED:20250402T232028Z
UID:10007359-1799852400-1799865000@renoriver.org
SUMMARY:Happy Hour at Sierra Tap House
DESCRIPTION:Happy Hour 3 PM – 6:30 PM
URL:https://renoriver.org/event/happy-hour-at-sierra-tap-house/2027-01-13/
CATEGORIES:Drink Specials,Happy Hour
ATTACH;FMTTYPE=image/png:https://renoriver.org/wp-content/uploads/2024/01/Happy_Hour_Sierra_Tap_House.png
END:VEVENT
BEGIN:VEVENT
DTSTART;TZID=America/Los_Angeles:20270113T150000
DTEND;TZID=America/Los_Angeles:20270113T233000
DTSTAMP:20260421T113845
CREATED:20240119T203545Z
LAST-MODIFIED:20250402T232730Z
UID:10011499-1799852400-1799883000@renoriver.org
SUMMARY:All Day Happy Hour at Shim's
DESCRIPTION:Celebrate Happy Hour all day with us! From 3:00 p.m to close\, enjoy two for one all drafts\, well drinks\, and house wines.
URL:https://renoriver.org/event/all-day-happy-hour-at-shims/2027-01-13/
CATEGORIES:Drink Specials,Happy Hour
ATTACH;FMTTYPE=image/png:https://renoriver.org/wp-content/uploads/2024/01/All_Day_Happy_Hour_Shims-1.png
END:VEVENT
BEGIN:VEVENT
DTSTART;TZID=America/Los_Angeles:20270113T150000
DTEND;TZID=America/Los_Angeles:20270113T233000
DTSTAMP:20260421T113845
CREATED:20240214T194930Z
LAST-MODIFIED:20250402T232950Z
UID:10011814-1799852400-1799883000@renoriver.org
SUMMARY:Can Wednesdays at Ole Bridge Pub
DESCRIPTION:Enjoy $2 off all cans
URL:https://renoriver.org/event/can-wednesdays-at-ole-bridge-pub/2027-01-13/
CATEGORIES:Drink Specials
ATTACH;FMTTYPE=image/png:https://renoriver.org/wp-content/uploads/2024/06/social_tiles_can_wednesday10.png
END:VEVENT
BEGIN:VEVENT
DTSTART;TZID=America/Los_Angeles:20270113T160000
DTEND;TZID=America/Los_Angeles:20270113T180000
DTSTAMP:20260421T113845
CREATED:20240119T195042Z
LAST-MODIFIED:20250402T231713Z
UID:10005467-1799856000-1799863200@renoriver.org
SUMMARY:Wild River Grille Happy Hour
DESCRIPTION:Daily Happy Hour Mon – Fri 4 PM – 6 PM
URL:https://renoriver.org/event/wild-river-grille-happy-hour/2027-01-13/
CATEGORIES:Drink Specials,Happy Hour
ATTACH;FMTTYPE=image/jpeg:https://renoriver.org/wp-content/uploads/2024/01/Wild_River_Grille_Happy_Hour.jpeg
END:VEVENT
BEGIN:VEVENT
DTSTART;TZID=America/Los_Angeles:20270113T190000
DTEND;TZID=America/Los_Angeles:20270113T210000
DTSTAMP:20260421T113845
CREATED:20240214T204301Z
LAST-MODIFIED:20250402T233103Z
UID:10012129-1799866800-1799874000@renoriver.org
SUMMARY:DJ Trivia at Ole Bridge Pub
DESCRIPTION:Fun\, Live\, Interactive Trivia Game that includes you\, your team\, other teams\, and a live DJ host. Every Wednesday 7-9pm
URL:https://renoriver.org/event/dj-trivia-at-ole-bridge-pub/2027-01-13/
CATEGORIES:DJ Trivia
ATTACH;FMTTYPE=image/png:https://renoriver.org/wp-content/uploads/2024/06/social_tiles_DJ_trivia11.png
END:VEVENT
BEGIN:VEVENT
DTSTART;VALUE=DATE:20270114
DTEND;VALUE=DATE:20270115
DTSTAMP:20260421T113845
CREATED:20240119T212408Z
LAST-MODIFIED:20250402T233505Z
UID:10012447-1799884800-1799971199@renoriver.org
SUMMARY:Thankful Thursdays at The Brewer's Cabinet
DESCRIPTION:Receive $10 off when you spend $35+ for first responders\, teachers\, military\, and police. Offer valid every Thursday at all The Brewer’s Cabinet locations.
URL:https://renoriver.org/event/thankful-thursdays-at-the-brewers-cabinet/2027-01-14/
CATEGORIES:Daily Specials,Drink Specials
ATTACH;FMTTYPE=image/png:https://renoriver.org/wp-content/uploads/2024/01/Thankful_Thursday.png
END:VEVENT
BEGIN:VEVENT
DTSTART;VALUE=DATE:20270114
DTEND;VALUE=DATE:20270115
DTSTAMP:20260421T113845
CREATED:20240903T191008Z
LAST-MODIFIED:20250402T230804Z
UID:10002624-1799884800-1799971199@renoriver.org
SUMMARY:Burger\, Beer\, & Shot $20 Any Day
DESCRIPTION:Our Burger (no substitutions) with fries on the side\, a select bottled beer\, and a well shot included.
URL:https://renoriver.org/event/burger-beer-shot-20-any-day/2027-01-14/
CATEGORIES:Daily Specials,Drink Specials,Food Specials,Rush The River
ATTACH;FMTTYPE=image/jpeg:https://renoriver.org/wp-content/uploads/2017/04/Black-and-White-Bottlecap-jpeg-Cory-Holdridge-scaled-1.jpg
END:VEVENT
BEGIN:VEVENT
DTSTART;TZID=America/Los_Angeles:20270114T120000
DTEND;TZID=America/Los_Angeles:20270114T233000
DTSTAMP:20260421T113845
CREATED:20240119T210117Z
LAST-MODIFIED:20250402T233849Z
UID:10012762-1799928000-1799969400@renoriver.org
SUMMARY:Tahoe Thursdays at Sierra Tap House
DESCRIPTION:Enjoy $4 Tahoe Beer Cans during our Tahoe Thursday and College Night at Sierra Tap House.
URL:https://renoriver.org/event/tahoe-thursdays-at-sierra-tap-house/2027-01-14/
CATEGORIES:Drink Specials
ATTACH;FMTTYPE=image/png:https://renoriver.org/wp-content/uploads/2024/01/Tahoe_Thursday.png
END:VEVENT
BEGIN:VEVENT
DTSTART;TZID=America/Los_Angeles:20270114T150000
DTEND;TZID=America/Los_Angeles:20270114T180000
DTSTAMP:20260421T113845
CREATED:20240119T202643Z
LAST-MODIFIED:20250402T232328Z
UID:10010364-1799938800-1799949600@renoriver.org
SUMMARY:Shim's Happy Hour
DESCRIPTION:Daily Happy Hour Mon – Fri 3 PM – 6 PM. Enjoy two for one all drafts\, well drinks\, and house wines.
URL:https://renoriver.org/event/shims-happy-hour/2027-01-14/
CATEGORIES:Drink Specials,Happy Hour
ATTACH;FMTTYPE=image/jpeg:https://renoriver.org/wp-content/uploads/2023/10/380658482_861006098925568_8146902726083313491_n.jpg
END:VEVENT
BEGIN:VEVENT
DTSTART;TZID=America/Los_Angeles:20270114T150000
DTEND;TZID=America/Los_Angeles:20270114T180000
DTSTAMP:20260421T113845
CREATED:20240214T194005Z
LAST-MODIFIED:20250402T232208Z
UID:10008936-1799938800-1799949600@renoriver.org
SUMMARY:Happy Hour at Ole Bridge Pub
DESCRIPTION:Enjoy $2 off most beer\, house wine\, and well drinks.
URL:https://renoriver.org/event/happy-hour-at-ole-bridge-pub/2027-01-14/
CATEGORIES:Drink Specials,Happy Hour
ATTACH;FMTTYPE=image/jpeg:https://renoriver.org/wp-content/uploads/2024/06/social_tiles7.1.jpg
END:VEVENT
BEGIN:VEVENT
DTSTART;TZID=America/Los_Angeles:20270114T150000
DTEND;TZID=America/Los_Angeles:20270114T180000
DTSTAMP:20260421T113845
CREATED:20240903T191454Z
LAST-MODIFIED:20250402T230705Z
UID:10000922-1799938800-1799949600@renoriver.org
SUMMARY:Our Bar Happy Hour
DESCRIPTION:Monday-Friday 3:00 pm – 6:00 pm $2.00 off any draft beer\, bottle\, can\, well cocktail\, or glass of wine.
URL:https://renoriver.org/event/our-bar-happy-hour/2027-01-14/
CATEGORIES:Daily Specials,Drink Specials
ATTACH;FMTTYPE=image/jpeg:https://renoriver.org/wp-content/uploads/2017/04/445356497_18398052727078431_6545476689669071342_n.jpg
END:VEVENT
BEGIN:VEVENT
DTSTART;TZID=America/Los_Angeles:20270114T150000
DTEND;TZID=America/Los_Angeles:20270114T183000
DTSTAMP:20260421T113845
CREATED:20240119T210741Z
LAST-MODIFIED:20250402T232028Z
UID:10007360-1799938800-1799951400@renoriver.org
SUMMARY:Happy Hour at Sierra Tap House
DESCRIPTION:Happy Hour 3 PM – 6:30 PM
URL:https://renoriver.org/event/happy-hour-at-sierra-tap-house/2027-01-14/
CATEGORIES:Drink Specials,Happy Hour
ATTACH;FMTTYPE=image/png:https://renoriver.org/wp-content/uploads/2024/01/Happy_Hour_Sierra_Tap_House.png
END:VEVENT
BEGIN:VEVENT
DTSTART;TZID=America/Los_Angeles:20270114T160000
DTEND;TZID=America/Los_Angeles:20270114T180000
DTSTAMP:20260421T113845
CREATED:20240119T195042Z
LAST-MODIFIED:20250402T231713Z
UID:10005468-1799942400-1799949600@renoriver.org
SUMMARY:Wild River Grille Happy Hour
DESCRIPTION:Daily Happy Hour Mon – Fri 4 PM – 6 PM
URL:https://renoriver.org/event/wild-river-grille-happy-hour/2027-01-14/
CATEGORIES:Drink Specials,Happy Hour
ATTACH;FMTTYPE=image/jpeg:https://renoriver.org/wp-content/uploads/2024/01/Wild_River_Grille_Happy_Hour.jpeg
END:VEVENT
BEGIN:VEVENT
DTSTART;TZID=America/Los_Angeles:20270114T170000
DTEND;TZID=America/Los_Angeles:20270114T190000
DTSTAMP:20260421T113845
CREATED:20251230T194158Z
LAST-MODIFIED:20251230T194200Z
UID:10018315-1799946000-1799953200@renoriver.org
SUMMARY:First Thursdays at Nevada Museum of Art
DESCRIPTION:March 07\, 2024 First Thursday returns loud and proud with live music presented in partnership with Loud As Folk\, a regional singer-songwriter showcase. Meet up with friends for this long-standing monthly tradition of live music\, beer and plenty of fun.
URL:https://renoriver.org/event/first-thursdays-at-nevada-museum-of-art-2/2027-01-14/
CATEGORIES:Concerts,Drink Specials
ATTACH;FMTTYPE=image/jpeg:https://renoriver.org/wp-content/uploads/2017/07/307672682_10158345482726805_1060613514385639335_n-1.jpg
END:VEVENT
BEGIN:VEVENT
DTSTART;VALUE=DATE:20270115
DTEND;VALUE=DATE:20270116
DTSTAMP:20260421T113845
CREATED:20240119T212657Z
LAST-MODIFIED:20250402T234042Z
UID:10013077-1799971200-1800057599@renoriver.org
SUMMARY:Wolf Pack Fridays at The Brewer's Cabinet
DESCRIPTION:Support the Wolf Pack and wear your UNR gear to The Brewer’s Cabinet every Friday to receive 10% off your order. Offer valid every Thursday.
URL:https://renoriver.org/event/wolf-pack-fridays-at-the-brewers-cabinet/2027-01-15/
CATEGORIES:Daily Specials
ATTACH;FMTTYPE=image/png:https://renoriver.org/wp-content/uploads/2024/01/Wolf_Pack.png
END:VEVENT
BEGIN:VEVENT
DTSTART;VALUE=DATE:20270115
DTEND;VALUE=DATE:20270116
DTSTAMP:20260421T113845
CREATED:20240903T191008Z
LAST-MODIFIED:20250402T230804Z
UID:10002625-1799971200-1800057599@renoriver.org
SUMMARY:Burger\, Beer\, & Shot $20 Any Day
DESCRIPTION:Our Burger (no substitutions) with fries on the side\, a select bottled beer\, and a well shot included.
URL:https://renoriver.org/event/burger-beer-shot-20-any-day/2027-01-15/
CATEGORIES:Daily Specials,Drink Specials,Food Specials,Rush The River
ATTACH;FMTTYPE=image/jpeg:https://renoriver.org/wp-content/uploads/2017/04/Black-and-White-Bottlecap-jpeg-Cory-Holdridge-scaled-1.jpg
END:VEVENT
BEGIN:VEVENT
DTSTART;TZID=America/Los_Angeles:20270115T150000
DTEND;TZID=America/Los_Angeles:20270115T180000
DTSTAMP:20260421T113845
CREATED:20240119T202643Z
LAST-MODIFIED:20250402T232328Z
UID:10010365-1800025200-1800036000@renoriver.org
SUMMARY:Shim's Happy Hour
DESCRIPTION:Daily Happy Hour Mon – Fri 3 PM – 6 PM. Enjoy two for one all drafts\, well drinks\, and house wines.
URL:https://renoriver.org/event/shims-happy-hour/2027-01-15/
CATEGORIES:Drink Specials,Happy Hour
ATTACH;FMTTYPE=image/jpeg:https://renoriver.org/wp-content/uploads/2023/10/380658482_861006098925568_8146902726083313491_n.jpg
END:VEVENT
BEGIN:VEVENT
DTSTART;TZID=America/Los_Angeles:20270115T150000
DTEND;TZID=America/Los_Angeles:20270115T180000
DTSTAMP:20260421T113845
CREATED:20240214T194005Z
LAST-MODIFIED:20250402T232208Z
UID:10008937-1800025200-1800036000@renoriver.org
SUMMARY:Happy Hour at Ole Bridge Pub
DESCRIPTION:Enjoy $2 off most beer\, house wine\, and well drinks.
URL:https://renoriver.org/event/happy-hour-at-ole-bridge-pub/2027-01-15/
CATEGORIES:Drink Specials,Happy Hour
ATTACH;FMTTYPE=image/jpeg:https://renoriver.org/wp-content/uploads/2024/06/social_tiles7.1.jpg
END:VEVENT
BEGIN:VEVENT
DTSTART;TZID=America/Los_Angeles:20270115T150000
DTEND;TZID=America/Los_Angeles:20270115T180000
DTSTAMP:20260421T113845
CREATED:20240903T191454Z
LAST-MODIFIED:20250402T230705Z
UID:10000923-1800025200-1800036000@renoriver.org
SUMMARY:Our Bar Happy Hour
DESCRIPTION:Monday-Friday 3:00 pm – 6:00 pm $2.00 off any draft beer\, bottle\, can\, well cocktail\, or glass of wine.
URL:https://renoriver.org/event/our-bar-happy-hour/2027-01-15/
CATEGORIES:Daily Specials,Drink Specials
ATTACH;FMTTYPE=image/jpeg:https://renoriver.org/wp-content/uploads/2017/04/445356497_18398052727078431_6545476689669071342_n.jpg
END:VEVENT
BEGIN:VEVENT
DTSTART;TZID=America/Los_Angeles:20270115T150000
DTEND;TZID=America/Los_Angeles:20270115T183000
DTSTAMP:20260421T113845
CREATED:20240119T210741Z
LAST-MODIFIED:20250402T232028Z
UID:10007361-1800025200-1800037800@renoriver.org
SUMMARY:Happy Hour at Sierra Tap House
DESCRIPTION:Happy Hour 3 PM – 6:30 PM
URL:https://renoriver.org/event/happy-hour-at-sierra-tap-house/2027-01-15/
CATEGORIES:Drink Specials,Happy Hour
ATTACH;FMTTYPE=image/png:https://renoriver.org/wp-content/uploads/2024/01/Happy_Hour_Sierra_Tap_House.png
END:VEVENT
BEGIN:VEVENT
DTSTART;TZID=America/Los_Angeles:20270115T160000
DTEND;TZID=America/Los_Angeles:20270115T180000
DTSTAMP:20260421T113845
CREATED:20240119T195042Z
LAST-MODIFIED:20250402T231713Z
UID:10005469-1800028800-1800036000@renoriver.org
SUMMARY:Wild River Grille Happy Hour
DESCRIPTION:Daily Happy Hour Mon – Fri 4 PM – 6 PM
URL:https://renoriver.org/event/wild-river-grille-happy-hour/2027-01-15/
CATEGORIES:Drink Specials,Happy Hour
ATTACH;FMTTYPE=image/jpeg:https://renoriver.org/wp-content/uploads/2024/01/Wild_River_Grille_Happy_Hour.jpeg
END:VEVENT
END:VCALENDAR