BEGIN:VCALENDAR
VERSION:2.0
PRODID:-//The Riverwalk District - ECPv6.15.19//NONSGML v1.0//EN
CALSCALE:GREGORIAN
METHOD:PUBLISH
X-WR-CALNAME:The Riverwalk District
X-ORIGINAL-URL:https://renoriver.org
X-WR-CALDESC:Events for The Riverwalk District
REFRESH-INTERVAL;VALUE=DURATION:PT1H
X-Robots-Tag:noindex
X-PUBLISHED-TTL:PT1H
BEGIN:VTIMEZONE
TZID:America/Los_Angeles
BEGIN:DAYLIGHT
TZOFFSETFROM:-0800
TZOFFSETTO:-0700
TZNAME:PDT
DTSTART:20250309T100000
END:DAYLIGHT
BEGIN:STANDARD
TZOFFSETFROM:-0700
TZOFFSETTO:-0800
TZNAME:PST
DTSTART:20251102T090000
END:STANDARD
BEGIN:DAYLIGHT
TZOFFSETFROM:-0800
TZOFFSETTO:-0700
TZNAME:PDT
DTSTART:20260308T100000
END:DAYLIGHT
BEGIN:STANDARD
TZOFFSETFROM:-0700
TZOFFSETTO:-0800
TZNAME:PST
DTSTART:20261101T090000
END:STANDARD
BEGIN:DAYLIGHT
TZOFFSETFROM:-0800
TZOFFSETTO:-0700
TZNAME:PDT
DTSTART:20270314T100000
END:DAYLIGHT
BEGIN:STANDARD
TZOFFSETFROM:-0700
TZOFFSETTO:-0800
TZNAME:PST
DTSTART:20271107T090000
END:STANDARD
END:VTIMEZONE
BEGIN:VEVENT
DTSTART;TZID=America/Los_Angeles:20260421T150000
DTEND;TZID=America/Los_Angeles:20260421T180000
DTSTAMP:20260421T090901
CREATED:20240119T202643Z
LAST-MODIFIED:20250402T232328Z
UID:10010211-1776783600-1776794400@renoriver.org
SUMMARY:Shim's Happy Hour
DESCRIPTION:Daily Happy Hour Mon – Fri 3 PM – 6 PM. Enjoy two for one all drafts\, well drinks\, and house wines.
URL:https://renoriver.org/event/shims-happy-hour/2026-04-21/
CATEGORIES:Drink Specials,Happy Hour
ATTACH;FMTTYPE=image/jpeg:https://renoriver.org/wp-content/uploads/2023/10/380658482_861006098925568_8146902726083313491_n.jpg
END:VEVENT
BEGIN:VEVENT
DTSTART;TZID=America/Los_Angeles:20260423T150000
DTEND;TZID=America/Los_Angeles:20260423T180000
DTSTAMP:20260421T090901
CREATED:20240119T202643Z
LAST-MODIFIED:20250402T232328Z
UID:10010212-1776956400-1776967200@renoriver.org
SUMMARY:Shim's Happy Hour
DESCRIPTION:Daily Happy Hour Mon – Fri 3 PM – 6 PM. Enjoy two for one all drafts\, well drinks\, and house wines.
URL:https://renoriver.org/event/shims-happy-hour/2026-04-23/
CATEGORIES:Drink Specials,Happy Hour
ATTACH;FMTTYPE=image/jpeg:https://renoriver.org/wp-content/uploads/2023/10/380658482_861006098925568_8146902726083313491_n.jpg
END:VEVENT
BEGIN:VEVENT
DTSTART;TZID=America/Los_Angeles:20260424T150000
DTEND;TZID=America/Los_Angeles:20260424T180000
DTSTAMP:20260421T090901
CREATED:20240119T202643Z
LAST-MODIFIED:20250402T232328Z
UID:10010213-1777042800-1777053600@renoriver.org
SUMMARY:Shim's Happy Hour
DESCRIPTION:Daily Happy Hour Mon – Fri 3 PM – 6 PM. Enjoy two for one all drafts\, well drinks\, and house wines.
URL:https://renoriver.org/event/shims-happy-hour/2026-04-24/
CATEGORIES:Drink Specials,Happy Hour
ATTACH;FMTTYPE=image/jpeg:https://renoriver.org/wp-content/uploads/2023/10/380658482_861006098925568_8146902726083313491_n.jpg
END:VEVENT
BEGIN:VEVENT
DTSTART;TZID=America/Los_Angeles:20260427T150000
DTEND;TZID=America/Los_Angeles:20260427T180000
DTSTAMP:20260421T090901
CREATED:20240119T202643Z
LAST-MODIFIED:20250402T232328Z
UID:10010214-1777302000-1777312800@renoriver.org
SUMMARY:Shim's Happy Hour
DESCRIPTION:Daily Happy Hour Mon – Fri 3 PM – 6 PM. Enjoy two for one all drafts\, well drinks\, and house wines.
URL:https://renoriver.org/event/shims-happy-hour/2026-04-27/
CATEGORIES:Drink Specials,Happy Hour
ATTACH;FMTTYPE=image/jpeg:https://renoriver.org/wp-content/uploads/2023/10/380658482_861006098925568_8146902726083313491_n.jpg
END:VEVENT
BEGIN:VEVENT
DTSTART;TZID=America/Los_Angeles:20260428T150000
DTEND;TZID=America/Los_Angeles:20260428T180000
DTSTAMP:20260421T090901
CREATED:20240119T202643Z
LAST-MODIFIED:20250402T232328Z
UID:10010215-1777388400-1777399200@renoriver.org
SUMMARY:Shim's Happy Hour
DESCRIPTION:Daily Happy Hour Mon – Fri 3 PM – 6 PM. Enjoy two for one all drafts\, well drinks\, and house wines.
URL:https://renoriver.org/event/shims-happy-hour/2026-04-28/
CATEGORIES:Drink Specials,Happy Hour
ATTACH;FMTTYPE=image/jpeg:https://renoriver.org/wp-content/uploads/2023/10/380658482_861006098925568_8146902726083313491_n.jpg
END:VEVENT
BEGIN:VEVENT
DTSTART;TZID=America/Los_Angeles:20260430T150000
DTEND;TZID=America/Los_Angeles:20260430T180000
DTSTAMP:20260421T090901
CREATED:20240119T202643Z
LAST-MODIFIED:20250402T232328Z
UID:10010216-1777561200-1777572000@renoriver.org
SUMMARY:Shim's Happy Hour
DESCRIPTION:Daily Happy Hour Mon – Fri 3 PM – 6 PM. Enjoy two for one all drafts\, well drinks\, and house wines.
URL:https://renoriver.org/event/shims-happy-hour/2026-04-30/
CATEGORIES:Drink Specials,Happy Hour
ATTACH;FMTTYPE=image/jpeg:https://renoriver.org/wp-content/uploads/2023/10/380658482_861006098925568_8146902726083313491_n.jpg
END:VEVENT
BEGIN:VEVENT
DTSTART;TZID=America/Los_Angeles:20260501T150000
DTEND;TZID=America/Los_Angeles:20260501T180000
DTSTAMP:20260421T090901
CREATED:20240119T202643Z
LAST-MODIFIED:20250402T232328Z
UID:10010217-1777647600-1777658400@renoriver.org
SUMMARY:Shim's Happy Hour
DESCRIPTION:Daily Happy Hour Mon – Fri 3 PM – 6 PM. Enjoy two for one all drafts\, well drinks\, and house wines.
URL:https://renoriver.org/event/shims-happy-hour/2026-05-01/
CATEGORIES:Drink Specials,Happy Hour
ATTACH;FMTTYPE=image/jpeg:https://renoriver.org/wp-content/uploads/2023/10/380658482_861006098925568_8146902726083313491_n.jpg
END:VEVENT
BEGIN:VEVENT
DTSTART;TZID=America/Los_Angeles:20260504T150000
DTEND;TZID=America/Los_Angeles:20260504T180000
DTSTAMP:20260421T090901
CREATED:20240119T202643Z
LAST-MODIFIED:20250402T232328Z
UID:10010218-1777906800-1777917600@renoriver.org
SUMMARY:Shim's Happy Hour
DESCRIPTION:Daily Happy Hour Mon – Fri 3 PM – 6 PM. Enjoy two for one all drafts\, well drinks\, and house wines.
URL:https://renoriver.org/event/shims-happy-hour/2026-05-04/
CATEGORIES:Drink Specials,Happy Hour
ATTACH;FMTTYPE=image/jpeg:https://renoriver.org/wp-content/uploads/2023/10/380658482_861006098925568_8146902726083313491_n.jpg
END:VEVENT
BEGIN:VEVENT
DTSTART;TZID=America/Los_Angeles:20260505T150000
DTEND;TZID=America/Los_Angeles:20260505T180000
DTSTAMP:20260421T090901
CREATED:20240119T202643Z
LAST-MODIFIED:20250402T232328Z
UID:10010219-1777993200-1778004000@renoriver.org
SUMMARY:Shim's Happy Hour
DESCRIPTION:Daily Happy Hour Mon – Fri 3 PM – 6 PM. Enjoy two for one all drafts\, well drinks\, and house wines.
URL:https://renoriver.org/event/shims-happy-hour/2026-05-05/
CATEGORIES:Drink Specials,Happy Hour
ATTACH;FMTTYPE=image/jpeg:https://renoriver.org/wp-content/uploads/2023/10/380658482_861006098925568_8146902726083313491_n.jpg
END:VEVENT
BEGIN:VEVENT
DTSTART;TZID=America/Los_Angeles:20260507T150000
DTEND;TZID=America/Los_Angeles:20260507T180000
DTSTAMP:20260421T090901
CREATED:20240119T202643Z
LAST-MODIFIED:20250402T232328Z
UID:10010220-1778166000-1778176800@renoriver.org
SUMMARY:Shim's Happy Hour
DESCRIPTION:Daily Happy Hour Mon – Fri 3 PM – 6 PM. Enjoy two for one all drafts\, well drinks\, and house wines.
URL:https://renoriver.org/event/shims-happy-hour/2026-05-07/
CATEGORIES:Drink Specials,Happy Hour
ATTACH;FMTTYPE=image/jpeg:https://renoriver.org/wp-content/uploads/2023/10/380658482_861006098925568_8146902726083313491_n.jpg
END:VEVENT
BEGIN:VEVENT
DTSTART;TZID=America/Los_Angeles:20260508T150000
DTEND;TZID=America/Los_Angeles:20260508T180000
DTSTAMP:20260421T090901
CREATED:20240119T202643Z
LAST-MODIFIED:20250402T232328Z
UID:10010221-1778252400-1778263200@renoriver.org
SUMMARY:Shim's Happy Hour
DESCRIPTION:Daily Happy Hour Mon – Fri 3 PM – 6 PM. Enjoy two for one all drafts\, well drinks\, and house wines.
URL:https://renoriver.org/event/shims-happy-hour/2026-05-08/
CATEGORIES:Drink Specials,Happy Hour
ATTACH;FMTTYPE=image/jpeg:https://renoriver.org/wp-content/uploads/2023/10/380658482_861006098925568_8146902726083313491_n.jpg
END:VEVENT
BEGIN:VEVENT
DTSTART;TZID=America/Los_Angeles:20260511T150000
DTEND;TZID=America/Los_Angeles:20260511T180000
DTSTAMP:20260421T090901
CREATED:20240119T202643Z
LAST-MODIFIED:20250402T232328Z
UID:10010222-1778511600-1778522400@renoriver.org
SUMMARY:Shim's Happy Hour
DESCRIPTION:Daily Happy Hour Mon – Fri 3 PM – 6 PM. Enjoy two for one all drafts\, well drinks\, and house wines.
URL:https://renoriver.org/event/shims-happy-hour/2026-05-11/
CATEGORIES:Drink Specials,Happy Hour
ATTACH;FMTTYPE=image/jpeg:https://renoriver.org/wp-content/uploads/2023/10/380658482_861006098925568_8146902726083313491_n.jpg
END:VEVENT
BEGIN:VEVENT
DTSTART;TZID=America/Los_Angeles:20260512T150000
DTEND;TZID=America/Los_Angeles:20260512T180000
DTSTAMP:20260421T090901
CREATED:20240119T202643Z
LAST-MODIFIED:20250402T232328Z
UID:10010223-1778598000-1778608800@renoriver.org
SUMMARY:Shim's Happy Hour
DESCRIPTION:Daily Happy Hour Mon – Fri 3 PM – 6 PM. Enjoy two for one all drafts\, well drinks\, and house wines.
URL:https://renoriver.org/event/shims-happy-hour/2026-05-12/
CATEGORIES:Drink Specials,Happy Hour
ATTACH;FMTTYPE=image/jpeg:https://renoriver.org/wp-content/uploads/2023/10/380658482_861006098925568_8146902726083313491_n.jpg
END:VEVENT
BEGIN:VEVENT
DTSTART;TZID=America/Los_Angeles:20260514T150000
DTEND;TZID=America/Los_Angeles:20260514T180000
DTSTAMP:20260421T090901
CREATED:20240119T202643Z
LAST-MODIFIED:20250402T232328Z
UID:10010224-1778770800-1778781600@renoriver.org
SUMMARY:Shim's Happy Hour
DESCRIPTION:Daily Happy Hour Mon – Fri 3 PM – 6 PM. Enjoy two for one all drafts\, well drinks\, and house wines.
URL:https://renoriver.org/event/shims-happy-hour/2026-05-14/
CATEGORIES:Drink Specials,Happy Hour
ATTACH;FMTTYPE=image/jpeg:https://renoriver.org/wp-content/uploads/2023/10/380658482_861006098925568_8146902726083313491_n.jpg
END:VEVENT
BEGIN:VEVENT
DTSTART;TZID=America/Los_Angeles:20260515T150000
DTEND;TZID=America/Los_Angeles:20260515T180000
DTSTAMP:20260421T090901
CREATED:20240119T202643Z
LAST-MODIFIED:20250402T232328Z
UID:10010225-1778857200-1778868000@renoriver.org
SUMMARY:Shim's Happy Hour
DESCRIPTION:Daily Happy Hour Mon – Fri 3 PM – 6 PM. Enjoy two for one all drafts\, well drinks\, and house wines.
URL:https://renoriver.org/event/shims-happy-hour/2026-05-15/
CATEGORIES:Drink Specials,Happy Hour
ATTACH;FMTTYPE=image/jpeg:https://renoriver.org/wp-content/uploads/2023/10/380658482_861006098925568_8146902726083313491_n.jpg
END:VEVENT
BEGIN:VEVENT
DTSTART;TZID=America/Los_Angeles:20260518T150000
DTEND;TZID=America/Los_Angeles:20260518T180000
DTSTAMP:20260421T090901
CREATED:20240119T202643Z
LAST-MODIFIED:20250402T232328Z
UID:10010226-1779116400-1779127200@renoriver.org
SUMMARY:Shim's Happy Hour
DESCRIPTION:Daily Happy Hour Mon – Fri 3 PM – 6 PM. Enjoy two for one all drafts\, well drinks\, and house wines.
URL:https://renoriver.org/event/shims-happy-hour/2026-05-18/
CATEGORIES:Drink Specials,Happy Hour
ATTACH;FMTTYPE=image/jpeg:https://renoriver.org/wp-content/uploads/2023/10/380658482_861006098925568_8146902726083313491_n.jpg
END:VEVENT
BEGIN:VEVENT
DTSTART;TZID=America/Los_Angeles:20260519T150000
DTEND;TZID=America/Los_Angeles:20260519T180000
DTSTAMP:20260421T090901
CREATED:20240119T202643Z
LAST-MODIFIED:20250402T232328Z
UID:10010227-1779202800-1779213600@renoriver.org
SUMMARY:Shim's Happy Hour
DESCRIPTION:Daily Happy Hour Mon – Fri 3 PM – 6 PM. Enjoy two for one all drafts\, well drinks\, and house wines.
URL:https://renoriver.org/event/shims-happy-hour/2026-05-19/
CATEGORIES:Drink Specials,Happy Hour
ATTACH;FMTTYPE=image/jpeg:https://renoriver.org/wp-content/uploads/2023/10/380658482_861006098925568_8146902726083313491_n.jpg
END:VEVENT
BEGIN:VEVENT
DTSTART;TZID=America/Los_Angeles:20260521T150000
DTEND;TZID=America/Los_Angeles:20260521T180000
DTSTAMP:20260421T090901
CREATED:20240119T202643Z
LAST-MODIFIED:20250402T232328Z
UID:10010228-1779375600-1779386400@renoriver.org
SUMMARY:Shim's Happy Hour
DESCRIPTION:Daily Happy Hour Mon – Fri 3 PM – 6 PM. Enjoy two for one all drafts\, well drinks\, and house wines.
URL:https://renoriver.org/event/shims-happy-hour/2026-05-21/
CATEGORIES:Drink Specials,Happy Hour
ATTACH;FMTTYPE=image/jpeg:https://renoriver.org/wp-content/uploads/2023/10/380658482_861006098925568_8146902726083313491_n.jpg
END:VEVENT
BEGIN:VEVENT
DTSTART;TZID=America/Los_Angeles:20260522T150000
DTEND;TZID=America/Los_Angeles:20260522T180000
DTSTAMP:20260421T090901
CREATED:20240119T202643Z
LAST-MODIFIED:20250402T232328Z
UID:10010229-1779462000-1779472800@renoriver.org
SUMMARY:Shim's Happy Hour
DESCRIPTION:Daily Happy Hour Mon – Fri 3 PM – 6 PM. Enjoy two for one all drafts\, well drinks\, and house wines.
URL:https://renoriver.org/event/shims-happy-hour/2026-05-22/
CATEGORIES:Drink Specials,Happy Hour
ATTACH;FMTTYPE=image/jpeg:https://renoriver.org/wp-content/uploads/2023/10/380658482_861006098925568_8146902726083313491_n.jpg
END:VEVENT
BEGIN:VEVENT
DTSTART;TZID=America/Los_Angeles:20260525T150000
DTEND;TZID=America/Los_Angeles:20260525T180000
DTSTAMP:20260421T090901
CREATED:20240119T202643Z
LAST-MODIFIED:20250402T232328Z
UID:10010230-1779721200-1779732000@renoriver.org
SUMMARY:Shim's Happy Hour
DESCRIPTION:Daily Happy Hour Mon – Fri 3 PM – 6 PM. Enjoy two for one all drafts\, well drinks\, and house wines.
URL:https://renoriver.org/event/shims-happy-hour/2026-05-25/
CATEGORIES:Drink Specials,Happy Hour
ATTACH;FMTTYPE=image/jpeg:https://renoriver.org/wp-content/uploads/2023/10/380658482_861006098925568_8146902726083313491_n.jpg
END:VEVENT
BEGIN:VEVENT
DTSTART;TZID=America/Los_Angeles:20260526T150000
DTEND;TZID=America/Los_Angeles:20260526T180000
DTSTAMP:20260421T090901
CREATED:20240119T202643Z
LAST-MODIFIED:20250402T232328Z
UID:10010231-1779807600-1779818400@renoriver.org
SUMMARY:Shim's Happy Hour
DESCRIPTION:Daily Happy Hour Mon – Fri 3 PM – 6 PM. Enjoy two for one all drafts\, well drinks\, and house wines.
URL:https://renoriver.org/event/shims-happy-hour/2026-05-26/
CATEGORIES:Drink Specials,Happy Hour
ATTACH;FMTTYPE=image/jpeg:https://renoriver.org/wp-content/uploads/2023/10/380658482_861006098925568_8146902726083313491_n.jpg
END:VEVENT
BEGIN:VEVENT
DTSTART;TZID=America/Los_Angeles:20260528T150000
DTEND;TZID=America/Los_Angeles:20260528T180000
DTSTAMP:20260421T090901
CREATED:20240119T202643Z
LAST-MODIFIED:20250402T232328Z
UID:10010232-1779980400-1779991200@renoriver.org
SUMMARY:Shim's Happy Hour
DESCRIPTION:Daily Happy Hour Mon – Fri 3 PM – 6 PM. Enjoy two for one all drafts\, well drinks\, and house wines.
URL:https://renoriver.org/event/shims-happy-hour/2026-05-28/
CATEGORIES:Drink Specials,Happy Hour
ATTACH;FMTTYPE=image/jpeg:https://renoriver.org/wp-content/uploads/2023/10/380658482_861006098925568_8146902726083313491_n.jpg
END:VEVENT
BEGIN:VEVENT
DTSTART;TZID=America/Los_Angeles:20260529T150000
DTEND;TZID=America/Los_Angeles:20260529T180000
DTSTAMP:20260421T090901
CREATED:20240119T202643Z
LAST-MODIFIED:20250402T232328Z
UID:10010233-1780066800-1780077600@renoriver.org
SUMMARY:Shim's Happy Hour
DESCRIPTION:Daily Happy Hour Mon – Fri 3 PM – 6 PM. Enjoy two for one all drafts\, well drinks\, and house wines.
URL:https://renoriver.org/event/shims-happy-hour/2026-05-29/
CATEGORIES:Drink Specials,Happy Hour
ATTACH;FMTTYPE=image/jpeg:https://renoriver.org/wp-content/uploads/2023/10/380658482_861006098925568_8146902726083313491_n.jpg
END:VEVENT
BEGIN:VEVENT
DTSTART;TZID=America/Los_Angeles:20260601T150000
DTEND;TZID=America/Los_Angeles:20260601T180000
DTSTAMP:20260421T090901
CREATED:20240119T202643Z
LAST-MODIFIED:20250402T232328Z
UID:10010234-1780326000-1780336800@renoriver.org
SUMMARY:Shim's Happy Hour
DESCRIPTION:Daily Happy Hour Mon – Fri 3 PM – 6 PM. Enjoy two for one all drafts\, well drinks\, and house wines.
URL:https://renoriver.org/event/shims-happy-hour/2026-06-01/
CATEGORIES:Drink Specials,Happy Hour
ATTACH;FMTTYPE=image/jpeg:https://renoriver.org/wp-content/uploads/2023/10/380658482_861006098925568_8146902726083313491_n.jpg
END:VEVENT
BEGIN:VEVENT
DTSTART;TZID=America/Los_Angeles:20260602T150000
DTEND;TZID=America/Los_Angeles:20260602T180000
DTSTAMP:20260421T090901
CREATED:20240119T202643Z
LAST-MODIFIED:20250402T232328Z
UID:10010235-1780412400-1780423200@renoriver.org
SUMMARY:Shim's Happy Hour
DESCRIPTION:Daily Happy Hour Mon – Fri 3 PM – 6 PM. Enjoy two for one all drafts\, well drinks\, and house wines.
URL:https://renoriver.org/event/shims-happy-hour/2026-06-02/
CATEGORIES:Drink Specials,Happy Hour
ATTACH;FMTTYPE=image/jpeg:https://renoriver.org/wp-content/uploads/2023/10/380658482_861006098925568_8146902726083313491_n.jpg
END:VEVENT
BEGIN:VEVENT
DTSTART;TZID=America/Los_Angeles:20260604T150000
DTEND;TZID=America/Los_Angeles:20260604T180000
DTSTAMP:20260421T090901
CREATED:20240119T202643Z
LAST-MODIFIED:20250402T232328Z
UID:10010236-1780585200-1780596000@renoriver.org
SUMMARY:Shim's Happy Hour
DESCRIPTION:Daily Happy Hour Mon – Fri 3 PM – 6 PM. Enjoy two for one all drafts\, well drinks\, and house wines.
URL:https://renoriver.org/event/shims-happy-hour/2026-06-04/
CATEGORIES:Drink Specials,Happy Hour
ATTACH;FMTTYPE=image/jpeg:https://renoriver.org/wp-content/uploads/2023/10/380658482_861006098925568_8146902726083313491_n.jpg
END:VEVENT
BEGIN:VEVENT
DTSTART;TZID=America/Los_Angeles:20260605T150000
DTEND;TZID=America/Los_Angeles:20260605T180000
DTSTAMP:20260421T090901
CREATED:20240119T202643Z
LAST-MODIFIED:20250402T232328Z
UID:10010237-1780671600-1780682400@renoriver.org
SUMMARY:Shim's Happy Hour
DESCRIPTION:Daily Happy Hour Mon – Fri 3 PM – 6 PM. Enjoy two for one all drafts\, well drinks\, and house wines.
URL:https://renoriver.org/event/shims-happy-hour/2026-06-05/
CATEGORIES:Drink Specials,Happy Hour
ATTACH;FMTTYPE=image/jpeg:https://renoriver.org/wp-content/uploads/2023/10/380658482_861006098925568_8146902726083313491_n.jpg
END:VEVENT
BEGIN:VEVENT
DTSTART;TZID=America/Los_Angeles:20260608T150000
DTEND;TZID=America/Los_Angeles:20260608T180000
DTSTAMP:20260421T090901
CREATED:20240119T202643Z
LAST-MODIFIED:20250402T232328Z
UID:10010238-1780930800-1780941600@renoriver.org
SUMMARY:Shim's Happy Hour
DESCRIPTION:Daily Happy Hour Mon – Fri 3 PM – 6 PM. Enjoy two for one all drafts\, well drinks\, and house wines.
URL:https://renoriver.org/event/shims-happy-hour/2026-06-08/
CATEGORIES:Drink Specials,Happy Hour
ATTACH;FMTTYPE=image/jpeg:https://renoriver.org/wp-content/uploads/2023/10/380658482_861006098925568_8146902726083313491_n.jpg
END:VEVENT
BEGIN:VEVENT
DTSTART;TZID=America/Los_Angeles:20260609T150000
DTEND;TZID=America/Los_Angeles:20260609T180000
DTSTAMP:20260421T090901
CREATED:20240119T202643Z
LAST-MODIFIED:20250402T232328Z
UID:10010239-1781017200-1781028000@renoriver.org
SUMMARY:Shim's Happy Hour
DESCRIPTION:Daily Happy Hour Mon – Fri 3 PM – 6 PM. Enjoy two for one all drafts\, well drinks\, and house wines.
URL:https://renoriver.org/event/shims-happy-hour/2026-06-09/
CATEGORIES:Drink Specials,Happy Hour
ATTACH;FMTTYPE=image/jpeg:https://renoriver.org/wp-content/uploads/2023/10/380658482_861006098925568_8146902726083313491_n.jpg
END:VEVENT
BEGIN:VEVENT
DTSTART;TZID=America/Los_Angeles:20260611T150000
DTEND;TZID=America/Los_Angeles:20260611T180000
DTSTAMP:20260421T090901
CREATED:20240119T202643Z
LAST-MODIFIED:20250402T232328Z
UID:10010240-1781190000-1781200800@renoriver.org
SUMMARY:Shim's Happy Hour
DESCRIPTION:Daily Happy Hour Mon – Fri 3 PM – 6 PM. Enjoy two for one all drafts\, well drinks\, and house wines.
URL:https://renoriver.org/event/shims-happy-hour/2026-06-11/
CATEGORIES:Drink Specials,Happy Hour
ATTACH;FMTTYPE=image/jpeg:https://renoriver.org/wp-content/uploads/2023/10/380658482_861006098925568_8146902726083313491_n.jpg
END:VEVENT
END:VCALENDAR