BEGIN:VCALENDAR
VERSION:2.0
PRODID:-//The Riverwalk District - ECPv6.15.19//NONSGML v1.0//EN
CALSCALE:GREGORIAN
METHOD:PUBLISH
X-WR-CALNAME:The Riverwalk District
X-ORIGINAL-URL:https://renoriver.org
X-WR-CALDESC:Events for The Riverwalk District
REFRESH-INTERVAL;VALUE=DURATION:PT1H
X-Robots-Tag:noindex
X-PUBLISHED-TTL:PT1H
BEGIN:VTIMEZONE
TZID:America/Los_Angeles
BEGIN:DAYLIGHT
TZOFFSETFROM:-0800
TZOFFSETTO:-0700
TZNAME:PDT
DTSTART:20230312T100000
END:DAYLIGHT
BEGIN:STANDARD
TZOFFSETFROM:-0700
TZOFFSETTO:-0800
TZNAME:PST
DTSTART:20231105T090000
END:STANDARD
BEGIN:DAYLIGHT
TZOFFSETFROM:-0800
TZOFFSETTO:-0700
TZNAME:PDT
DTSTART:20240310T100000
END:DAYLIGHT
BEGIN:STANDARD
TZOFFSETFROM:-0700
TZOFFSETTO:-0800
TZNAME:PST
DTSTART:20241103T090000
END:STANDARD
BEGIN:DAYLIGHT
TZOFFSETFROM:-0800
TZOFFSETTO:-0700
TZNAME:PDT
DTSTART:20250309T100000
END:DAYLIGHT
BEGIN:STANDARD
TZOFFSETFROM:-0700
TZOFFSETTO:-0800
TZNAME:PST
DTSTART:20251102T090000
END:STANDARD
END:VTIMEZONE
BEGIN:VEVENT
DTSTART;VALUE=DATE:20240405
DTEND;VALUE=DATE:20240406
DTSTAMP:20260425T120353
CREATED:20240119T212657Z
LAST-MODIFIED:20250402T234042Z
UID:10012932-1712275200-1712361599@renoriver.org
SUMMARY:Wolf Pack Fridays at The Brewer's Cabinet
DESCRIPTION:Support the Wolf Pack and wear your UNR gear to The Brewer’s Cabinet every Friday to receive 10% off your order. Offer valid every Thursday.
URL:https://renoriver.org/event/wolf-pack-fridays-at-the-brewers-cabinet/2024-04-05/
CATEGORIES:Daily Specials
ATTACH;FMTTYPE=image/png:https://renoriver.org/wp-content/uploads/2024/01/Wolf_Pack.png
END:VEVENT
BEGIN:VEVENT
DTSTART;TZID=America/Los_Angeles:20240405T120000
DTEND;TZID=America/Los_Angeles:20240405T123000
DTSTAMP:20260425T120353
CREATED:20240222T182600Z
LAST-MODIFIED:20250402T234316Z
UID:10013246-1712318400-1712320200@renoriver.org
SUMMARY:Pipes on the River Organ Concert Series
DESCRIPTION:Trinity Episcopal Cathedral\, 200 Island Avenue\nFree Admission\ninfo@trinityreno.org\n \nFriday March 8\, 12 pm: Organist Bryan Chuan\, music director and organist at Trinity Episcopal Cathedral\, will perform organ works by Basque composers through the centuries to celebrate Northern Nevada’s Basque Heritage. This concert is part of Trinity’s Pipes on the River Concert series\, which features guest organists and musicians from the community and around the country performing on our Casavant Organ. Admission is always free.\n \nFriday March 22\, 12 pm: UNR Chamber Singers directed by Brittney May performs works for choir and organ\, including Benjamin Britten’s Rejoice in the Lamb. This concert is part of Trinity’s Pipes on the River Concert series\, which features guest organists and musicians from the community and around the country performing on our Casavant Organ. Admission is always free.\n \nFriday April 5\, 12 pm: Organist Michael Szostak (Poland)\n \nFriday April 19\, 12 pm: Organist Monty Bennett (South Carolina)
URL:https://renoriver.org/event/pipes-on-the-river-organ-concert-series/2024-04-05/
CATEGORIES:Concerts
ATTACH;FMTTYPE=image/jpeg:https://renoriver.org/wp-content/uploads/2024/02/Pipes_on_the_River.jpeg
END:VEVENT
BEGIN:VEVENT
DTSTART;TZID=America/Los_Angeles:20240405T150000
DTEND;TZID=America/Los_Angeles:20240405T180000
DTSTAMP:20260425T120353
CREATED:20240119T202643Z
LAST-MODIFIED:20250402T232328Z
UID:10009785-1712329200-1712340000@renoriver.org
SUMMARY:Shim's Happy Hour
DESCRIPTION:Daily Happy Hour Mon – Fri 3 PM – 6 PM. Enjoy two for one all drafts\, well drinks\, and house wines.
URL:https://renoriver.org/event/shims-happy-hour/2024-04-05/
CATEGORIES:Drink Specials,Happy Hour
ATTACH;FMTTYPE=image/jpeg:https://renoriver.org/wp-content/uploads/2023/10/380658482_861006098925568_8146902726083313491_n.jpg
END:VEVENT
BEGIN:VEVENT
DTSTART;TZID=America/Los_Angeles:20240405T150000
DTEND;TZID=America/Los_Angeles:20240405T180000
DTSTAMP:20260425T120353
CREATED:20240214T194005Z
LAST-MODIFIED:20250402T232208Z
UID:10008212-1712329200-1712340000@renoriver.org
SUMMARY:Happy Hour at Ole Bridge Pub
DESCRIPTION:Enjoy $2 off most beer\, house wine\, and well drinks.
URL:https://renoriver.org/event/happy-hour-at-ole-bridge-pub/2024-04-05/
CATEGORIES:Drink Specials,Happy Hour
ATTACH;FMTTYPE=image/jpeg:https://renoriver.org/wp-content/uploads/2024/06/social_tiles7.1.jpg
END:VEVENT
BEGIN:VEVENT
DTSTART;TZID=America/Los_Angeles:20240405T150000
DTEND;TZID=America/Los_Angeles:20240405T183000
DTSTAMP:20260425T120353
CREATED:20240119T210741Z
LAST-MODIFIED:20250402T232028Z
UID:10006636-1712329200-1712341800@renoriver.org
SUMMARY:Happy Hour at Sierra Tap House
DESCRIPTION:Happy Hour 3 PM – 6:30 PM
URL:https://renoriver.org/event/happy-hour-at-sierra-tap-house/2024-04-05/
CATEGORIES:Drink Specials,Happy Hour
ATTACH;FMTTYPE=image/png:https://renoriver.org/wp-content/uploads/2024/01/Happy_Hour_Sierra_Tap_House.png
END:VEVENT
BEGIN:VEVENT
DTSTART;TZID=America/Los_Angeles:20240405T160000
DTEND;TZID=America/Los_Angeles:20240405T180000
DTSTAMP:20260425T120353
CREATED:20240119T195042Z
LAST-MODIFIED:20250402T231713Z
UID:10004744-1712332800-1712340000@renoriver.org
SUMMARY:Wild River Grille Happy Hour
DESCRIPTION:Daily Happy Hour Mon – Fri 4 PM – 6 PM
URL:https://renoriver.org/event/wild-river-grille-happy-hour/2024-04-05/
CATEGORIES:Drink Specials,Happy Hour
ATTACH;FMTTYPE=image/jpeg:https://renoriver.org/wp-content/uploads/2024/01/Wild_River_Grille_Happy_Hour.jpeg
END:VEVENT
BEGIN:VEVENT
DTSTART;TZID=America/Los_Angeles:20240406T120000
DTEND;TZID=America/Los_Angeles:20240406T150000
DTSTAMP:20260425T120353
CREATED:20240119T210430Z
LAST-MODIFIED:20250402T234743Z
UID:10013252-1712404800-1712415600@renoriver.org
SUMMARY:Mimosa and Bloody Mary Weekend at Sierra Tap House
DESCRIPTION:Join us every weekend at Sierra Tap House for $6 Mimosas & Bloody Marys  between 12 PM – 3 PM
URL:https://renoriver.org/event/mimosa-and-bloody-mary-weekend-at-sierra-tap-house/2024-04-06/
CATEGORIES:Drink Specials,Happy Hour,Rush The River
ATTACH;FMTTYPE=image/png:https://renoriver.org/wp-content/uploads/2024/01/Mimosa_and_Bloody_Mary_Weekend.png
END:VEVENT
BEGIN:VEVENT
DTSTART;TZID=America/Los_Angeles:20240406T150000
DTEND;TZID=America/Los_Angeles:20240406T170000
DTSTAMP:20260425T120353
CREATED:20240119T204108Z
LAST-MODIFIED:20250806T182407Z
UID:10016722-1712415600-1712422800@renoriver.org
SUMMARY:Bloody Mary and Mimosa Weekend at Shim's
DESCRIPTION:Spend your weekend at Shim’s from 3:00 p.m. – 5:00 p.m. where we’ll be serving up Mimosa Flights\, Mimosicles\, and $8 Bloody Marys!
URL:https://renoriver.org/event/bloody-mary-and-mimosa-weekend-at-shims/2024-04-06/
CATEGORIES:Drink Specials,Rush The River
ATTACH;FMTTYPE=image/png:https://renoriver.org/wp-content/uploads/2024/01/Screenshot-2025-08-06-at-11.22.51-AM.png
END:VEVENT
BEGIN:VEVENT
DTSTART;TZID=America/Los_Angeles:20240407T120000
DTEND;TZID=America/Los_Angeles:20240407T150000
DTSTAMP:20260425T120353
CREATED:20240119T210430Z
LAST-MODIFIED:20250402T234743Z
UID:10013253-1712491200-1712502000@renoriver.org
SUMMARY:Mimosa and Bloody Mary Weekend at Sierra Tap House
DESCRIPTION:Join us every weekend at Sierra Tap House for $6 Mimosas & Bloody Marys  between 12 PM – 3 PM
URL:https://renoriver.org/event/mimosa-and-bloody-mary-weekend-at-sierra-tap-house/2024-04-07/
CATEGORIES:Drink Specials,Happy Hour,Rush The River
ATTACH;FMTTYPE=image/png:https://renoriver.org/wp-content/uploads/2024/01/Mimosa_and_Bloody_Mary_Weekend.png
END:VEVENT
BEGIN:VEVENT
DTSTART;TZID=America/Los_Angeles:20240407T120000
DTEND;TZID=America/Los_Angeles:20240407T233000
DTSTAMP:20260425T120353
CREATED:20240214T205028Z
LAST-MODIFIED:20250402T234918Z
UID:10013880-1712491200-1712532600@renoriver.org
SUMMARY:Bloody Mary Sundays at Ole Bridge Pub
DESCRIPTION:Enjoy All-Day $6 Bloody Marys & $15 All-You Can Drink Mimosas 12PM – 2PM.
URL:https://renoriver.org/event/bloody-mary-sundays-at-ole-bridge-pub/2024-04-07/
CATEGORIES:Drink Specials,Rush The River
ATTACH;FMTTYPE=image/jpeg:https://renoriver.org/wp-content/uploads/2024/06/social_tiles10.jpg
END:VEVENT
BEGIN:VEVENT
DTSTART;TZID=America/Los_Angeles:20240407T150000
DTEND;TZID=America/Los_Angeles:20240407T170000
DTSTAMP:20260425T120353
CREATED:20240119T204108Z
LAST-MODIFIED:20250806T182407Z
UID:10016723-1712502000-1712509200@renoriver.org
SUMMARY:Bloody Mary and Mimosa Weekend at Shim's
DESCRIPTION:Spend your weekend at Shim’s from 3:00 p.m. – 5:00 p.m. where we’ll be serving up Mimosa Flights\, Mimosicles\, and $8 Bloody Marys!
URL:https://renoriver.org/event/bloody-mary-and-mimosa-weekend-at-shims/2024-04-07/
CATEGORIES:Drink Specials,Rush The River
ATTACH;FMTTYPE=image/png:https://renoriver.org/wp-content/uploads/2024/01/Screenshot-2025-08-06-at-11.22.51-AM.png
END:VEVENT
BEGIN:VEVENT
DTSTART;VALUE=DATE:20240408
DTEND;VALUE=DATE:20240409
DTSTAMP:20260425T120353
CREATED:20240119T210742Z
LAST-MODIFIED:20250402T235052Z
UID:10014195-1712534400-1712620799@renoriver.org
SUMMARY:Monday Burger & Beer Special at The Brewer's Cabinet
DESCRIPTION:$15 Average Joe Burger & Beer combo available at The Brewer’s Cabinet Pub & Taproom location. Offer valid every Monday.
URL:https://renoriver.org/event/monday-burger-beer-special-at-the-brewers-cabinet/2024-04-08/
CATEGORIES:Daily Specials,Food Specials
ATTACH;FMTTYPE=image/png:https://renoriver.org/wp-content/uploads/2024/01/Monday_Burger.png
END:VEVENT
BEGIN:VEVENT
DTSTART;TZID=America/Los_Angeles:20240408T120000
DTEND;TZID=America/Los_Angeles:20240408T233000
DTSTAMP:20260425T120353
CREATED:20240119T205240Z
LAST-MODIFIED:20250402T235310Z
UID:10014510-1712577600-1712619000@renoriver.org
SUMMARY:All Day Happy Hour at Sierra Tap House
DESCRIPTION:Sierra Tap House \nAll Day Happy Hour 12 PM – 12 AM
URL:https://renoriver.org/event/all-day-happy-hour-at-sierra-tap-house/2024-04-08/
CATEGORIES:Drink Specials,Happy Hour
ATTACH;FMTTYPE=image/png:https://renoriver.org/wp-content/uploads/2024/01/All_Day_Happy_Hour_STH.png
END:VEVENT
BEGIN:VEVENT
DTSTART;TZID=America/Los_Angeles:20240408T150000
DTEND;TZID=America/Los_Angeles:20240408T180000
DTSTAMP:20260425T120353
CREATED:20240119T202643Z
LAST-MODIFIED:20250402T232328Z
UID:10009786-1712588400-1712599200@renoriver.org
SUMMARY:Shim's Happy Hour
DESCRIPTION:Daily Happy Hour Mon – Fri 3 PM – 6 PM. Enjoy two for one all drafts\, well drinks\, and house wines.
URL:https://renoriver.org/event/shims-happy-hour/2024-04-08/
CATEGORIES:Drink Specials,Happy Hour
ATTACH;FMTTYPE=image/jpeg:https://renoriver.org/wp-content/uploads/2023/10/380658482_861006098925568_8146902726083313491_n.jpg
END:VEVENT
BEGIN:VEVENT
DTSTART;TZID=America/Los_Angeles:20240408T150000
DTEND;TZID=America/Los_Angeles:20240408T180000
DTSTAMP:20260425T120353
CREATED:20240214T194005Z
LAST-MODIFIED:20250402T232208Z
UID:10008213-1712588400-1712599200@renoriver.org
SUMMARY:Happy Hour at Ole Bridge Pub
DESCRIPTION:Enjoy $2 off most beer\, house wine\, and well drinks.
URL:https://renoriver.org/event/happy-hour-at-ole-bridge-pub/2024-04-08/
CATEGORIES:Drink Specials,Happy Hour
ATTACH;FMTTYPE=image/jpeg:https://renoriver.org/wp-content/uploads/2024/06/social_tiles7.1.jpg
END:VEVENT
BEGIN:VEVENT
DTSTART;TZID=America/Los_Angeles:20240408T150000
DTEND;TZID=America/Los_Angeles:20240408T183000
DTSTAMP:20260425T120353
CREATED:20240119T210741Z
LAST-MODIFIED:20250402T232028Z
UID:10006637-1712588400-1712601000@renoriver.org
SUMMARY:Happy Hour at Sierra Tap House
DESCRIPTION:Happy Hour 3 PM – 6:30 PM
URL:https://renoriver.org/event/happy-hour-at-sierra-tap-house/2024-04-08/
CATEGORIES:Drink Specials,Happy Hour
ATTACH;FMTTYPE=image/png:https://renoriver.org/wp-content/uploads/2024/01/Happy_Hour_Sierra_Tap_House.png
END:VEVENT
BEGIN:VEVENT
DTSTART;TZID=America/Los_Angeles:20240408T150000
DTEND;TZID=America/Los_Angeles:20240408T233000
DTSTAMP:20260425T120353
CREATED:20240214T194538Z
LAST-MODIFIED:20250402T235357Z
UID:10014825-1712588400-1712619000@renoriver.org
SUMMARY:Monday Mules at Ole Bridge Pub
DESCRIPTION:Enjoy $2 off our Moscow Mules
URL:https://renoriver.org/event/monday-mules-at-ole-bridge-pub/2024-04-08/
CATEGORIES:Drink Specials
ATTACH;FMTTYPE=image/png:https://renoriver.org/wp-content/uploads/2024/06/social_tiles_can_wednesday9.png
END:VEVENT
BEGIN:VEVENT
DTSTART;TZID=America/Los_Angeles:20240408T160000
DTEND;TZID=America/Los_Angeles:20240408T180000
DTSTAMP:20260425T120353
CREATED:20240119T195042Z
LAST-MODIFIED:20250402T231713Z
UID:10004745-1712592000-1712599200@renoriver.org
SUMMARY:Wild River Grille Happy Hour
DESCRIPTION:Daily Happy Hour Mon – Fri 4 PM – 6 PM
URL:https://renoriver.org/event/wild-river-grille-happy-hour/2024-04-08/
CATEGORIES:Drink Specials,Happy Hour
ATTACH;FMTTYPE=image/jpeg:https://renoriver.org/wp-content/uploads/2024/01/Wild_River_Grille_Happy_Hour.jpeg
END:VEVENT
BEGIN:VEVENT
DTSTART;VALUE=DATE:20240409
DTEND;VALUE=DATE:20240410
DTSTAMP:20260425T120353
CREATED:20240119T211050Z
LAST-MODIFIED:20250402T232512Z
UID:10011039-1712620800-1712707199@renoriver.org
SUMMARY:Taco Tuesday at The Brewer's Cabinet
DESCRIPTION:$2 carnitas tacos only available at The Brewer’s Cabinet Pub & Taproom location. Offer valid every Tuesday.
URL:https://renoriver.org/event/taco-tuesday-at-the-brewers-cabinet/2024-04-09/
CATEGORIES:Daily Specials,Food Specials
ATTACH;FMTTYPE=image/png:https://renoriver.org/wp-content/uploads/2024/01/Taco_Tuesday.png
END:VEVENT
BEGIN:VEVENT
DTSTART;TZID=America/Los_Angeles:20240409T150000
DTEND;TZID=America/Los_Angeles:20240409T180000
DTSTAMP:20260425T120353
CREATED:20240119T202643Z
LAST-MODIFIED:20250402T232328Z
UID:10009787-1712674800-1712685600@renoriver.org
SUMMARY:Shim's Happy Hour
DESCRIPTION:Daily Happy Hour Mon – Fri 3 PM – 6 PM. Enjoy two for one all drafts\, well drinks\, and house wines.
URL:https://renoriver.org/event/shims-happy-hour/2024-04-09/
CATEGORIES:Drink Specials,Happy Hour
ATTACH;FMTTYPE=image/jpeg:https://renoriver.org/wp-content/uploads/2023/10/380658482_861006098925568_8146902726083313491_n.jpg
END:VEVENT
BEGIN:VEVENT
DTSTART;TZID=America/Los_Angeles:20240409T150000
DTEND;TZID=America/Los_Angeles:20240409T180000
DTSTAMP:20260425T120353
CREATED:20240214T194005Z
LAST-MODIFIED:20250402T232208Z
UID:10008214-1712674800-1712685600@renoriver.org
SUMMARY:Happy Hour at Ole Bridge Pub
DESCRIPTION:Enjoy $2 off most beer\, house wine\, and well drinks.
URL:https://renoriver.org/event/happy-hour-at-ole-bridge-pub/2024-04-09/
CATEGORIES:Drink Specials,Happy Hour
ATTACH;FMTTYPE=image/jpeg:https://renoriver.org/wp-content/uploads/2024/06/social_tiles7.1.jpg
END:VEVENT
BEGIN:VEVENT
DTSTART;TZID=America/Los_Angeles:20240409T150000
DTEND;TZID=America/Los_Angeles:20240409T183000
DTSTAMP:20260425T120353
CREATED:20240119T210741Z
LAST-MODIFIED:20250402T232028Z
UID:10006638-1712674800-1712687400@renoriver.org
SUMMARY:Happy Hour at Sierra Tap House
DESCRIPTION:Happy Hour 3 PM – 6:30 PM
URL:https://renoriver.org/event/happy-hour-at-sierra-tap-house/2024-04-09/
CATEGORIES:Drink Specials,Happy Hour
ATTACH;FMTTYPE=image/png:https://renoriver.org/wp-content/uploads/2024/01/Happy_Hour_Sierra_Tap_House.png
END:VEVENT
BEGIN:VEVENT
DTSTART;TZID=America/Los_Angeles:20240409T150000
DTEND;TZID=America/Los_Angeles:20240409T233000
DTSTAMP:20260425T120353
CREATED:20240214T205722Z
LAST-MODIFIED:20250402T231834Z
UID:10006310-1712674800-1712705400@renoriver.org
SUMMARY:Local Tuesdays at Ole Bridge Pub
DESCRIPTION:Enjoy $2 off our Moscow Mules
URL:https://renoriver.org/event/local-tuesdays-at-ole-bridge-pub/2024-04-09/
CATEGORIES:Drink Specials
ATTACH;FMTTYPE=image/png:https://renoriver.org/wp-content/uploads/2024/06/social_tiles6.png
END:VEVENT
BEGIN:VEVENT
DTSTART;TZID=America/Los_Angeles:20240409T160000
DTEND;TZID=America/Los_Angeles:20240409T180000
DTSTAMP:20260425T120353
CREATED:20240119T195042Z
LAST-MODIFIED:20250402T231713Z
UID:10004746-1712678400-1712685600@renoriver.org
SUMMARY:Wild River Grille Happy Hour
DESCRIPTION:Daily Happy Hour Mon – Fri 4 PM – 6 PM
URL:https://renoriver.org/event/wild-river-grille-happy-hour/2024-04-09/
CATEGORIES:Drink Specials,Happy Hour
ATTACH;FMTTYPE=image/jpeg:https://renoriver.org/wp-content/uploads/2024/01/Wild_River_Grille_Happy_Hour.jpeg
END:VEVENT
BEGIN:VEVENT
DTSTART;TZID=America/Los_Angeles:20240409T190000
DTEND;TZID=America/Los_Angeles:20240409T210000
DTSTAMP:20260425T120353
CREATED:20240119T205615Z
LAST-MODIFIED:20250402T231511Z
UID:10004418-1712689200-1712696400@renoriver.org
SUMMARY:DJ Trivia at Sierra Tap House
DESCRIPTION:Grab your friends and play a game of DJ Trivia 7:30 PM – 9:30 PM at Sierra Tap House. Sign-ups start at 7:00 p.m.
URL:https://renoriver.org/event/dj-trivia-at-sierra-tap-house/2024-04-09/
CATEGORIES:DJ Trivia
ATTACH;FMTTYPE=image/png:https://renoriver.org/wp-content/uploads/2024/01/DJ_Trivia_STH.png
END:VEVENT
BEGIN:VEVENT
DTSTART;TZID=America/Los_Angeles:20240410T150000
DTEND;TZID=America/Los_Angeles:20240410T180000
DTSTAMP:20260425T120353
CREATED:20240214T194005Z
LAST-MODIFIED:20250402T232208Z
UID:10008215-1712761200-1712772000@renoriver.org
SUMMARY:Happy Hour at Ole Bridge Pub
DESCRIPTION:Enjoy $2 off most beer\, house wine\, and well drinks.
URL:https://renoriver.org/event/happy-hour-at-ole-bridge-pub/2024-04-10/
CATEGORIES:Drink Specials,Happy Hour
ATTACH;FMTTYPE=image/jpeg:https://renoriver.org/wp-content/uploads/2024/06/social_tiles7.1.jpg
END:VEVENT
BEGIN:VEVENT
DTSTART;TZID=America/Los_Angeles:20240410T150000
DTEND;TZID=America/Los_Angeles:20240410T183000
DTSTAMP:20260425T120353
CREATED:20240119T210741Z
LAST-MODIFIED:20250402T232028Z
UID:10006639-1712761200-1712773800@renoriver.org
SUMMARY:Happy Hour at Sierra Tap House
DESCRIPTION:Happy Hour 3 PM – 6:30 PM
URL:https://renoriver.org/event/happy-hour-at-sierra-tap-house/2024-04-10/
CATEGORIES:Drink Specials,Happy Hour
ATTACH;FMTTYPE=image/png:https://renoriver.org/wp-content/uploads/2024/01/Happy_Hour_Sierra_Tap_House.png
END:VEVENT
BEGIN:VEVENT
DTSTART;TZID=America/Los_Angeles:20240410T150000
DTEND;TZID=America/Los_Angeles:20240410T233000
DTSTAMP:20260425T120353
CREATED:20240119T203545Z
LAST-MODIFIED:20250402T232730Z
UID:10011355-1712761200-1712791800@renoriver.org
SUMMARY:All Day Happy Hour at Shim's
DESCRIPTION:Celebrate Happy Hour all day with us! From 3:00 p.m to close\, enjoy two for one all drafts\, well drinks\, and house wines.
URL:https://renoriver.org/event/all-day-happy-hour-at-shims/2024-04-10/
CATEGORIES:Drink Specials,Happy Hour
ATTACH;FMTTYPE=image/png:https://renoriver.org/wp-content/uploads/2024/01/All_Day_Happy_Hour_Shims-1.png
END:VEVENT
BEGIN:VEVENT
DTSTART;TZID=America/Los_Angeles:20240410T150000
DTEND;TZID=America/Los_Angeles:20240410T233000
DTSTAMP:20260425T120353
CREATED:20240214T194930Z
LAST-MODIFIED:20250402T232950Z
UID:10011670-1712761200-1712791800@renoriver.org
SUMMARY:Can Wednesdays at Ole Bridge Pub
DESCRIPTION:Enjoy $2 off all cans
URL:https://renoriver.org/event/can-wednesdays-at-ole-bridge-pub/2024-04-10/
CATEGORIES:Drink Specials
ATTACH;FMTTYPE=image/png:https://renoriver.org/wp-content/uploads/2024/06/social_tiles_can_wednesday10.png
END:VEVENT
BEGIN:VEVENT
DTSTART;TZID=America/Los_Angeles:20240410T160000
DTEND;TZID=America/Los_Angeles:20240410T180000
DTSTAMP:20260425T120354
CREATED:20240119T195042Z
LAST-MODIFIED:20250402T231713Z
UID:10004747-1712764800-1712772000@renoriver.org
SUMMARY:Wild River Grille Happy Hour
DESCRIPTION:Daily Happy Hour Mon – Fri 4 PM – 6 PM
URL:https://renoriver.org/event/wild-river-grille-happy-hour/2024-04-10/
CATEGORIES:Drink Specials,Happy Hour
ATTACH;FMTTYPE=image/jpeg:https://renoriver.org/wp-content/uploads/2024/01/Wild_River_Grille_Happy_Hour.jpeg
END:VEVENT
END:VCALENDAR