BEGIN:VCALENDAR
VERSION:2.0
PRODID:-//The Riverwalk District - ECPv6.15.19//NONSGML v1.0//EN
CALSCALE:GREGORIAN
METHOD:PUBLISH
X-WR-CALNAME:The Riverwalk District
X-ORIGINAL-URL:https://renoriver.org
X-WR-CALDESC:Events for The Riverwalk District
REFRESH-INTERVAL;VALUE=DURATION:PT1H
X-Robots-Tag:noindex
X-PUBLISHED-TTL:PT1H
BEGIN:VTIMEZONE
TZID:America/Los_Angeles
BEGIN:DAYLIGHT
TZOFFSETFROM:-0800
TZOFFSETTO:-0700
TZNAME:PDT
DTSTART:20250309T100000
END:DAYLIGHT
BEGIN:STANDARD
TZOFFSETFROM:-0700
TZOFFSETTO:-0800
TZNAME:PST
DTSTART:20251102T090000
END:STANDARD
BEGIN:DAYLIGHT
TZOFFSETFROM:-0800
TZOFFSETTO:-0700
TZNAME:PDT
DTSTART:20260308T100000
END:DAYLIGHT
BEGIN:STANDARD
TZOFFSETFROM:-0700
TZOFFSETTO:-0800
TZNAME:PST
DTSTART:20261101T090000
END:STANDARD
BEGIN:DAYLIGHT
TZOFFSETFROM:-0800
TZOFFSETTO:-0700
TZNAME:PDT
DTSTART:20270314T100000
END:DAYLIGHT
BEGIN:STANDARD
TZOFFSETFROM:-0700
TZOFFSETTO:-0800
TZNAME:PST
DTSTART:20271107T090000
END:STANDARD
END:VTIMEZONE
BEGIN:VEVENT
DTSTART;VALUE=DATE:20261124
DTEND;VALUE=DATE:20261125
DTSTAMP:20260421T054827
CREATED:20240119T211050Z
LAST-MODIFIED:20250402T232512Z
UID:10011176-1795478400-1795564799@renoriver.org
SUMMARY:Taco Tuesday at The Brewer's Cabinet
DESCRIPTION:$2 carnitas tacos only available at The Brewer’s Cabinet Pub & Taproom location. Offer valid every Tuesday.
URL:https://renoriver.org/event/taco-tuesday-at-the-brewers-cabinet/2026-11-24/
CATEGORIES:Daily Specials,Food Specials
ATTACH;FMTTYPE=image/png:https://renoriver.org/wp-content/uploads/2024/01/Taco_Tuesday.png
END:VEVENT
BEGIN:VEVENT
DTSTART;VALUE=DATE:20261124
DTEND;VALUE=DATE:20261125
DTSTAMP:20260421T054827
CREATED:20240903T191008Z
LAST-MODIFIED:20250402T230804Z
UID:10002573-1795478400-1795564799@renoriver.org
SUMMARY:Burger\, Beer\, & Shot $20 Any Day
DESCRIPTION:Our Burger (no substitutions) with fries on the side\, a select bottled beer\, and a well shot included.
URL:https://renoriver.org/event/burger-beer-shot-20-any-day/2026-11-24/
CATEGORIES:Daily Specials,Drink Specials,Food Specials,Rush The River
ATTACH;FMTTYPE=image/jpeg:https://renoriver.org/wp-content/uploads/2017/04/Black-and-White-Bottlecap-jpeg-Cory-Holdridge-scaled-1.jpg
END:VEVENT
BEGIN:VEVENT
DTSTART;TZID=America/Los_Angeles:20261124T110000
DTEND;TZID=America/Los_Angeles:20261124T230000
DTSTAMP:20260421T054827
CREATED:20240903T190432Z
LAST-MODIFIED:20250402T230542Z
UID:10000133-1795518000-1795561200@renoriver.org
SUMMARY:$3 Taco Tuesday
DESCRIPTION:3 types of tacos offered for $3 each along with numerous $3 beverage options.
URL:https://renoriver.org/event/3-taco-tuesday/2026-11-24/
CATEGORIES:Drink Specials,Food Specials
ATTACH;FMTTYPE=image/jpeg:https://renoriver.org/wp-content/uploads/2017/04/Tuesday-Taco-Cory-Holdridge.jpg
END:VEVENT
BEGIN:VEVENT
DTSTART;TZID=America/Los_Angeles:20261124T150000
DTEND;TZID=America/Los_Angeles:20261124T180000
DTSTAMP:20260421T054827
CREATED:20240119T202643Z
LAST-MODIFIED:20250402T232328Z
UID:10010335-1795532400-1795543200@renoriver.org
SUMMARY:Shim's Happy Hour
DESCRIPTION:Daily Happy Hour Mon – Fri 3 PM – 6 PM. Enjoy two for one all drafts\, well drinks\, and house wines.
URL:https://renoriver.org/event/shims-happy-hour/2026-11-24/
CATEGORIES:Drink Specials,Happy Hour
ATTACH;FMTTYPE=image/jpeg:https://renoriver.org/wp-content/uploads/2023/10/380658482_861006098925568_8146902726083313491_n.jpg
END:VEVENT
BEGIN:VEVENT
DTSTART;TZID=America/Los_Angeles:20261124T150000
DTEND;TZID=America/Los_Angeles:20261124T180000
DTSTAMP:20260421T054827
CREATED:20240214T194005Z
LAST-MODIFIED:20250402T232208Z
UID:10008899-1795532400-1795543200@renoriver.org
SUMMARY:Happy Hour at Ole Bridge Pub
DESCRIPTION:Enjoy $2 off most beer\, house wine\, and well drinks.
URL:https://renoriver.org/event/happy-hour-at-ole-bridge-pub/2026-11-24/
CATEGORIES:Drink Specials,Happy Hour
ATTACH;FMTTYPE=image/jpeg:https://renoriver.org/wp-content/uploads/2024/06/social_tiles7.1.jpg
END:VEVENT
BEGIN:VEVENT
DTSTART;TZID=America/Los_Angeles:20261124T150000
DTEND;TZID=America/Los_Angeles:20261124T180000
DTSTAMP:20260421T054827
CREATED:20240903T191454Z
LAST-MODIFIED:20250402T230705Z
UID:10000885-1795532400-1795543200@renoriver.org
SUMMARY:Our Bar Happy Hour
DESCRIPTION:Monday-Friday 3:00 pm – 6:00 pm $2.00 off any draft beer\, bottle\, can\, well cocktail\, or glass of wine.
URL:https://renoriver.org/event/our-bar-happy-hour/2026-11-24/
CATEGORIES:Daily Specials,Drink Specials
ATTACH;FMTTYPE=image/jpeg:https://renoriver.org/wp-content/uploads/2017/04/445356497_18398052727078431_6545476689669071342_n.jpg
END:VEVENT
BEGIN:VEVENT
DTSTART;TZID=America/Los_Angeles:20261124T150000
DTEND;TZID=America/Los_Angeles:20261124T183000
DTSTAMP:20260421T054827
CREATED:20240119T210741Z
LAST-MODIFIED:20250402T232028Z
UID:10007323-1795532400-1795545000@renoriver.org
SUMMARY:Happy Hour at Sierra Tap House
DESCRIPTION:Happy Hour 3 PM – 6:30 PM
URL:https://renoriver.org/event/happy-hour-at-sierra-tap-house/2026-11-24/
CATEGORIES:Drink Specials,Happy Hour
ATTACH;FMTTYPE=image/png:https://renoriver.org/wp-content/uploads/2024/01/Happy_Hour_Sierra_Tap_House.png
END:VEVENT
BEGIN:VEVENT
DTSTART;TZID=America/Los_Angeles:20261124T150000
DTEND;TZID=America/Los_Angeles:20261124T233000
DTSTAMP:20260421T054827
CREATED:20240214T205722Z
LAST-MODIFIED:20250402T231834Z
UID:10006447-1795532400-1795563000@renoriver.org
SUMMARY:Local Tuesdays at Ole Bridge Pub
DESCRIPTION:Enjoy $2 off our Moscow Mules
URL:https://renoriver.org/event/local-tuesdays-at-ole-bridge-pub/2026-11-24/
CATEGORIES:Drink Specials
ATTACH;FMTTYPE=image/png:https://renoriver.org/wp-content/uploads/2024/06/social_tiles6.png
END:VEVENT
BEGIN:VEVENT
DTSTART;TZID=America/Los_Angeles:20261124T160000
DTEND;TZID=America/Los_Angeles:20261124T180000
DTSTAMP:20260421T054827
CREATED:20240119T195042Z
LAST-MODIFIED:20250402T231713Z
UID:10005431-1795536000-1795543200@renoriver.org
SUMMARY:Wild River Grille Happy Hour
DESCRIPTION:Daily Happy Hour Mon – Fri 4 PM – 6 PM
URL:https://renoriver.org/event/wild-river-grille-happy-hour/2026-11-24/
CATEGORIES:Drink Specials,Happy Hour
ATTACH;FMTTYPE=image/jpeg:https://renoriver.org/wp-content/uploads/2024/01/Wild_River_Grille_Happy_Hour.jpeg
END:VEVENT
BEGIN:VEVENT
DTSTART;TZID=America/Los_Angeles:20261124T190000
DTEND;TZID=America/Los_Angeles:20261124T210000
DTSTAMP:20260421T054827
CREATED:20240119T205615Z
LAST-MODIFIED:20250402T231511Z
UID:10004555-1795546800-1795554000@renoriver.org
SUMMARY:DJ Trivia at Sierra Tap House
DESCRIPTION:Grab your friends and play a game of DJ Trivia 7:30 PM – 9:30 PM at Sierra Tap House. Sign-ups start at 7:00 p.m.
URL:https://renoriver.org/event/dj-trivia-at-sierra-tap-house/2026-11-24/
CATEGORIES:DJ Trivia
ATTACH;FMTTYPE=image/png:https://renoriver.org/wp-content/uploads/2024/01/DJ_Trivia_STH.png
END:VEVENT
BEGIN:VEVENT
DTSTART;VALUE=DATE:20261125
DTEND;VALUE=DATE:20261126
DTSTAMP:20260421T054827
CREATED:20240903T191008Z
LAST-MODIFIED:20250402T230804Z
UID:10002574-1795564800-1795651199@renoriver.org
SUMMARY:Burger\, Beer\, & Shot $20 Any Day
DESCRIPTION:Our Burger (no substitutions) with fries on the side\, a select bottled beer\, and a well shot included.
URL:https://renoriver.org/event/burger-beer-shot-20-any-day/2026-11-25/
CATEGORIES:Daily Specials,Drink Specials,Food Specials,Rush The River
ATTACH;FMTTYPE=image/jpeg:https://renoriver.org/wp-content/uploads/2017/04/Black-and-White-Bottlecap-jpeg-Cory-Holdridge-scaled-1.jpg
END:VEVENT
BEGIN:VEVENT
DTSTART;TZID=America/Los_Angeles:20261125T150000
DTEND;TZID=America/Los_Angeles:20261125T180000
DTSTAMP:20260421T054827
CREATED:20240214T194005Z
LAST-MODIFIED:20250402T232208Z
UID:10008900-1795618800-1795629600@renoriver.org
SUMMARY:Happy Hour at Ole Bridge Pub
DESCRIPTION:Enjoy $2 off most beer\, house wine\, and well drinks.
URL:https://renoriver.org/event/happy-hour-at-ole-bridge-pub/2026-11-25/
CATEGORIES:Drink Specials,Happy Hour
ATTACH;FMTTYPE=image/jpeg:https://renoriver.org/wp-content/uploads/2024/06/social_tiles7.1.jpg
END:VEVENT
BEGIN:VEVENT
DTSTART;TZID=America/Los_Angeles:20261125T150000
DTEND;TZID=America/Los_Angeles:20261125T180000
DTSTAMP:20260421T054827
CREATED:20240903T191454Z
LAST-MODIFIED:20250402T230705Z
UID:10000886-1795618800-1795629600@renoriver.org
SUMMARY:Our Bar Happy Hour
DESCRIPTION:Monday-Friday 3:00 pm – 6:00 pm $2.00 off any draft beer\, bottle\, can\, well cocktail\, or glass of wine.
URL:https://renoriver.org/event/our-bar-happy-hour/2026-11-25/
CATEGORIES:Daily Specials,Drink Specials
ATTACH;FMTTYPE=image/jpeg:https://renoriver.org/wp-content/uploads/2017/04/445356497_18398052727078431_6545476689669071342_n.jpg
END:VEVENT
BEGIN:VEVENT
DTSTART;TZID=America/Los_Angeles:20261125T150000
DTEND;TZID=America/Los_Angeles:20261125T183000
DTSTAMP:20260421T054827
CREATED:20240119T210741Z
LAST-MODIFIED:20250402T232028Z
UID:10007324-1795618800-1795631400@renoriver.org
SUMMARY:Happy Hour at Sierra Tap House
DESCRIPTION:Happy Hour 3 PM – 6:30 PM
URL:https://renoriver.org/event/happy-hour-at-sierra-tap-house/2026-11-25/
CATEGORIES:Drink Specials,Happy Hour
ATTACH;FMTTYPE=image/png:https://renoriver.org/wp-content/uploads/2024/01/Happy_Hour_Sierra_Tap_House.png
END:VEVENT
BEGIN:VEVENT
DTSTART;TZID=America/Los_Angeles:20261125T150000
DTEND;TZID=America/Los_Angeles:20261125T233000
DTSTAMP:20260421T054827
CREATED:20240119T203545Z
LAST-MODIFIED:20250402T232730Z
UID:10011492-1795618800-1795649400@renoriver.org
SUMMARY:All Day Happy Hour at Shim's
DESCRIPTION:Celebrate Happy Hour all day with us! From 3:00 p.m to close\, enjoy two for one all drafts\, well drinks\, and house wines.
URL:https://renoriver.org/event/all-day-happy-hour-at-shims/2026-11-25/
CATEGORIES:Drink Specials,Happy Hour
ATTACH;FMTTYPE=image/png:https://renoriver.org/wp-content/uploads/2024/01/All_Day_Happy_Hour_Shims-1.png
END:VEVENT
BEGIN:VEVENT
DTSTART;TZID=America/Los_Angeles:20261125T150000
DTEND;TZID=America/Los_Angeles:20261125T233000
DTSTAMP:20260421T054828
CREATED:20240214T194930Z
LAST-MODIFIED:20250402T232950Z
UID:10011807-1795618800-1795649400@renoriver.org
SUMMARY:Can Wednesdays at Ole Bridge Pub
DESCRIPTION:Enjoy $2 off all cans
URL:https://renoriver.org/event/can-wednesdays-at-ole-bridge-pub/2026-11-25/
CATEGORIES:Drink Specials
ATTACH;FMTTYPE=image/png:https://renoriver.org/wp-content/uploads/2024/06/social_tiles_can_wednesday10.png
END:VEVENT
BEGIN:VEVENT
DTSTART;TZID=America/Los_Angeles:20261125T160000
DTEND;TZID=America/Los_Angeles:20261125T180000
DTSTAMP:20260421T054828
CREATED:20240119T195042Z
LAST-MODIFIED:20250402T231713Z
UID:10005432-1795622400-1795629600@renoriver.org
SUMMARY:Wild River Grille Happy Hour
DESCRIPTION:Daily Happy Hour Mon – Fri 4 PM – 6 PM
URL:https://renoriver.org/event/wild-river-grille-happy-hour/2026-11-25/
CATEGORIES:Drink Specials,Happy Hour
ATTACH;FMTTYPE=image/jpeg:https://renoriver.org/wp-content/uploads/2024/01/Wild_River_Grille_Happy_Hour.jpeg
END:VEVENT
BEGIN:VEVENT
DTSTART;TZID=America/Los_Angeles:20261125T190000
DTEND;TZID=America/Los_Angeles:20261125T210000
DTSTAMP:20260421T054828
CREATED:20240214T204301Z
LAST-MODIFIED:20250402T233103Z
UID:10012122-1795633200-1795640400@renoriver.org
SUMMARY:DJ Trivia at Ole Bridge Pub
DESCRIPTION:Fun\, Live\, Interactive Trivia Game that includes you\, your team\, other teams\, and a live DJ host. Every Wednesday 7-9pm
URL:https://renoriver.org/event/dj-trivia-at-ole-bridge-pub/2026-11-25/
CATEGORIES:DJ Trivia
ATTACH;FMTTYPE=image/png:https://renoriver.org/wp-content/uploads/2024/06/social_tiles_DJ_trivia11.png
END:VEVENT
BEGIN:VEVENT
DTSTART;VALUE=DATE:20261126
DTEND;VALUE=DATE:20261127
DTSTAMP:20260421T054828
CREATED:20240119T212408Z
LAST-MODIFIED:20250402T233505Z
UID:10012440-1795651200-1795737599@renoriver.org
SUMMARY:Thankful Thursdays at The Brewer's Cabinet
DESCRIPTION:Receive $10 off when you spend $35+ for first responders\, teachers\, military\, and police. Offer valid every Thursday at all The Brewer’s Cabinet locations.
URL:https://renoriver.org/event/thankful-thursdays-at-the-brewers-cabinet/2026-11-26/
CATEGORIES:Daily Specials,Drink Specials
ATTACH;FMTTYPE=image/png:https://renoriver.org/wp-content/uploads/2024/01/Thankful_Thursday.png
END:VEVENT
BEGIN:VEVENT
DTSTART;VALUE=DATE:20261126
DTEND;VALUE=DATE:20261127
DTSTAMP:20260421T054828
CREATED:20240903T191008Z
LAST-MODIFIED:20250402T230804Z
UID:10002575-1795651200-1795737599@renoriver.org
SUMMARY:Burger\, Beer\, & Shot $20 Any Day
DESCRIPTION:Our Burger (no substitutions) with fries on the side\, a select bottled beer\, and a well shot included.
URL:https://renoriver.org/event/burger-beer-shot-20-any-day/2026-11-26/
CATEGORIES:Daily Specials,Drink Specials,Food Specials,Rush The River
ATTACH;FMTTYPE=image/jpeg:https://renoriver.org/wp-content/uploads/2017/04/Black-and-White-Bottlecap-jpeg-Cory-Holdridge-scaled-1.jpg
END:VEVENT
BEGIN:VEVENT
DTSTART;TZID=America/Los_Angeles:20261126T120000
DTEND;TZID=America/Los_Angeles:20261126T233000
DTSTAMP:20260421T054828
CREATED:20240119T210117Z
LAST-MODIFIED:20250402T233849Z
UID:10012755-1795694400-1795735800@renoriver.org
SUMMARY:Tahoe Thursdays at Sierra Tap House
DESCRIPTION:Enjoy $4 Tahoe Beer Cans during our Tahoe Thursday and College Night at Sierra Tap House.
URL:https://renoriver.org/event/tahoe-thursdays-at-sierra-tap-house/2026-11-26/
CATEGORIES:Drink Specials
ATTACH;FMTTYPE=image/png:https://renoriver.org/wp-content/uploads/2024/01/Tahoe_Thursday.png
END:VEVENT
BEGIN:VEVENT
DTSTART;TZID=America/Los_Angeles:20261126T150000
DTEND;TZID=America/Los_Angeles:20261126T180000
DTSTAMP:20260421T054828
CREATED:20240119T202643Z
LAST-MODIFIED:20250402T232328Z
UID:10010336-1795705200-1795716000@renoriver.org
SUMMARY:Shim's Happy Hour
DESCRIPTION:Daily Happy Hour Mon – Fri 3 PM – 6 PM. Enjoy two for one all drafts\, well drinks\, and house wines.
URL:https://renoriver.org/event/shims-happy-hour/2026-11-26/
CATEGORIES:Drink Specials,Happy Hour
ATTACH;FMTTYPE=image/jpeg:https://renoriver.org/wp-content/uploads/2023/10/380658482_861006098925568_8146902726083313491_n.jpg
END:VEVENT
BEGIN:VEVENT
DTSTART;TZID=America/Los_Angeles:20261126T150000
DTEND;TZID=America/Los_Angeles:20261126T180000
DTSTAMP:20260421T054828
CREATED:20240214T194005Z
LAST-MODIFIED:20250402T232208Z
UID:10008901-1795705200-1795716000@renoriver.org
SUMMARY:Happy Hour at Ole Bridge Pub
DESCRIPTION:Enjoy $2 off most beer\, house wine\, and well drinks.
URL:https://renoriver.org/event/happy-hour-at-ole-bridge-pub/2026-11-26/
CATEGORIES:Drink Specials,Happy Hour
ATTACH;FMTTYPE=image/jpeg:https://renoriver.org/wp-content/uploads/2024/06/social_tiles7.1.jpg
END:VEVENT
BEGIN:VEVENT
DTSTART;TZID=America/Los_Angeles:20261126T150000
DTEND;TZID=America/Los_Angeles:20261126T180000
DTSTAMP:20260421T054828
CREATED:20240903T191454Z
LAST-MODIFIED:20250402T230705Z
UID:10000887-1795705200-1795716000@renoriver.org
SUMMARY:Our Bar Happy Hour
DESCRIPTION:Monday-Friday 3:00 pm – 6:00 pm $2.00 off any draft beer\, bottle\, can\, well cocktail\, or glass of wine.
URL:https://renoriver.org/event/our-bar-happy-hour/2026-11-26/
CATEGORIES:Daily Specials,Drink Specials
ATTACH;FMTTYPE=image/jpeg:https://renoriver.org/wp-content/uploads/2017/04/445356497_18398052727078431_6545476689669071342_n.jpg
END:VEVENT
BEGIN:VEVENT
DTSTART;TZID=America/Los_Angeles:20261126T150000
DTEND;TZID=America/Los_Angeles:20261126T183000
DTSTAMP:20260421T054828
CREATED:20240119T210741Z
LAST-MODIFIED:20250402T232028Z
UID:10007325-1795705200-1795717800@renoriver.org
SUMMARY:Happy Hour at Sierra Tap House
DESCRIPTION:Happy Hour 3 PM – 6:30 PM
URL:https://renoriver.org/event/happy-hour-at-sierra-tap-house/2026-11-26/
CATEGORIES:Drink Specials,Happy Hour
ATTACH;FMTTYPE=image/png:https://renoriver.org/wp-content/uploads/2024/01/Happy_Hour_Sierra_Tap_House.png
END:VEVENT
BEGIN:VEVENT
DTSTART;TZID=America/Los_Angeles:20261126T160000
DTEND;TZID=America/Los_Angeles:20261126T180000
DTSTAMP:20260421T054828
CREATED:20240119T195042Z
LAST-MODIFIED:20250402T231713Z
UID:10005433-1795708800-1795716000@renoriver.org
SUMMARY:Wild River Grille Happy Hour
DESCRIPTION:Daily Happy Hour Mon – Fri 4 PM – 6 PM
URL:https://renoriver.org/event/wild-river-grille-happy-hour/2026-11-26/
CATEGORIES:Drink Specials,Happy Hour
ATTACH;FMTTYPE=image/jpeg:https://renoriver.org/wp-content/uploads/2024/01/Wild_River_Grille_Happy_Hour.jpeg
END:VEVENT
BEGIN:VEVENT
DTSTART;VALUE=DATE:20261127
DTEND;VALUE=DATE:20261128
DTSTAMP:20260421T054828
CREATED:20240119T212657Z
LAST-MODIFIED:20250402T234042Z
UID:10013070-1795737600-1795823999@renoriver.org
SUMMARY:Wolf Pack Fridays at The Brewer's Cabinet
DESCRIPTION:Support the Wolf Pack and wear your UNR gear to The Brewer’s Cabinet every Friday to receive 10% off your order. Offer valid every Thursday.
URL:https://renoriver.org/event/wolf-pack-fridays-at-the-brewers-cabinet/2026-11-27/
CATEGORIES:Daily Specials
ATTACH;FMTTYPE=image/png:https://renoriver.org/wp-content/uploads/2024/01/Wolf_Pack.png
END:VEVENT
BEGIN:VEVENT
DTSTART;VALUE=DATE:20261127
DTEND;VALUE=DATE:20261128
DTSTAMP:20260421T054828
CREATED:20240903T191008Z
LAST-MODIFIED:20250402T230804Z
UID:10002576-1795737600-1795823999@renoriver.org
SUMMARY:Burger\, Beer\, & Shot $20 Any Day
DESCRIPTION:Our Burger (no substitutions) with fries on the side\, a select bottled beer\, and a well shot included.
URL:https://renoriver.org/event/burger-beer-shot-20-any-day/2026-11-27/
CATEGORIES:Daily Specials,Drink Specials,Food Specials,Rush The River
ATTACH;FMTTYPE=image/jpeg:https://renoriver.org/wp-content/uploads/2017/04/Black-and-White-Bottlecap-jpeg-Cory-Holdridge-scaled-1.jpg
END:VEVENT
BEGIN:VEVENT
DTSTART;TZID=America/Los_Angeles:20261127T150000
DTEND;TZID=America/Los_Angeles:20261127T180000
DTSTAMP:20260421T054828
CREATED:20240119T202643Z
LAST-MODIFIED:20250402T232328Z
UID:10010337-1795791600-1795802400@renoriver.org
SUMMARY:Shim's Happy Hour
DESCRIPTION:Daily Happy Hour Mon – Fri 3 PM – 6 PM. Enjoy two for one all drafts\, well drinks\, and house wines.
URL:https://renoriver.org/event/shims-happy-hour/2026-11-27/
CATEGORIES:Drink Specials,Happy Hour
ATTACH;FMTTYPE=image/jpeg:https://renoriver.org/wp-content/uploads/2023/10/380658482_861006098925568_8146902726083313491_n.jpg
END:VEVENT
BEGIN:VEVENT
DTSTART;TZID=America/Los_Angeles:20261127T150000
DTEND;TZID=America/Los_Angeles:20261127T180000
DTSTAMP:20260421T054828
CREATED:20240214T194005Z
LAST-MODIFIED:20250402T232208Z
UID:10008902-1795791600-1795802400@renoriver.org
SUMMARY:Happy Hour at Ole Bridge Pub
DESCRIPTION:Enjoy $2 off most beer\, house wine\, and well drinks.
URL:https://renoriver.org/event/happy-hour-at-ole-bridge-pub/2026-11-27/
CATEGORIES:Drink Specials,Happy Hour
ATTACH;FMTTYPE=image/jpeg:https://renoriver.org/wp-content/uploads/2024/06/social_tiles7.1.jpg
END:VEVENT
END:VCALENDAR