BEGIN:VCALENDAR
VERSION:2.0
PRODID:-//The Riverwalk District - ECPv6.15.19//NONSGML v1.0//EN
CALSCALE:GREGORIAN
METHOD:PUBLISH
X-WR-CALNAME:The Riverwalk District
X-ORIGINAL-URL:https://renoriver.org
X-WR-CALDESC:Events for The Riverwalk District
REFRESH-INTERVAL;VALUE=DURATION:PT1H
X-Robots-Tag:noindex
X-PUBLISHED-TTL:PT1H
BEGIN:VTIMEZONE
TZID:America/Los_Angeles
BEGIN:DAYLIGHT
TZOFFSETFROM:-0800
TZOFFSETTO:-0700
TZNAME:PDT
DTSTART:20230312T100000
END:DAYLIGHT
BEGIN:STANDARD
TZOFFSETFROM:-0700
TZOFFSETTO:-0800
TZNAME:PST
DTSTART:20231105T090000
END:STANDARD
BEGIN:DAYLIGHT
TZOFFSETFROM:-0800
TZOFFSETTO:-0700
TZNAME:PDT
DTSTART:20240310T100000
END:DAYLIGHT
BEGIN:STANDARD
TZOFFSETFROM:-0700
TZOFFSETTO:-0800
TZNAME:PST
DTSTART:20241103T090000
END:STANDARD
BEGIN:DAYLIGHT
TZOFFSETFROM:-0800
TZOFFSETTO:-0700
TZNAME:PDT
DTSTART:20250309T100000
END:DAYLIGHT
BEGIN:STANDARD
TZOFFSETFROM:-0700
TZOFFSETTO:-0800
TZNAME:PST
DTSTART:20251102T090000
END:STANDARD
END:VTIMEZONE
BEGIN:VEVENT
DTSTART;TZID=America/Los_Angeles:20240803T120000
DTEND;TZID=America/Los_Angeles:20240803T150000
DTSTAMP:20260420T000819
CREATED:20240119T210430Z
LAST-MODIFIED:20250402T234743Z
UID:10013286-1722686400-1722697200@renoriver.org
SUMMARY:Mimosa and Bloody Mary Weekend at Sierra Tap House
DESCRIPTION:Join us every weekend at Sierra Tap House for $6 Mimosas & Bloody Marys  between 12 PM – 3 PM
URL:https://renoriver.org/event/mimosa-and-bloody-mary-weekend-at-sierra-tap-house/2024-08-03/
CATEGORIES:Drink Specials,Happy Hour,Rush The River
ATTACH;FMTTYPE=image/png:https://renoriver.org/wp-content/uploads/2024/01/Mimosa_and_Bloody_Mary_Weekend.png
END:VEVENT
BEGIN:VEVENT
DTSTART;TZID=America/Los_Angeles:20240803T150000
DTEND;TZID=America/Los_Angeles:20240803T170000
DTSTAMP:20260420T000819
CREATED:20240119T204108Z
LAST-MODIFIED:20250806T182407Z
UID:10016756-1722697200-1722704400@renoriver.org
SUMMARY:Bloody Mary and Mimosa Weekend at Shim's
DESCRIPTION:Spend your weekend at Shim’s from 3:00 p.m. – 5:00 p.m. where we’ll be serving up Mimosa Flights\, Mimosicles\, and $8 Bloody Marys!
URL:https://renoriver.org/event/bloody-mary-and-mimosa-weekend-at-shims/2024-08-03/
CATEGORIES:Drink Specials,Rush The River
ATTACH;FMTTYPE=image/png:https://renoriver.org/wp-content/uploads/2024/01/Screenshot-2025-08-06-at-11.22.51-AM.png
END:VEVENT
BEGIN:VEVENT
DTSTART;TZID=America/Los_Angeles:20240804T120000
DTEND;TZID=America/Los_Angeles:20240804T150000
DTSTAMP:20260420T000819
CREATED:20240119T210430Z
LAST-MODIFIED:20250402T234743Z
UID:10013287-1722772800-1722783600@renoriver.org
SUMMARY:Mimosa and Bloody Mary Weekend at Sierra Tap House
DESCRIPTION:Join us every weekend at Sierra Tap House for $6 Mimosas & Bloody Marys  between 12 PM – 3 PM
URL:https://renoriver.org/event/mimosa-and-bloody-mary-weekend-at-sierra-tap-house/2024-08-04/
CATEGORIES:Drink Specials,Happy Hour,Rush The River
ATTACH;FMTTYPE=image/png:https://renoriver.org/wp-content/uploads/2024/01/Mimosa_and_Bloody_Mary_Weekend.png
END:VEVENT
BEGIN:VEVENT
DTSTART;TZID=America/Los_Angeles:20240804T120000
DTEND;TZID=America/Los_Angeles:20240804T233000
DTSTAMP:20260420T000819
CREATED:20240214T205028Z
LAST-MODIFIED:20250402T234918Z
UID:10013897-1722772800-1722814200@renoriver.org
SUMMARY:Bloody Mary Sundays at Ole Bridge Pub
DESCRIPTION:Enjoy All-Day $6 Bloody Marys & $15 All-You Can Drink Mimosas 12PM – 2PM.
URL:https://renoriver.org/event/bloody-mary-sundays-at-ole-bridge-pub/2024-08-04/
CATEGORIES:Drink Specials,Rush The River
ATTACH;FMTTYPE=image/jpeg:https://renoriver.org/wp-content/uploads/2024/06/social_tiles10.jpg
END:VEVENT
BEGIN:VEVENT
DTSTART;TZID=America/Los_Angeles:20240804T150000
DTEND;TZID=America/Los_Angeles:20240804T170000
DTSTAMP:20260420T000819
CREATED:20240119T204108Z
LAST-MODIFIED:20250806T182407Z
UID:10016757-1722783600-1722790800@renoriver.org
SUMMARY:Bloody Mary and Mimosa Weekend at Shim's
DESCRIPTION:Spend your weekend at Shim’s from 3:00 p.m. – 5:00 p.m. where we’ll be serving up Mimosa Flights\, Mimosicles\, and $8 Bloody Marys!
URL:https://renoriver.org/event/bloody-mary-and-mimosa-weekend-at-shims/2024-08-04/
CATEGORIES:Drink Specials,Rush The River
ATTACH;FMTTYPE=image/png:https://renoriver.org/wp-content/uploads/2024/01/Screenshot-2025-08-06-at-11.22.51-AM.png
END:VEVENT
BEGIN:VEVENT
DTSTART;TZID=America/Los_Angeles:20240810T120000
DTEND;TZID=America/Los_Angeles:20240810T150000
DTSTAMP:20260420T000819
CREATED:20240119T210430Z
LAST-MODIFIED:20250402T234743Z
UID:10013288-1723291200-1723302000@renoriver.org
SUMMARY:Mimosa and Bloody Mary Weekend at Sierra Tap House
DESCRIPTION:Join us every weekend at Sierra Tap House for $6 Mimosas & Bloody Marys  between 12 PM – 3 PM
URL:https://renoriver.org/event/mimosa-and-bloody-mary-weekend-at-sierra-tap-house/2024-08-10/
CATEGORIES:Drink Specials,Happy Hour,Rush The River
ATTACH;FMTTYPE=image/png:https://renoriver.org/wp-content/uploads/2024/01/Mimosa_and_Bloody_Mary_Weekend.png
END:VEVENT
BEGIN:VEVENT
DTSTART;TZID=America/Los_Angeles:20240810T150000
DTEND;TZID=America/Los_Angeles:20240810T170000
DTSTAMP:20260420T000819
CREATED:20240119T204108Z
LAST-MODIFIED:20250806T182407Z
UID:10016758-1723302000-1723309200@renoriver.org
SUMMARY:Bloody Mary and Mimosa Weekend at Shim's
DESCRIPTION:Spend your weekend at Shim’s from 3:00 p.m. – 5:00 p.m. where we’ll be serving up Mimosa Flights\, Mimosicles\, and $8 Bloody Marys!
URL:https://renoriver.org/event/bloody-mary-and-mimosa-weekend-at-shims/2024-08-10/
CATEGORIES:Drink Specials,Rush The River
ATTACH;FMTTYPE=image/png:https://renoriver.org/wp-content/uploads/2024/01/Screenshot-2025-08-06-at-11.22.51-AM.png
END:VEVENT
BEGIN:VEVENT
DTSTART;TZID=America/Los_Angeles:20240811T120000
DTEND;TZID=America/Los_Angeles:20240811T150000
DTSTAMP:20260420T000819
CREATED:20240119T210430Z
LAST-MODIFIED:20250402T234743Z
UID:10013289-1723377600-1723388400@renoriver.org
SUMMARY:Mimosa and Bloody Mary Weekend at Sierra Tap House
DESCRIPTION:Join us every weekend at Sierra Tap House for $6 Mimosas & Bloody Marys  between 12 PM – 3 PM
URL:https://renoriver.org/event/mimosa-and-bloody-mary-weekend-at-sierra-tap-house/2024-08-11/
CATEGORIES:Drink Specials,Happy Hour,Rush The River
ATTACH;FMTTYPE=image/png:https://renoriver.org/wp-content/uploads/2024/01/Mimosa_and_Bloody_Mary_Weekend.png
END:VEVENT
BEGIN:VEVENT
DTSTART;TZID=America/Los_Angeles:20240811T120000
DTEND;TZID=America/Los_Angeles:20240811T233000
DTSTAMP:20260420T000819
CREATED:20240214T205028Z
LAST-MODIFIED:20250402T234918Z
UID:10013898-1723377600-1723419000@renoriver.org
SUMMARY:Bloody Mary Sundays at Ole Bridge Pub
DESCRIPTION:Enjoy All-Day $6 Bloody Marys & $15 All-You Can Drink Mimosas 12PM – 2PM.
URL:https://renoriver.org/event/bloody-mary-sundays-at-ole-bridge-pub/2024-08-11/
CATEGORIES:Drink Specials,Rush The River
ATTACH;FMTTYPE=image/jpeg:https://renoriver.org/wp-content/uploads/2024/06/social_tiles10.jpg
END:VEVENT
BEGIN:VEVENT
DTSTART;TZID=America/Los_Angeles:20240811T150000
DTEND;TZID=America/Los_Angeles:20240811T170000
DTSTAMP:20260420T000819
CREATED:20240119T204108Z
LAST-MODIFIED:20250806T182407Z
UID:10016759-1723388400-1723395600@renoriver.org
SUMMARY:Bloody Mary and Mimosa Weekend at Shim's
DESCRIPTION:Spend your weekend at Shim’s from 3:00 p.m. – 5:00 p.m. where we’ll be serving up Mimosa Flights\, Mimosicles\, and $8 Bloody Marys!
URL:https://renoriver.org/event/bloody-mary-and-mimosa-weekend-at-shims/2024-08-11/
CATEGORIES:Drink Specials,Rush The River
ATTACH;FMTTYPE=image/png:https://renoriver.org/wp-content/uploads/2024/01/Screenshot-2025-08-06-at-11.22.51-AM.png
END:VEVENT
BEGIN:VEVENT
DTSTART;TZID=America/Los_Angeles:20240817T080000
DTEND;TZID=America/Los_Angeles:20240817T170000
DTSTAMP:20260420T000819
CREATED:20240119T193430Z
LAST-MODIFIED:20250402T235924Z
UID:10015214-1723881600-1723914000@renoriver.org
SUMMARY:Rush The River
DESCRIPTION:Celebrate Reno’s most dynamic and highest energy monthly event\, “Rush the River\,” the 3rd Saturday of every month in Reno’s Downtown Riverwalk\, brought to you by Riverwalk Merchants Association! Experience eclectic food options and plenty of shopping opportunities for all-local\, handmade\, and uniquely Nevada food and products. Every 3rd Saturday of the month\, Downtown Reno’s streets\, restaurants\, and venues will buzz with business\, art showcases\, and shows. And as always\, the famous monthly Reno Wine Walk will feature a self-guided wine tasting from 2-5 pm. We hope you join us in the countdown to Downtown Reno’s premiere urban experience while enjoying our best restaurants\, art\, retail\, and signature cocktails. We can’t wait to see you!
URL:https://renoriver.org/event/rush-the-river/2024-08-17/
CATEGORIES:Rush The River
ATTACH;FMTTYPE=image/png:https://renoriver.org/wp-content/uploads/2024/01/Rush_The_River-1.png
END:VEVENT
BEGIN:VEVENT
DTSTART;TZID=America/Los_Angeles:20240817T120000
DTEND;TZID=America/Los_Angeles:20240817T150000
DTSTAMP:20260420T000819
CREATED:20240119T210430Z
LAST-MODIFIED:20250402T234743Z
UID:10013290-1723896000-1723906800@renoriver.org
SUMMARY:Mimosa and Bloody Mary Weekend at Sierra Tap House
DESCRIPTION:Join us every weekend at Sierra Tap House for $6 Mimosas & Bloody Marys  between 12 PM – 3 PM
URL:https://renoriver.org/event/mimosa-and-bloody-mary-weekend-at-sierra-tap-house/2024-08-17/
CATEGORIES:Drink Specials,Happy Hour,Rush The River
ATTACH;FMTTYPE=image/png:https://renoriver.org/wp-content/uploads/2024/01/Mimosa_and_Bloody_Mary_Weekend.png
END:VEVENT
BEGIN:VEVENT
DTSTART;TZID=America/Los_Angeles:20240817T140000
DTEND;TZID=America/Los_Angeles:20240817T170000
DTSTAMP:20260420T000819
CREATED:20240119T192532Z
LAST-MODIFIED:20250402T235843Z
UID:10015286-1723903200-1723914000@renoriver.org
SUMMARY:Wine Walk
DESCRIPTION:Join Us For Our Monthly Wine Walk\n\n\n\n\nThe Third Saturday Of Every Month\n\n\n\nJoin us for the wine walk hosted by the small businesses of the Riverwalk Merchants Association along the Truckee River and neighboring streets in downtown Reno. This is a fun and quirky event where the costumes take center stage\, socialize and have fun while strolling downtown Riverwalk businesses. Enjoy a responsible taste of the Riverwalk District.
URL:https://renoriver.org/event/wine-walk/2024-08-17/
CATEGORIES:Rush The River,Wine Walks
ATTACH;FMTTYPE=image/png:https://renoriver.org/wp-content/uploads/2018/01/wine_walk_logo-1.png
END:VEVENT
BEGIN:VEVENT
DTSTART;TZID=America/Los_Angeles:20240817T150000
DTEND;TZID=America/Los_Angeles:20240817T170000
DTSTAMP:20260420T000819
CREATED:20240119T204108Z
LAST-MODIFIED:20250806T182407Z
UID:10016760-1723906800-1723914000@renoriver.org
SUMMARY:Bloody Mary and Mimosa Weekend at Shim's
DESCRIPTION:Spend your weekend at Shim’s from 3:00 p.m. – 5:00 p.m. where we’ll be serving up Mimosa Flights\, Mimosicles\, and $8 Bloody Marys!
URL:https://renoriver.org/event/bloody-mary-and-mimosa-weekend-at-shims/2024-08-17/
CATEGORIES:Drink Specials,Rush The River
ATTACH;FMTTYPE=image/png:https://renoriver.org/wp-content/uploads/2024/01/Screenshot-2025-08-06-at-11.22.51-AM.png
END:VEVENT
BEGIN:VEVENT
DTSTART;TZID=America/Los_Angeles:20240818T120000
DTEND;TZID=America/Los_Angeles:20240818T150000
DTSTAMP:20260420T000819
CREATED:20240119T210430Z
LAST-MODIFIED:20250402T234743Z
UID:10013291-1723982400-1723993200@renoriver.org
SUMMARY:Mimosa and Bloody Mary Weekend at Sierra Tap House
DESCRIPTION:Join us every weekend at Sierra Tap House for $6 Mimosas & Bloody Marys  between 12 PM – 3 PM
URL:https://renoriver.org/event/mimosa-and-bloody-mary-weekend-at-sierra-tap-house/2024-08-18/
CATEGORIES:Drink Specials,Happy Hour,Rush The River
ATTACH;FMTTYPE=image/png:https://renoriver.org/wp-content/uploads/2024/01/Mimosa_and_Bloody_Mary_Weekend.png
END:VEVENT
BEGIN:VEVENT
DTSTART;TZID=America/Los_Angeles:20240818T120000
DTEND;TZID=America/Los_Angeles:20240818T233000
DTSTAMP:20260420T000819
CREATED:20240214T205028Z
LAST-MODIFIED:20250402T234918Z
UID:10013899-1723982400-1724023800@renoriver.org
SUMMARY:Bloody Mary Sundays at Ole Bridge Pub
DESCRIPTION:Enjoy All-Day $6 Bloody Marys & $15 All-You Can Drink Mimosas 12PM – 2PM.
URL:https://renoriver.org/event/bloody-mary-sundays-at-ole-bridge-pub/2024-08-18/
CATEGORIES:Drink Specials,Rush The River
ATTACH;FMTTYPE=image/jpeg:https://renoriver.org/wp-content/uploads/2024/06/social_tiles10.jpg
END:VEVENT
BEGIN:VEVENT
DTSTART;TZID=America/Los_Angeles:20240818T150000
DTEND;TZID=America/Los_Angeles:20240818T170000
DTSTAMP:20260420T000819
CREATED:20240119T204108Z
LAST-MODIFIED:20250806T182407Z
UID:10016761-1723993200-1724000400@renoriver.org
SUMMARY:Bloody Mary and Mimosa Weekend at Shim's
DESCRIPTION:Spend your weekend at Shim’s from 3:00 p.m. – 5:00 p.m. where we’ll be serving up Mimosa Flights\, Mimosicles\, and $8 Bloody Marys!
URL:https://renoriver.org/event/bloody-mary-and-mimosa-weekend-at-shims/2024-08-18/
CATEGORIES:Drink Specials,Rush The River
ATTACH;FMTTYPE=image/png:https://renoriver.org/wp-content/uploads/2024/01/Screenshot-2025-08-06-at-11.22.51-AM.png
END:VEVENT
BEGIN:VEVENT
DTSTART;TZID=America/Los_Angeles:20240824T120000
DTEND;TZID=America/Los_Angeles:20240824T150000
DTSTAMP:20260420T000819
CREATED:20240119T210430Z
LAST-MODIFIED:20250402T234743Z
UID:10013292-1724500800-1724511600@renoriver.org
SUMMARY:Mimosa and Bloody Mary Weekend at Sierra Tap House
DESCRIPTION:Join us every weekend at Sierra Tap House for $6 Mimosas & Bloody Marys  between 12 PM – 3 PM
URL:https://renoriver.org/event/mimosa-and-bloody-mary-weekend-at-sierra-tap-house/2024-08-24/
CATEGORIES:Drink Specials,Happy Hour,Rush The River
ATTACH;FMTTYPE=image/png:https://renoriver.org/wp-content/uploads/2024/01/Mimosa_and_Bloody_Mary_Weekend.png
END:VEVENT
BEGIN:VEVENT
DTSTART;TZID=America/Los_Angeles:20240824T150000
DTEND;TZID=America/Los_Angeles:20240824T170000
DTSTAMP:20260420T000819
CREATED:20240119T204108Z
LAST-MODIFIED:20250806T182407Z
UID:10016762-1724511600-1724518800@renoriver.org
SUMMARY:Bloody Mary and Mimosa Weekend at Shim's
DESCRIPTION:Spend your weekend at Shim’s from 3:00 p.m. – 5:00 p.m. where we’ll be serving up Mimosa Flights\, Mimosicles\, and $8 Bloody Marys!
URL:https://renoriver.org/event/bloody-mary-and-mimosa-weekend-at-shims/2024-08-24/
CATEGORIES:Drink Specials,Rush The River
ATTACH;FMTTYPE=image/png:https://renoriver.org/wp-content/uploads/2024/01/Screenshot-2025-08-06-at-11.22.51-AM.png
END:VEVENT
BEGIN:VEVENT
DTSTART;TZID=America/Los_Angeles:20240825T120000
DTEND;TZID=America/Los_Angeles:20240825T150000
DTSTAMP:20260420T000819
CREATED:20240119T210430Z
LAST-MODIFIED:20250402T234743Z
UID:10013293-1724587200-1724598000@renoriver.org
SUMMARY:Mimosa and Bloody Mary Weekend at Sierra Tap House
DESCRIPTION:Join us every weekend at Sierra Tap House for $6 Mimosas & Bloody Marys  between 12 PM – 3 PM
URL:https://renoriver.org/event/mimosa-and-bloody-mary-weekend-at-sierra-tap-house/2024-08-25/
CATEGORIES:Drink Specials,Happy Hour,Rush The River
ATTACH;FMTTYPE=image/png:https://renoriver.org/wp-content/uploads/2024/01/Mimosa_and_Bloody_Mary_Weekend.png
END:VEVENT
BEGIN:VEVENT
DTSTART;TZID=America/Los_Angeles:20240825T120000
DTEND;TZID=America/Los_Angeles:20240825T233000
DTSTAMP:20260420T000819
CREATED:20240214T205028Z
LAST-MODIFIED:20250402T234918Z
UID:10013900-1724587200-1724628600@renoriver.org
SUMMARY:Bloody Mary Sundays at Ole Bridge Pub
DESCRIPTION:Enjoy All-Day $6 Bloody Marys & $15 All-You Can Drink Mimosas 12PM – 2PM.
URL:https://renoriver.org/event/bloody-mary-sundays-at-ole-bridge-pub/2024-08-25/
CATEGORIES:Drink Specials,Rush The River
ATTACH;FMTTYPE=image/jpeg:https://renoriver.org/wp-content/uploads/2024/06/social_tiles10.jpg
END:VEVENT
BEGIN:VEVENT
DTSTART;TZID=America/Los_Angeles:20240825T150000
DTEND;TZID=America/Los_Angeles:20240825T170000
DTSTAMP:20260420T000819
CREATED:20240119T204108Z
LAST-MODIFIED:20250806T182407Z
UID:10016763-1724598000-1724605200@renoriver.org
SUMMARY:Bloody Mary and Mimosa Weekend at Shim's
DESCRIPTION:Spend your weekend at Shim’s from 3:00 p.m. – 5:00 p.m. where we’ll be serving up Mimosa Flights\, Mimosicles\, and $8 Bloody Marys!
URL:https://renoriver.org/event/bloody-mary-and-mimosa-weekend-at-shims/2024-08-25/
CATEGORIES:Drink Specials,Rush The River
ATTACH;FMTTYPE=image/png:https://renoriver.org/wp-content/uploads/2024/01/Screenshot-2025-08-06-at-11.22.51-AM.png
END:VEVENT
BEGIN:VEVENT
DTSTART;TZID=America/Los_Angeles:20240831T120000
DTEND;TZID=America/Los_Angeles:20240831T150000
DTSTAMP:20260420T000819
CREATED:20240119T210430Z
LAST-MODIFIED:20250402T234743Z
UID:10013294-1725105600-1725116400@renoriver.org
SUMMARY:Mimosa and Bloody Mary Weekend at Sierra Tap House
DESCRIPTION:Join us every weekend at Sierra Tap House for $6 Mimosas & Bloody Marys  between 12 PM – 3 PM
URL:https://renoriver.org/event/mimosa-and-bloody-mary-weekend-at-sierra-tap-house/2024-08-31/
CATEGORIES:Drink Specials,Happy Hour,Rush The River
ATTACH;FMTTYPE=image/png:https://renoriver.org/wp-content/uploads/2024/01/Mimosa_and_Bloody_Mary_Weekend.png
END:VEVENT
BEGIN:VEVENT
DTSTART;TZID=America/Los_Angeles:20240831T150000
DTEND;TZID=America/Los_Angeles:20240831T170000
DTSTAMP:20260420T000819
CREATED:20240119T204108Z
LAST-MODIFIED:20250806T182407Z
UID:10016764-1725116400-1725123600@renoriver.org
SUMMARY:Bloody Mary and Mimosa Weekend at Shim's
DESCRIPTION:Spend your weekend at Shim’s from 3:00 p.m. – 5:00 p.m. where we’ll be serving up Mimosa Flights\, Mimosicles\, and $8 Bloody Marys!
URL:https://renoriver.org/event/bloody-mary-and-mimosa-weekend-at-shims/2024-08-31/
CATEGORIES:Drink Specials,Rush The River
ATTACH;FMTTYPE=image/png:https://renoriver.org/wp-content/uploads/2024/01/Screenshot-2025-08-06-at-11.22.51-AM.png
END:VEVENT
END:VCALENDAR