BEGIN:VCALENDAR
VERSION:2.0
PRODID:-//The Riverwalk District - ECPv6.15.19//NONSGML v1.0//EN
CALSCALE:GREGORIAN
METHOD:PUBLISH
X-WR-CALNAME:The Riverwalk District
X-ORIGINAL-URL:https://renoriver.org
X-WR-CALDESC:Events for The Riverwalk District
REFRESH-INTERVAL;VALUE=DURATION:PT1H
X-Robots-Tag:noindex
X-PUBLISHED-TTL:PT1H
BEGIN:VTIMEZONE
TZID:America/Los_Angeles
BEGIN:DAYLIGHT
TZOFFSETFROM:-0800
TZOFFSETTO:-0700
TZNAME:PDT
DTSTART:20240310T100000
END:DAYLIGHT
BEGIN:STANDARD
TZOFFSETFROM:-0700
TZOFFSETTO:-0800
TZNAME:PST
DTSTART:20241103T090000
END:STANDARD
BEGIN:DAYLIGHT
TZOFFSETFROM:-0800
TZOFFSETTO:-0700
TZNAME:PDT
DTSTART:20250309T100000
END:DAYLIGHT
BEGIN:STANDARD
TZOFFSETFROM:-0700
TZOFFSETTO:-0800
TZNAME:PST
DTSTART:20251102T090000
END:STANDARD
BEGIN:DAYLIGHT
TZOFFSETFROM:-0800
TZOFFSETTO:-0700
TZNAME:PDT
DTSTART:20260308T100000
END:DAYLIGHT
BEGIN:STANDARD
TZOFFSETFROM:-0700
TZOFFSETTO:-0800
TZNAME:PST
DTSTART:20261101T090000
END:STANDARD
END:VTIMEZONE
BEGIN:VEVENT
DTSTART;TZID=America/Los_Angeles:20250527T180000
DTEND;TZID=America/Los_Angeles:20250527T210000
DTSTAMP:20260419T070546
CREATED:20250515T203640Z
LAST-MODIFIED:20250605T164543Z
UID:10015969-1748368800-1748379600@renoriver.org
SUMMARY:Wild River Grille 2025 Summer Dinner Concert Series
DESCRIPTION:2025 Summer Dinner Concert Series: Food • Drinks • Live Music\, 6:30 pm – Close Every Night! Dine with us all summer long to support local artists performing on our riverside patio. Enjoy a delicious dinner and listen to amazing talents. \n 
URL:https://renoriver.org/event/wild-river-grille-2025-summer-dinner-concert-series/2025-05-27/
LOCATION:Wild River Grille
CATEGORIES:Concerts,Special Events
ATTACH;FMTTYPE=image/png:https://renoriver.org/wp-content/uploads/2025/05/WRG_Summer_concert_2025_event_graphic.png
END:VEVENT
BEGIN:VEVENT
DTSTART;TZID=America/Los_Angeles:20250528T180000
DTEND;TZID=America/Los_Angeles:20250528T210000
DTSTAMP:20260419T070546
CREATED:20250515T203640Z
LAST-MODIFIED:20250605T164543Z
UID:10015970-1748455200-1748466000@renoriver.org
SUMMARY:Wild River Grille 2025 Summer Dinner Concert Series
DESCRIPTION:2025 Summer Dinner Concert Series: Food • Drinks • Live Music\, 6:30 pm – Close Every Night! Dine with us all summer long to support local artists performing on our riverside patio. Enjoy a delicious dinner and listen to amazing talents. \n 
URL:https://renoriver.org/event/wild-river-grille-2025-summer-dinner-concert-series/2025-05-28/
LOCATION:Wild River Grille
CATEGORIES:Concerts,Special Events
ATTACH;FMTTYPE=image/png:https://renoriver.org/wp-content/uploads/2025/05/WRG_Summer_concert_2025_event_graphic.png
END:VEVENT
BEGIN:VEVENT
DTSTART;TZID=America/Los_Angeles:20250530T180000
DTEND;TZID=America/Los_Angeles:20250530T210000
DTSTAMP:20260419T070546
CREATED:20250515T203640Z
LAST-MODIFIED:20250605T164543Z
UID:10015971-1748628000-1748638800@renoriver.org
SUMMARY:Wild River Grille 2025 Summer Dinner Concert Series
DESCRIPTION:2025 Summer Dinner Concert Series: Food • Drinks • Live Music\, 6:30 pm – Close Every Night! Dine with us all summer long to support local artists performing on our riverside patio. Enjoy a delicious dinner and listen to amazing talents. \n 
URL:https://renoriver.org/event/wild-river-grille-2025-summer-dinner-concert-series/2025-05-30/
LOCATION:Wild River Grille
CATEGORIES:Concerts,Special Events
ATTACH;FMTTYPE=image/png:https://renoriver.org/wp-content/uploads/2025/05/WRG_Summer_concert_2025_event_graphic.png
END:VEVENT
BEGIN:VEVENT
DTSTART;TZID=America/Los_Angeles:20250531T130000
DTEND;TZID=America/Los_Angeles:20250531T150000
DTSTAMP:20260419T070546
CREATED:20250410T234825Z
LAST-MODIFIED:20250410T234825Z
UID:10015503-1748696400-1748703600@renoriver.org
SUMMARY:Mariachi Cobre with the Reno Phil
DESCRIPTION:The Reno Phil and Music Director Laura Jackson conclude the 56th Pops Season by taking us South of the Border. Considered the gold standard in mariachi music\, Mariachi Cobre has thrilled audiences all over the world for generations and has become one of the most internationally celebrated ensembles in Mexican music history. Mariachi Cobre will create a fiesta like you have never experienced before! \nTwo showtimes available! Don’t miss this one-of-a-kind Mariachi-meets-Orchestra collaboration\, coming to Reno for the very first time.
URL:https://renoriver.org/event/mariachi-cobre-with-the-reno-phil/2025-05-31/1/
LOCATION:Pioneer Center for the Performing Arts
CATEGORIES:Concerts
ATTACH;FMTTYPE=image/png:https://renoriver.org/wp-content/uploads/2025/04/Mariachicobre.png
END:VEVENT
BEGIN:VEVENT
DTSTART;TZID=America/Los_Angeles:20250531T180000
DTEND;TZID=America/Los_Angeles:20250531T210000
DTSTAMP:20260419T070546
CREATED:20250515T203640Z
LAST-MODIFIED:20250605T164543Z
UID:10015972-1748714400-1748725200@renoriver.org
SUMMARY:Wild River Grille 2025 Summer Dinner Concert Series
DESCRIPTION:2025 Summer Dinner Concert Series: Food • Drinks • Live Music\, 6:30 pm – Close Every Night! Dine with us all summer long to support local artists performing on our riverside patio. Enjoy a delicious dinner and listen to amazing talents. \n 
URL:https://renoriver.org/event/wild-river-grille-2025-summer-dinner-concert-series/2025-05-31/
LOCATION:Wild River Grille
CATEGORIES:Concerts,Special Events
ATTACH;FMTTYPE=image/png:https://renoriver.org/wp-content/uploads/2025/05/WRG_Summer_concert_2025_event_graphic.png
END:VEVENT
BEGIN:VEVENT
DTSTART;TZID=America/Los_Angeles:20250531T190000
DTEND;TZID=America/Los_Angeles:20250531T200000
DTSTAMP:20260419T070546
CREATED:20250410T234825Z
LAST-MODIFIED:20250410T234825Z
UID:10015504-1748718000-1748721600@renoriver.org
SUMMARY:Mariachi Cobre with the Reno Phil
DESCRIPTION:The Reno Phil and Music Director Laura Jackson conclude the 56th Pops Season by taking us South of the Border. Considered the gold standard in mariachi music\, Mariachi Cobre has thrilled audiences all over the world for generations and has become one of the most internationally celebrated ensembles in Mexican music history. Mariachi Cobre will create a fiesta like you have never experienced before! \nTwo showtimes available! Don’t miss this one-of-a-kind Mariachi-meets-Orchestra collaboration\, coming to Reno for the very first time.
URL:https://renoriver.org/event/mariachi-cobre-with-the-reno-phil/2025-05-31/2/
LOCATION:Pioneer Center for the Performing Arts
CATEGORIES:Concerts
ATTACH;FMTTYPE=image/png:https://renoriver.org/wp-content/uploads/2025/04/Mariachicobre.png
END:VEVENT
BEGIN:VEVENT
DTSTART;TZID=America/Los_Angeles:20250601T130000
DTEND;TZID=America/Los_Angeles:20250601T160000
DTSTAMP:20260419T070546
CREATED:20250515T204447Z
LAST-MODIFIED:20250515T204447Z
UID:10016227-1748782800-1748793600@renoriver.org
SUMMARY:Wild River Grille 2025 Summer Dinner Concert Series
DESCRIPTION:2025 Summer Dinner Concert Series \nFood • Drinks • Live Music \n \n6:30 pm-CloseEvery Night! \nDine with us all summer long to support local artists performing on our riverside patio. \nEnjoy a delicious dinner and listen to amazing talents. \n 
URL:https://renoriver.org/event/wild-river-grille-2025-summer-dinner-concert-series-3/2025-06-01/
LOCATION:Wild River Grille
CATEGORIES:Concerts,Special Events
ATTACH;FMTTYPE=image/png:https://renoriver.org/wp-content/uploads/2025/05/WRG_Summer_concert_2025_event_graphic.png
END:VEVENT
BEGIN:VEVENT
DTSTART;TZID=America/Los_Angeles:20250601T183000
DTEND;TZID=America/Los_Angeles:20250601T213000
DTSTAMP:20260419T070546
CREATED:20250515T204219Z
LAST-MODIFIED:20250515T204219Z
UID:10015983-1748802600-1748813400@renoriver.org
SUMMARY:Wild River Grille 2025 Summer Dinner Concert Series
DESCRIPTION:2025 Summer Dinner Concert Series \nFood • Drinks • Live Music \n \n6:30 pm-CloseEvery Night! \nDine with us all summer long to support local artists performing on our riverside patio. \nEnjoy a delicious dinner and listen to amazing talents. \n 
URL:https://renoriver.org/event/wild-river-grille-2025-summer-dinner-concert-series-2/2025-06-01/
LOCATION:Wild River Grille
CATEGORIES:Concerts,Special Events
ATTACH;FMTTYPE=image/png:https://renoriver.org/wp-content/uploads/2025/05/WRG_Summer_concert_2025_event_graphic.png
END:VEVENT
BEGIN:VEVENT
DTSTART;TZID=America/Los_Angeles:20250602T183000
DTEND;TZID=America/Los_Angeles:20250602T213000
DTSTAMP:20260419T070546
CREATED:20250515T204219Z
LAST-MODIFIED:20250515T204219Z
UID:10015984-1748889000-1748899800@renoriver.org
SUMMARY:Wild River Grille 2025 Summer Dinner Concert Series
DESCRIPTION:2025 Summer Dinner Concert Series \nFood • Drinks • Live Music \n \n6:30 pm-CloseEvery Night! \nDine with us all summer long to support local artists performing on our riverside patio. \nEnjoy a delicious dinner and listen to amazing talents. \n 
URL:https://renoriver.org/event/wild-river-grille-2025-summer-dinner-concert-series-2/2025-06-02/
LOCATION:Wild River Grille
CATEGORIES:Concerts,Special Events
ATTACH;FMTTYPE=image/png:https://renoriver.org/wp-content/uploads/2025/05/WRG_Summer_concert_2025_event_graphic.png
END:VEVENT
BEGIN:VEVENT
DTSTART;TZID=America/Los_Angeles:20250603T183000
DTEND;TZID=America/Los_Angeles:20250603T213000
DTSTAMP:20260419T070546
CREATED:20250515T204219Z
LAST-MODIFIED:20250515T204219Z
UID:10015985-1748975400-1748986200@renoriver.org
SUMMARY:Wild River Grille 2025 Summer Dinner Concert Series
DESCRIPTION:2025 Summer Dinner Concert Series \nFood • Drinks • Live Music \n \n6:30 pm-CloseEvery Night! \nDine with us all summer long to support local artists performing on our riverside patio. \nEnjoy a delicious dinner and listen to amazing talents. \n 
URL:https://renoriver.org/event/wild-river-grille-2025-summer-dinner-concert-series-2/2025-06-03/
LOCATION:Wild River Grille
CATEGORIES:Concerts,Special Events
ATTACH;FMTTYPE=image/png:https://renoriver.org/wp-content/uploads/2025/05/WRG_Summer_concert_2025_event_graphic.png
END:VEVENT
BEGIN:VEVENT
DTSTART;TZID=America/Los_Angeles:20250604T183000
DTEND;TZID=America/Los_Angeles:20250604T213000
DTSTAMP:20260419T070546
CREATED:20250515T204219Z
LAST-MODIFIED:20250515T204219Z
UID:10015986-1749061800-1749072600@renoriver.org
SUMMARY:Wild River Grille 2025 Summer Dinner Concert Series
DESCRIPTION:2025 Summer Dinner Concert Series \nFood • Drinks • Live Music \n \n6:30 pm-CloseEvery Night! \nDine with us all summer long to support local artists performing on our riverside patio. \nEnjoy a delicious dinner and listen to amazing talents. \n 
URL:https://renoriver.org/event/wild-river-grille-2025-summer-dinner-concert-series-2/2025-06-04/
LOCATION:Wild River Grille
CATEGORIES:Concerts,Special Events
ATTACH;FMTTYPE=image/png:https://renoriver.org/wp-content/uploads/2025/05/WRG_Summer_concert_2025_event_graphic.png
END:VEVENT
BEGIN:VEVENT
DTSTART;TZID=America/Los_Angeles:20250605T170000
DTEND;TZID=America/Los_Angeles:20250605T190000
DTSTAMP:20260419T070546
CREATED:20240214T234830Z
LAST-MODIFIED:20250402T235512Z
UID:10015152-1749142800-1749150000@renoriver.org
SUMMARY:First Thursdays at Nevada Museum of Art
DESCRIPTION:March 07\, 2024 First Thursday returns loud and proud with live music presented in partnership with Loud As Folk\, a regional singer-songwriter showcase. Meet up with friends for this long-standing monthly tradition of live music\, beer and plenty of fun.
URL:https://renoriver.org/event/first-thursdays-at-nevada-museum-of-art/2025-06-05/
CATEGORIES:Concerts,Drink Specials
ATTACH;FMTTYPE=image/jpeg:https://renoriver.org/wp-content/uploads/2017/07/307672682_10158345482726805_1060613514385639335_n-1.jpg
END:VEVENT
BEGIN:VEVENT
DTSTART;TZID=America/Los_Angeles:20250605T183000
DTEND;TZID=America/Los_Angeles:20250605T213000
DTSTAMP:20260419T070546
CREATED:20250515T204219Z
LAST-MODIFIED:20250515T204219Z
UID:10015987-1749148200-1749159000@renoriver.org
SUMMARY:Wild River Grille 2025 Summer Dinner Concert Series
DESCRIPTION:2025 Summer Dinner Concert Series \nFood • Drinks • Live Music \n \n6:30 pm-CloseEvery Night! \nDine with us all summer long to support local artists performing on our riverside patio. \nEnjoy a delicious dinner and listen to amazing talents. \n 
URL:https://renoriver.org/event/wild-river-grille-2025-summer-dinner-concert-series-2/2025-06-05/
LOCATION:Wild River Grille
CATEGORIES:Concerts,Special Events
ATTACH;FMTTYPE=image/png:https://renoriver.org/wp-content/uploads/2025/05/WRG_Summer_concert_2025_event_graphic.png
END:VEVENT
BEGIN:VEVENT
DTSTART;TZID=America/Los_Angeles:20250606T183000
DTEND;TZID=America/Los_Angeles:20250606T213000
DTSTAMP:20260419T070546
CREATED:20250515T204219Z
LAST-MODIFIED:20250515T204219Z
UID:10015988-1749234600-1749245400@renoriver.org
SUMMARY:Wild River Grille 2025 Summer Dinner Concert Series
DESCRIPTION:2025 Summer Dinner Concert Series \nFood • Drinks • Live Music \n \n6:30 pm-CloseEvery Night! \nDine with us all summer long to support local artists performing on our riverside patio. \nEnjoy a delicious dinner and listen to amazing talents. \n 
URL:https://renoriver.org/event/wild-river-grille-2025-summer-dinner-concert-series-2/2025-06-06/
LOCATION:Wild River Grille
CATEGORIES:Concerts,Special Events
ATTACH;FMTTYPE=image/png:https://renoriver.org/wp-content/uploads/2025/05/WRG_Summer_concert_2025_event_graphic.png
END:VEVENT
BEGIN:VEVENT
DTSTART;TZID=America/Los_Angeles:20250607T183000
DTEND;TZID=America/Los_Angeles:20250607T213000
DTSTAMP:20260419T070546
CREATED:20250515T204219Z
LAST-MODIFIED:20250515T204219Z
UID:10015989-1749321000-1749331800@renoriver.org
SUMMARY:Wild River Grille 2025 Summer Dinner Concert Series
DESCRIPTION:2025 Summer Dinner Concert Series \nFood • Drinks • Live Music \n \n6:30 pm-CloseEvery Night! \nDine with us all summer long to support local artists performing on our riverside patio. \nEnjoy a delicious dinner and listen to amazing talents. \n 
URL:https://renoriver.org/event/wild-river-grille-2025-summer-dinner-concert-series-2/2025-06-07/
LOCATION:Wild River Grille
CATEGORIES:Concerts,Special Events
ATTACH;FMTTYPE=image/png:https://renoriver.org/wp-content/uploads/2025/05/WRG_Summer_concert_2025_event_graphic.png
END:VEVENT
BEGIN:VEVENT
DTSTART;TZID=America/Los_Angeles:20250608T130000
DTEND;TZID=America/Los_Angeles:20250608T160000
DTSTAMP:20260419T070546
CREATED:20250515T204447Z
LAST-MODIFIED:20250515T204447Z
UID:10016228-1749387600-1749398400@renoriver.org
SUMMARY:Wild River Grille 2025 Summer Dinner Concert Series
DESCRIPTION:2025 Summer Dinner Concert Series \nFood • Drinks • Live Music \n \n6:30 pm-CloseEvery Night! \nDine with us all summer long to support local artists performing on our riverside patio. \nEnjoy a delicious dinner and listen to amazing talents. \n 
URL:https://renoriver.org/event/wild-river-grille-2025-summer-dinner-concert-series-3/2025-06-08/
LOCATION:Wild River Grille
CATEGORIES:Concerts,Special Events
ATTACH;FMTTYPE=image/png:https://renoriver.org/wp-content/uploads/2025/05/WRG_Summer_concert_2025_event_graphic.png
END:VEVENT
BEGIN:VEVENT
DTSTART;TZID=America/Los_Angeles:20250608T183000
DTEND;TZID=America/Los_Angeles:20250608T213000
DTSTAMP:20260419T070546
CREATED:20250515T204219Z
LAST-MODIFIED:20250515T204219Z
UID:10015990-1749407400-1749418200@renoriver.org
SUMMARY:Wild River Grille 2025 Summer Dinner Concert Series
DESCRIPTION:2025 Summer Dinner Concert Series \nFood • Drinks • Live Music \n \n6:30 pm-CloseEvery Night! \nDine with us all summer long to support local artists performing on our riverside patio. \nEnjoy a delicious dinner and listen to amazing talents. \n 
URL:https://renoriver.org/event/wild-river-grille-2025-summer-dinner-concert-series-2/2025-06-08/
LOCATION:Wild River Grille
CATEGORIES:Concerts,Special Events
ATTACH;FMTTYPE=image/png:https://renoriver.org/wp-content/uploads/2025/05/WRG_Summer_concert_2025_event_graphic.png
END:VEVENT
BEGIN:VEVENT
DTSTART;TZID=America/Los_Angeles:20250609T183000
DTEND;TZID=America/Los_Angeles:20250609T213000
DTSTAMP:20260419T070546
CREATED:20250515T204219Z
LAST-MODIFIED:20250515T204219Z
UID:10015991-1749493800-1749504600@renoriver.org
SUMMARY:Wild River Grille 2025 Summer Dinner Concert Series
DESCRIPTION:2025 Summer Dinner Concert Series \nFood • Drinks • Live Music \n \n6:30 pm-CloseEvery Night! \nDine with us all summer long to support local artists performing on our riverside patio. \nEnjoy a delicious dinner and listen to amazing talents. \n 
URL:https://renoriver.org/event/wild-river-grille-2025-summer-dinner-concert-series-2/2025-06-09/
LOCATION:Wild River Grille
CATEGORIES:Concerts,Special Events
ATTACH;FMTTYPE=image/png:https://renoriver.org/wp-content/uploads/2025/05/WRG_Summer_concert_2025_event_graphic.png
END:VEVENT
BEGIN:VEVENT
DTSTART;TZID=America/Los_Angeles:20250610T183000
DTEND;TZID=America/Los_Angeles:20250610T213000
DTSTAMP:20260419T070546
CREATED:20250515T204219Z
LAST-MODIFIED:20250515T204219Z
UID:10015992-1749580200-1749591000@renoriver.org
SUMMARY:Wild River Grille 2025 Summer Dinner Concert Series
DESCRIPTION:2025 Summer Dinner Concert Series \nFood • Drinks • Live Music \n \n6:30 pm-CloseEvery Night! \nDine with us all summer long to support local artists performing on our riverside patio. \nEnjoy a delicious dinner and listen to amazing talents. \n 
URL:https://renoriver.org/event/wild-river-grille-2025-summer-dinner-concert-series-2/2025-06-10/
LOCATION:Wild River Grille
CATEGORIES:Concerts,Special Events
ATTACH;FMTTYPE=image/png:https://renoriver.org/wp-content/uploads/2025/05/WRG_Summer_concert_2025_event_graphic.png
END:VEVENT
BEGIN:VEVENT
DTSTART;TZID=America/Los_Angeles:20250611T183000
DTEND;TZID=America/Los_Angeles:20250611T213000
DTSTAMP:20260419T070546
CREATED:20250515T204219Z
LAST-MODIFIED:20250515T204219Z
UID:10015993-1749666600-1749677400@renoriver.org
SUMMARY:Wild River Grille 2025 Summer Dinner Concert Series
DESCRIPTION:2025 Summer Dinner Concert Series \nFood • Drinks • Live Music \n \n6:30 pm-CloseEvery Night! \nDine with us all summer long to support local artists performing on our riverside patio. \nEnjoy a delicious dinner and listen to amazing talents. \n 
URL:https://renoriver.org/event/wild-river-grille-2025-summer-dinner-concert-series-2/2025-06-11/
LOCATION:Wild River Grille
CATEGORIES:Concerts,Special Events
ATTACH;FMTTYPE=image/png:https://renoriver.org/wp-content/uploads/2025/05/WRG_Summer_concert_2025_event_graphic.png
END:VEVENT
BEGIN:VEVENT
DTSTART;TZID=America/Los_Angeles:20250612T183000
DTEND;TZID=America/Los_Angeles:20250612T213000
DTSTAMP:20260419T070546
CREATED:20250515T204219Z
LAST-MODIFIED:20250515T204219Z
UID:10015994-1749753000-1749763800@renoriver.org
SUMMARY:Wild River Grille 2025 Summer Dinner Concert Series
DESCRIPTION:2025 Summer Dinner Concert Series \nFood • Drinks • Live Music \n \n6:30 pm-CloseEvery Night! \nDine with us all summer long to support local artists performing on our riverside patio. \nEnjoy a delicious dinner and listen to amazing talents. \n 
URL:https://renoriver.org/event/wild-river-grille-2025-summer-dinner-concert-series-2/2025-06-12/
LOCATION:Wild River Grille
CATEGORIES:Concerts,Special Events
ATTACH;FMTTYPE=image/png:https://renoriver.org/wp-content/uploads/2025/05/WRG_Summer_concert_2025_event_graphic.png
END:VEVENT
BEGIN:VEVENT
DTSTART;TZID=America/Los_Angeles:20250613T183000
DTEND;TZID=America/Los_Angeles:20250613T213000
DTSTAMP:20260419T070546
CREATED:20250515T204219Z
LAST-MODIFIED:20250515T204219Z
UID:10015995-1749839400-1749850200@renoriver.org
SUMMARY:Wild River Grille 2025 Summer Dinner Concert Series
DESCRIPTION:2025 Summer Dinner Concert Series \nFood • Drinks • Live Music \n \n6:30 pm-CloseEvery Night! \nDine with us all summer long to support local artists performing on our riverside patio. \nEnjoy a delicious dinner and listen to amazing talents. \n 
URL:https://renoriver.org/event/wild-river-grille-2025-summer-dinner-concert-series-2/2025-06-13/
LOCATION:Wild River Grille
CATEGORIES:Concerts,Special Events
ATTACH;FMTTYPE=image/png:https://renoriver.org/wp-content/uploads/2025/05/WRG_Summer_concert_2025_event_graphic.png
END:VEVENT
BEGIN:VEVENT
DTSTART;TZID=America/Los_Angeles:20250614T183000
DTEND;TZID=America/Los_Angeles:20250614T213000
DTSTAMP:20260419T070546
CREATED:20250515T204219Z
LAST-MODIFIED:20250515T204219Z
UID:10015996-1749925800-1749936600@renoriver.org
SUMMARY:Wild River Grille 2025 Summer Dinner Concert Series
DESCRIPTION:2025 Summer Dinner Concert Series \nFood • Drinks • Live Music \n \n6:30 pm-CloseEvery Night! \nDine with us all summer long to support local artists performing on our riverside patio. \nEnjoy a delicious dinner and listen to amazing talents. \n 
URL:https://renoriver.org/event/wild-river-grille-2025-summer-dinner-concert-series-2/2025-06-14/
LOCATION:Wild River Grille
CATEGORIES:Concerts,Special Events
ATTACH;FMTTYPE=image/png:https://renoriver.org/wp-content/uploads/2025/05/WRG_Summer_concert_2025_event_graphic.png
END:VEVENT
BEGIN:VEVENT
DTSTART;TZID=America/Los_Angeles:20250615T130000
DTEND;TZID=America/Los_Angeles:20250615T160000
DTSTAMP:20260419T070546
CREATED:20250515T204447Z
LAST-MODIFIED:20250515T204447Z
UID:10016229-1749992400-1750003200@renoriver.org
SUMMARY:Wild River Grille 2025 Summer Dinner Concert Series
DESCRIPTION:2025 Summer Dinner Concert Series \nFood • Drinks • Live Music \n \n6:30 pm-CloseEvery Night! \nDine with us all summer long to support local artists performing on our riverside patio. \nEnjoy a delicious dinner and listen to amazing talents. \n 
URL:https://renoriver.org/event/wild-river-grille-2025-summer-dinner-concert-series-3/2025-06-15/
LOCATION:Wild River Grille
CATEGORIES:Concerts,Special Events
ATTACH;FMTTYPE=image/png:https://renoriver.org/wp-content/uploads/2025/05/WRG_Summer_concert_2025_event_graphic.png
END:VEVENT
BEGIN:VEVENT
DTSTART;TZID=America/Los_Angeles:20250615T183000
DTEND;TZID=America/Los_Angeles:20250615T213000
DTSTAMP:20260419T070546
CREATED:20250515T204219Z
LAST-MODIFIED:20250515T204219Z
UID:10015997-1750012200-1750023000@renoriver.org
SUMMARY:Wild River Grille 2025 Summer Dinner Concert Series
DESCRIPTION:2025 Summer Dinner Concert Series \nFood • Drinks • Live Music \n \n6:30 pm-CloseEvery Night! \nDine with us all summer long to support local artists performing on our riverside patio. \nEnjoy a delicious dinner and listen to amazing talents. \n 
URL:https://renoriver.org/event/wild-river-grille-2025-summer-dinner-concert-series-2/2025-06-15/
LOCATION:Wild River Grille
CATEGORIES:Concerts,Special Events
ATTACH;FMTTYPE=image/png:https://renoriver.org/wp-content/uploads/2025/05/WRG_Summer_concert_2025_event_graphic.png
END:VEVENT
BEGIN:VEVENT
DTSTART;TZID=America/Los_Angeles:20250616T183000
DTEND;TZID=America/Los_Angeles:20250616T213000
DTSTAMP:20260419T070546
CREATED:20250515T204219Z
LAST-MODIFIED:20250515T204219Z
UID:10015998-1750098600-1750109400@renoriver.org
SUMMARY:Wild River Grille 2025 Summer Dinner Concert Series
DESCRIPTION:2025 Summer Dinner Concert Series \nFood • Drinks • Live Music \n \n6:30 pm-CloseEvery Night! \nDine with us all summer long to support local artists performing on our riverside patio. \nEnjoy a delicious dinner and listen to amazing talents. \n 
URL:https://renoriver.org/event/wild-river-grille-2025-summer-dinner-concert-series-2/2025-06-16/
LOCATION:Wild River Grille
CATEGORIES:Concerts,Special Events
ATTACH;FMTTYPE=image/png:https://renoriver.org/wp-content/uploads/2025/05/WRG_Summer_concert_2025_event_graphic.png
END:VEVENT
BEGIN:VEVENT
DTSTART;TZID=America/Los_Angeles:20250617T183000
DTEND;TZID=America/Los_Angeles:20250617T213000
DTSTAMP:20260419T070546
CREATED:20250515T204219Z
LAST-MODIFIED:20250515T204219Z
UID:10015999-1750185000-1750195800@renoriver.org
SUMMARY:Wild River Grille 2025 Summer Dinner Concert Series
DESCRIPTION:2025 Summer Dinner Concert Series \nFood • Drinks • Live Music \n \n6:30 pm-CloseEvery Night! \nDine with us all summer long to support local artists performing on our riverside patio. \nEnjoy a delicious dinner and listen to amazing talents. \n 
URL:https://renoriver.org/event/wild-river-grille-2025-summer-dinner-concert-series-2/2025-06-17/
LOCATION:Wild River Grille
CATEGORIES:Concerts,Special Events
ATTACH;FMTTYPE=image/png:https://renoriver.org/wp-content/uploads/2025/05/WRG_Summer_concert_2025_event_graphic.png
END:VEVENT
BEGIN:VEVENT
DTSTART;TZID=America/Los_Angeles:20250618T183000
DTEND;TZID=America/Los_Angeles:20250618T213000
DTSTAMP:20260419T070546
CREATED:20250515T204219Z
LAST-MODIFIED:20250515T204219Z
UID:10016000-1750271400-1750282200@renoriver.org
SUMMARY:Wild River Grille 2025 Summer Dinner Concert Series
DESCRIPTION:2025 Summer Dinner Concert Series \nFood • Drinks • Live Music \n \n6:30 pm-CloseEvery Night! \nDine with us all summer long to support local artists performing on our riverside patio. \nEnjoy a delicious dinner and listen to amazing talents. \n 
URL:https://renoriver.org/event/wild-river-grille-2025-summer-dinner-concert-series-2/2025-06-18/
LOCATION:Wild River Grille
CATEGORIES:Concerts,Special Events
ATTACH;FMTTYPE=image/png:https://renoriver.org/wp-content/uploads/2025/05/WRG_Summer_concert_2025_event_graphic.png
END:VEVENT
BEGIN:VEVENT
DTSTART;TZID=America/Los_Angeles:20250619T183000
DTEND;TZID=America/Los_Angeles:20250619T213000
DTSTAMP:20260419T070546
CREATED:20250515T204219Z
LAST-MODIFIED:20250515T204219Z
UID:10016001-1750357800-1750368600@renoriver.org
SUMMARY:Wild River Grille 2025 Summer Dinner Concert Series
DESCRIPTION:2025 Summer Dinner Concert Series \nFood • Drinks • Live Music \n \n6:30 pm-CloseEvery Night! \nDine with us all summer long to support local artists performing on our riverside patio. \nEnjoy a delicious dinner and listen to amazing talents. \n 
URL:https://renoriver.org/event/wild-river-grille-2025-summer-dinner-concert-series-2/2025-06-19/
LOCATION:Wild River Grille
CATEGORIES:Concerts,Special Events
ATTACH;FMTTYPE=image/png:https://renoriver.org/wp-content/uploads/2025/05/WRG_Summer_concert_2025_event_graphic.png
END:VEVENT
BEGIN:VEVENT
DTSTART;TZID=America/Los_Angeles:20250620T183000
DTEND;TZID=America/Los_Angeles:20250620T213000
DTSTAMP:20260419T070546
CREATED:20250515T204219Z
LAST-MODIFIED:20250515T204219Z
UID:10016002-1750444200-1750455000@renoriver.org
SUMMARY:Wild River Grille 2025 Summer Dinner Concert Series
DESCRIPTION:2025 Summer Dinner Concert Series \nFood • Drinks • Live Music \n \n6:30 pm-CloseEvery Night! \nDine with us all summer long to support local artists performing on our riverside patio. \nEnjoy a delicious dinner and listen to amazing talents. \n 
URL:https://renoriver.org/event/wild-river-grille-2025-summer-dinner-concert-series-2/2025-06-20/
LOCATION:Wild River Grille
CATEGORIES:Concerts,Special Events
ATTACH;FMTTYPE=image/png:https://renoriver.org/wp-content/uploads/2025/05/WRG_Summer_concert_2025_event_graphic.png
END:VEVENT
END:VCALENDAR