BEGIN:VCALENDAR
VERSION:2.0
PRODID:-//The Riverwalk District - ECPv6.15.19//NONSGML v1.0//EN
CALSCALE:GREGORIAN
METHOD:PUBLISH
X-WR-CALNAME:The Riverwalk District
X-ORIGINAL-URL:https://renoriver.org
X-WR-CALDESC:Events for The Riverwalk District
REFRESH-INTERVAL;VALUE=DURATION:PT1H
X-Robots-Tag:noindex
X-PUBLISHED-TTL:PT1H
BEGIN:VTIMEZONE
TZID:America/Los_Angeles
BEGIN:DAYLIGHT
TZOFFSETFROM:-0800
TZOFFSETTO:-0700
TZNAME:PDT
DTSTART:20250309T100000
END:DAYLIGHT
BEGIN:STANDARD
TZOFFSETFROM:-0700
TZOFFSETTO:-0800
TZNAME:PST
DTSTART:20251102T090000
END:STANDARD
BEGIN:DAYLIGHT
TZOFFSETFROM:-0800
TZOFFSETTO:-0700
TZNAME:PDT
DTSTART:20260308T100000
END:DAYLIGHT
BEGIN:STANDARD
TZOFFSETFROM:-0700
TZOFFSETTO:-0800
TZNAME:PST
DTSTART:20261101T090000
END:STANDARD
BEGIN:DAYLIGHT
TZOFFSETFROM:-0800
TZOFFSETTO:-0700
TZNAME:PDT
DTSTART:20270314T100000
END:DAYLIGHT
BEGIN:STANDARD
TZOFFSETFROM:-0700
TZOFFSETTO:-0800
TZNAME:PST
DTSTART:20271107T090000
END:STANDARD
END:VTIMEZONE
BEGIN:VEVENT
DTSTART;VALUE=DATE:20260325
DTEND;VALUE=DATE:20260326
DTSTAMP:20260423T181617
CREATED:20240903T191008Z
LAST-MODIFIED:20250402T230804Z
UID:10002329-1774396800-1774483199@renoriver.org
SUMMARY:Burger\, Beer\, & Shot $20 Any Day
DESCRIPTION:Our Burger (no substitutions) with fries on the side\, a select bottled beer\, and a well shot included.
URL:https://renoriver.org/event/burger-beer-shot-20-any-day/2026-03-25/
CATEGORIES:Daily Specials,Drink Specials,Food Specials,Rush The River
ATTACH;FMTTYPE=image/jpeg:https://renoriver.org/wp-content/uploads/2017/04/Black-and-White-Bottlecap-jpeg-Cory-Holdridge-scaled-1.jpg
END:VEVENT
BEGIN:VEVENT
DTSTART;TZID=America/Los_Angeles:20260325T150000
DTEND;TZID=America/Los_Angeles:20260325T180000
DTSTAMP:20260423T181617
CREATED:20240214T194005Z
LAST-MODIFIED:20250402T232208Z
UID:10008725-1774450800-1774461600@renoriver.org
SUMMARY:Happy Hour at Ole Bridge Pub
DESCRIPTION:Enjoy $2 off most beer\, house wine\, and well drinks.
URL:https://renoriver.org/event/happy-hour-at-ole-bridge-pub/2026-03-25/
CATEGORIES:Drink Specials,Happy Hour
ATTACH;FMTTYPE=image/jpeg:https://renoriver.org/wp-content/uploads/2024/06/social_tiles7.1.jpg
END:VEVENT
BEGIN:VEVENT
DTSTART;TZID=America/Los_Angeles:20260325T150000
DTEND;TZID=America/Los_Angeles:20260325T180000
DTSTAMP:20260423T181617
CREATED:20240903T191454Z
LAST-MODIFIED:20250402T230705Z
UID:10000711-1774450800-1774461600@renoriver.org
SUMMARY:Our Bar Happy Hour
DESCRIPTION:Monday-Friday 3:00 pm – 6:00 pm $2.00 off any draft beer\, bottle\, can\, well cocktail\, or glass of wine.
URL:https://renoriver.org/event/our-bar-happy-hour/2026-03-25/
CATEGORIES:Daily Specials,Drink Specials
ATTACH;FMTTYPE=image/jpeg:https://renoriver.org/wp-content/uploads/2017/04/445356497_18398052727078431_6545476689669071342_n.jpg
END:VEVENT
BEGIN:VEVENT
DTSTART;TZID=America/Los_Angeles:20260325T150000
DTEND;TZID=America/Los_Angeles:20260325T183000
DTSTAMP:20260423T181617
CREATED:20240119T210741Z
LAST-MODIFIED:20250402T232028Z
UID:10007149-1774450800-1774463400@renoriver.org
SUMMARY:Happy Hour at Sierra Tap House
DESCRIPTION:Happy Hour 3 PM – 6:30 PM
URL:https://renoriver.org/event/happy-hour-at-sierra-tap-house/2026-03-25/
CATEGORIES:Drink Specials,Happy Hour
ATTACH;FMTTYPE=image/png:https://renoriver.org/wp-content/uploads/2024/01/Happy_Hour_Sierra_Tap_House.png
END:VEVENT
BEGIN:VEVENT
DTSTART;TZID=America/Los_Angeles:20260325T150000
DTEND;TZID=America/Los_Angeles:20260325T233000
DTSTAMP:20260423T181617
CREATED:20240119T203545Z
LAST-MODIFIED:20250402T232730Z
UID:10011457-1774450800-1774481400@renoriver.org
SUMMARY:All Day Happy Hour at Shim's
DESCRIPTION:Celebrate Happy Hour all day with us! From 3:00 p.m to close\, enjoy two for one all drafts\, well drinks\, and house wines.
URL:https://renoriver.org/event/all-day-happy-hour-at-shims/2026-03-25/
CATEGORIES:Drink Specials,Happy Hour
ATTACH;FMTTYPE=image/png:https://renoriver.org/wp-content/uploads/2024/01/All_Day_Happy_Hour_Shims-1.png
END:VEVENT
BEGIN:VEVENT
DTSTART;TZID=America/Los_Angeles:20260325T150000
DTEND;TZID=America/Los_Angeles:20260325T233000
DTSTAMP:20260423T181617
CREATED:20240214T194930Z
LAST-MODIFIED:20250402T232950Z
UID:10011772-1774450800-1774481400@renoriver.org
SUMMARY:Can Wednesdays at Ole Bridge Pub
DESCRIPTION:Enjoy $2 off all cans
URL:https://renoriver.org/event/can-wednesdays-at-ole-bridge-pub/2026-03-25/
CATEGORIES:Drink Specials
ATTACH;FMTTYPE=image/png:https://renoriver.org/wp-content/uploads/2024/06/social_tiles_can_wednesday10.png
END:VEVENT
BEGIN:VEVENT
DTSTART;TZID=America/Los_Angeles:20260325T160000
DTEND;TZID=America/Los_Angeles:20260325T180000
DTSTAMP:20260423T181617
CREATED:20240119T195042Z
LAST-MODIFIED:20250402T231713Z
UID:10005257-1774454400-1774461600@renoriver.org
SUMMARY:Wild River Grille Happy Hour
DESCRIPTION:Daily Happy Hour Mon – Fri 4 PM – 6 PM
URL:https://renoriver.org/event/wild-river-grille-happy-hour/2026-03-25/
CATEGORIES:Drink Specials,Happy Hour
ATTACH;FMTTYPE=image/jpeg:https://renoriver.org/wp-content/uploads/2024/01/Wild_River_Grille_Happy_Hour.jpeg
END:VEVENT
BEGIN:VEVENT
DTSTART;TZID=America/Los_Angeles:20260325T190000
DTEND;TZID=America/Los_Angeles:20260325T210000
DTSTAMP:20260423T181617
CREATED:20240214T204301Z
LAST-MODIFIED:20250402T233103Z
UID:10012087-1774465200-1774472400@renoriver.org
SUMMARY:DJ Trivia at Ole Bridge Pub
DESCRIPTION:Fun\, Live\, Interactive Trivia Game that includes you\, your team\, other teams\, and a live DJ host. Every Wednesday 7-9pm
URL:https://renoriver.org/event/dj-trivia-at-ole-bridge-pub/2026-03-25/
CATEGORIES:DJ Trivia
ATTACH;FMTTYPE=image/png:https://renoriver.org/wp-content/uploads/2024/06/social_tiles_DJ_trivia11.png
END:VEVENT
BEGIN:VEVENT
DTSTART;TZID=America/Los_Angeles:20260325T193000
DTEND;TZID=America/Los_Angeles:20260325T213000
DTSTAMP:20260423T181617
CREATED:20260114T225839Z
LAST-MODIFIED:20260114T230601Z
UID:10018371-1774467000-1774474200@renoriver.org
SUMMARY:The Notebook
DESCRIPTION:Based on the best-selling novel that inspired the iconic film\, THE NOTEBOOK  tells the story of Allie and Noah\, both from different worlds\, who share a lifetime of love despite the forces that threaten to pull them apart. “Full of butterfly-inducing highs and beautiful songs” (Entertainment Weekly)\, THE NOTEBOOK  is a deeply moving portrait of the enduring power of love\, and features music by singer-songwriter Ingrid Michaelson and a book by TV’s Bekah Brunstetter (“This Is Us”). Show and dates are subject to change. Some fees may not be refundable. Ticket policies are at the discretion of the theater and may be changed at any time.
URL:https://renoriver.org/event/the-notebook-2/2026-03-25/
LOCATION:Pioneer Center for the Performing Arts
CATEGORIES:Theater
ATTACH;FMTTYPE=image/jpeg:https://renoriver.org/wp-content/uploads/2026/01/1Reno_Notebook_400x225.jpeg
END:VEVENT
END:VCALENDAR