BEGIN:VCALENDAR
VERSION:2.0
PRODID:-//The Riverwalk District - ECPv6.15.19//NONSGML v1.0//EN
CALSCALE:GREGORIAN
METHOD:PUBLISH
X-ORIGINAL-URL:https://renoriver.org
X-WR-CALDESC:Events for The Riverwalk District
REFRESH-INTERVAL;VALUE=DURATION:PT1H
X-Robots-Tag:noindex
X-PUBLISHED-TTL:PT1H
BEGIN:VTIMEZONE
TZID:America/Los_Angeles
BEGIN:DAYLIGHT
TZOFFSETFROM:-0800
TZOFFSETTO:-0700
TZNAME:PDT
DTSTART:20240310T100000
END:DAYLIGHT
BEGIN:STANDARD
TZOFFSETFROM:-0700
TZOFFSETTO:-0800
TZNAME:PST
DTSTART:20241103T090000
END:STANDARD
BEGIN:DAYLIGHT
TZOFFSETFROM:-0800
TZOFFSETTO:-0700
TZNAME:PDT
DTSTART:20250309T100000
END:DAYLIGHT
BEGIN:STANDARD
TZOFFSETFROM:-0700
TZOFFSETTO:-0800
TZNAME:PST
DTSTART:20251102T090000
END:STANDARD
BEGIN:DAYLIGHT
TZOFFSETFROM:-0800
TZOFFSETTO:-0700
TZNAME:PDT
DTSTART:20260308T100000
END:DAYLIGHT
BEGIN:STANDARD
TZOFFSETFROM:-0700
TZOFFSETTO:-0800
TZNAME:PST
DTSTART:20261101T090000
END:STANDARD
END:VTIMEZONE
BEGIN:VEVENT
DTSTART;VALUE=DATE:20250608
DTEND;VALUE=DATE:20250609
DTSTAMP:20260419T053802
CREATED:20240903T191008Z
LAST-MODIFIED:20250402T230804Z
UID:10002039-1749340800-1749427199@renoriver.org
SUMMARY:Burger\, Beer\, & Shot $20 Any Day
DESCRIPTION:Our Burger (no substitutions) with fries on the side\, a select bottled beer\, and a well shot included.
URL:https://renoriver.org/event/burger-beer-shot-20-any-day/2025-06-08/
CATEGORIES:Daily Specials,Drink Specials,Food Specials,Rush The River
ATTACH;FMTTYPE=image/jpeg:https://renoriver.org/wp-content/uploads/2017/04/Black-and-White-Bottlecap-jpeg-Cory-Holdridge-scaled-1.jpg
END:VEVENT
BEGIN:VEVENT
DTSTART;TZID=America/Los_Angeles:20250608T120000
DTEND;TZID=America/Los_Angeles:20250608T150000
DTSTAMP:20260419T053802
CREATED:20240119T210430Z
LAST-MODIFIED:20250402T234743Z
UID:10013375-1749384000-1749394800@renoriver.org
SUMMARY:Mimosa and Bloody Mary Weekend at Sierra Tap House
DESCRIPTION:Join us every weekend at Sierra Tap House for $6 Mimosas & Bloody Marys  between 12 PM – 3 PM
URL:https://renoriver.org/event/mimosa-and-bloody-mary-weekend-at-sierra-tap-house/2025-06-08/
CATEGORIES:Drink Specials,Happy Hour,Rush The River
ATTACH;FMTTYPE=image/png:https://renoriver.org/wp-content/uploads/2024/01/Mimosa_and_Bloody_Mary_Weekend.png
END:VEVENT
BEGIN:VEVENT
DTSTART;TZID=America/Los_Angeles:20250608T120000
DTEND;TZID=America/Los_Angeles:20250608T233000
DTSTAMP:20260419T053802
CREATED:20240214T205028Z
LAST-MODIFIED:20250402T234918Z
UID:10013941-1749384000-1749425400@renoriver.org
SUMMARY:Bloody Mary Sundays at Ole Bridge Pub
DESCRIPTION:Enjoy All-Day $6 Bloody Marys & $15 All-You Can Drink Mimosas 12PM – 2PM.
URL:https://renoriver.org/event/bloody-mary-sundays-at-ole-bridge-pub/2025-06-08/
CATEGORIES:Drink Specials,Rush The River
ATTACH;FMTTYPE=image/jpeg:https://renoriver.org/wp-content/uploads/2024/06/social_tiles10.jpg
END:VEVENT
BEGIN:VEVENT
DTSTART;TZID=America/Los_Angeles:20250608T130000
DTEND;TZID=America/Los_Angeles:20250608T160000
DTSTAMP:20260419T053802
CREATED:20250515T204447Z
LAST-MODIFIED:20250515T204447Z
UID:10016228-1749387600-1749398400@renoriver.org
SUMMARY:Wild River Grille 2025 Summer Dinner Concert Series
DESCRIPTION:2025 Summer Dinner Concert Series \nFood • Drinks • Live Music \n \n6:30 pm-CloseEvery Night! \nDine with us all summer long to support local artists performing on our riverside patio. \nEnjoy a delicious dinner and listen to amazing talents. \n 
URL:https://renoriver.org/event/wild-river-grille-2025-summer-dinner-concert-series-3/2025-06-08/
LOCATION:Wild River Grille
CATEGORIES:Concerts,Special Events
ATTACH;FMTTYPE=image/png:https://renoriver.org/wp-content/uploads/2025/05/WRG_Summer_concert_2025_event_graphic.png
END:VEVENT
BEGIN:VEVENT
DTSTART;TZID=America/Los_Angeles:20250608T150000
DTEND;TZID=America/Los_Angeles:20250608T170000
DTSTAMP:20260419T053802
CREATED:20240119T204108Z
LAST-MODIFIED:20250806T182407Z
UID:10016845-1749394800-1749402000@renoriver.org
SUMMARY:Bloody Mary and Mimosa Weekend at Shim's
DESCRIPTION:Spend your weekend at Shim’s from 3:00 p.m. – 5:00 p.m. where we’ll be serving up Mimosa Flights\, Mimosicles\, and $8 Bloody Marys!
URL:https://renoriver.org/event/bloody-mary-and-mimosa-weekend-at-shims/2025-06-08/
CATEGORIES:Drink Specials,Rush The River
ATTACH;FMTTYPE=image/png:https://renoriver.org/wp-content/uploads/2024/01/Screenshot-2025-08-06-at-11.22.51-AM.png
END:VEVENT
BEGIN:VEVENT
DTSTART;TZID=America/Los_Angeles:20250608T183000
DTEND;TZID=America/Los_Angeles:20250608T213000
DTSTAMP:20260419T053802
CREATED:20250515T204219Z
LAST-MODIFIED:20250515T204219Z
UID:10015990-1749407400-1749418200@renoriver.org
SUMMARY:Wild River Grille 2025 Summer Dinner Concert Series
DESCRIPTION:2025 Summer Dinner Concert Series \nFood • Drinks • Live Music \n \n6:30 pm-CloseEvery Night! \nDine with us all summer long to support local artists performing on our riverside patio. \nEnjoy a delicious dinner and listen to amazing talents. \n 
URL:https://renoriver.org/event/wild-river-grille-2025-summer-dinner-concert-series-2/2025-06-08/
LOCATION:Wild River Grille
CATEGORIES:Concerts,Special Events
ATTACH;FMTTYPE=image/png:https://renoriver.org/wp-content/uploads/2025/05/WRG_Summer_concert_2025_event_graphic.png
END:VEVENT
BEGIN:VEVENT
DTSTART;TZID=America/Los_Angeles:20250608T190000
DTEND;TZID=America/Los_Angeles:20250608T210000
DTSTAMP:20260419T053802
CREATED:20250410T233050Z
LAST-MODIFIED:20250410T233050Z
UID:10015501-1749409200-1749416400@renoriver.org
SUMMARY:Mamma Mia!
DESCRIPTION:A mother. A daughter. 3 possible dads.And a trip down the aisle you’ll never forget!Set on a Greek island paradise where the sun always shines\, a tale of love\, friendship\, and identity is beautifully told through the timeless hits of ABBA. On the eve of her wedding\, a daughter’s quest to discover the father she’s never known brings three men from her mother’s past back to the island they last visited decades ago.For nearly 25 years\, people all around the world have fallen in love with the characters\, the story\, and the music that make MAMMA MIA! the ultimate feel-good show. The Tony® Award-winning Best Musical that took the world by storm is back.
URL:https://renoriver.org/event/mamma-mia/2025-06-08/
LOCATION:Pioneer Center for the Performing Arts
CATEGORIES:Entertainment,Theater
ATTACH;FMTTYPE=image/jpeg:https://renoriver.org/wp-content/uploads/2024/06/Mamma400-1.jpg
END:VEVENT
END:VCALENDAR