BEGIN:VCALENDAR
VERSION:2.0
PRODID:-//The Riverwalk District - ECPv6.15.19//NONSGML v1.0//EN
CALSCALE:GREGORIAN
METHOD:PUBLISH
X-WR-CALNAME:The Riverwalk District
X-ORIGINAL-URL:https://renoriver.org
X-WR-CALDESC:Events for The Riverwalk District
REFRESH-INTERVAL;VALUE=DURATION:PT1H
X-Robots-Tag:noindex
X-PUBLISHED-TTL:PT1H
BEGIN:VTIMEZONE
TZID:America/Los_Angeles
BEGIN:DAYLIGHT
TZOFFSETFROM:-0800
TZOFFSETTO:-0700
TZNAME:PDT
DTSTART:20240310T100000
END:DAYLIGHT
BEGIN:STANDARD
TZOFFSETFROM:-0700
TZOFFSETTO:-0800
TZNAME:PST
DTSTART:20241103T090000
END:STANDARD
BEGIN:DAYLIGHT
TZOFFSETFROM:-0800
TZOFFSETTO:-0700
TZNAME:PDT
DTSTART:20250309T100000
END:DAYLIGHT
BEGIN:STANDARD
TZOFFSETFROM:-0700
TZOFFSETTO:-0800
TZNAME:PST
DTSTART:20251102T090000
END:STANDARD
BEGIN:DAYLIGHT
TZOFFSETFROM:-0800
TZOFFSETTO:-0700
TZNAME:PDT
DTSTART:20260308T100000
END:DAYLIGHT
BEGIN:STANDARD
TZOFFSETFROM:-0700
TZOFFSETTO:-0800
TZNAME:PST
DTSTART:20261101T090000
END:STANDARD
END:VTIMEZONE
BEGIN:VEVENT
DTSTART;VALUE=DATE:20250322
DTEND;VALUE=DATE:20250323
DTSTAMP:20260422T080821
CREATED:20240903T191008Z
LAST-MODIFIED:20250402T230804Z
UID:10001961-1742601600-1742687999@renoriver.org
SUMMARY:Burger\, Beer\, & Shot $20 Any Day
DESCRIPTION:Our Burger (no substitutions) with fries on the side\, a select bottled beer\, and a well shot included.
URL:https://renoriver.org/event/burger-beer-shot-20-any-day/2025-03-22/
CATEGORIES:Daily Specials,Drink Specials,Food Specials,Rush The River
ATTACH;FMTTYPE=image/jpeg:https://renoriver.org/wp-content/uploads/2017/04/Black-and-White-Bottlecap-jpeg-Cory-Holdridge-scaled-1.jpg
END:VEVENT
BEGIN:VEVENT
DTSTART;TZID=America/Los_Angeles:20250322T120000
DTEND;TZID=America/Los_Angeles:20250322T150000
DTSTAMP:20260422T080821
CREATED:20240119T210430Z
LAST-MODIFIED:20250402T234743Z
UID:10013352-1742644800-1742655600@renoriver.org
SUMMARY:Mimosa and Bloody Mary Weekend at Sierra Tap House
DESCRIPTION:Join us every weekend at Sierra Tap House for $6 Mimosas & Bloody Marys  between 12 PM – 3 PM
URL:https://renoriver.org/event/mimosa-and-bloody-mary-weekend-at-sierra-tap-house/2025-03-22/
CATEGORIES:Drink Specials,Happy Hour,Rush The River
ATTACH;FMTTYPE=image/png:https://renoriver.org/wp-content/uploads/2024/01/Mimosa_and_Bloody_Mary_Weekend.png
END:VEVENT
BEGIN:VEVENT
DTSTART;TZID=America/Los_Angeles:20250322T150000
DTEND;TZID=America/Los_Angeles:20250322T170000
DTSTAMP:20260422T080821
CREATED:20240119T204108Z
LAST-MODIFIED:20250806T182407Z
UID:10016822-1742655600-1742662800@renoriver.org
SUMMARY:Bloody Mary and Mimosa Weekend at Shim's
DESCRIPTION:Spend your weekend at Shim’s from 3:00 p.m. – 5:00 p.m. where we’ll be serving up Mimosa Flights\, Mimosicles\, and $8 Bloody Marys!
URL:https://renoriver.org/event/bloody-mary-and-mimosa-weekend-at-shims/2025-03-22/
CATEGORIES:Drink Specials,Rush The River
ATTACH;FMTTYPE=image/png:https://renoriver.org/wp-content/uploads/2024/01/Screenshot-2025-08-06-at-11.22.51-AM.png
END:VEVENT
BEGIN:VEVENT
DTSTART;TZID=America/Los_Angeles:20250322T193000
DTEND;TZID=America/Los_Angeles:20250322T203000
DTSTAMP:20260422T080821
CREATED:20240626T170513Z
LAST-MODIFIED:20250402T230119Z
UID:10000014-1742671800-1742675400@renoriver.org
SUMMARY:Reno Phil presents Beethoven's Emperor Concerto
DESCRIPTION:Shakespeare once said\, “The earth has music for those who listen.” Embark on a journey through the Italian countryside with Respighi’s Pines of Rome\, crafting a breathtaking symphonic depiction of light\, land\, and the iconic scenery of Rome. Then hear the world premiere performance from composer Marko Bajzer\, The Sacrifice of Prometheus\, that tells the story of the planet’s oldest non-clonal trees: the Great Bristlecone Pines. Not only will the orchestra’s instruments narrate the tale of the trees\, but listeners will also experience the actual sounds emitted by the trees themselves\, as Bajzer used electrodes to monitor their electrical conductivity and converted the data into audible representations through new technology. A masterpiece made in misery\, Beethoven likely wrote his Emperor Piano Concerto while hiding in a basement. Under attack by Napoleon\, Vienna was in a state of emergency and this siege affected the composer\, “both body and soul.” Performed by Davidson Fellow\, Katherine Emma Liu\, the piano’s regal melodies converse with the orchestra in a display of Liu’s virtuosic brilliance.
URL:https://renoriver.org/event/reno-phil-presents-beethovens-emperor-concerto/2025-03-22/
LOCATION:Pioneer Center for the Performing Arts
CATEGORIES:Concerts
ATTACH;FMTTYPE=image/png:https://renoriver.org/wp-content/uploads/2024/06/rpobeet-1.png
END:VEVENT
END:VCALENDAR